BEGIN:VCALENDAR
VERSION:2.0
PRODID:-//Tweed Valley Sailing Club - ECPv6.15.17//NONSGML v1.0//EN
CALSCALE:GREGORIAN
METHOD:PUBLISH
X-WR-CALNAME:Tweed Valley Sailing Club
X-ORIGINAL-URL:https://www.tvsc.com.au
X-WR-CALDESC:Events for Tweed Valley Sailing Club
REFRESH-INTERVAL;VALUE=DURATION:PT1H
X-Robots-Tag:noindex
X-PUBLISHED-TTL:PT1H
BEGIN:VTIMEZONE
TZID:Australia/Sydney
BEGIN:STANDARD
TZOFFSETFROM:+1100
TZOFFSETTO:+1000
TZNAME:AEST
DTSTART:20170401T160000
END:STANDARD
BEGIN:DAYLIGHT
TZOFFSETFROM:+1000
TZOFFSETTO:+1100
TZNAME:AEDT
DTSTART:20170930T160000
END:DAYLIGHT
BEGIN:STANDARD
TZOFFSETFROM:+1100
TZOFFSETTO:+1000
TZNAME:AEST
DTSTART:20180331T160000
END:STANDARD
BEGIN:DAYLIGHT
TZOFFSETFROM:+1000
TZOFFSETTO:+1100
TZNAME:AEDT
DTSTART:20181006T160000
END:DAYLIGHT
BEGIN:STANDARD
TZOFFSETFROM:+1100
TZOFFSETTO:+1000
TZNAME:AEST
DTSTART:20190406T160000
END:STANDARD
BEGIN:DAYLIGHT
TZOFFSETFROM:+1000
TZOFFSETTO:+1100
TZNAME:AEDT
DTSTART:20191005T160000
END:DAYLIGHT
END:VTIMEZONE
BEGIN:VEVENT
DTSTART;TZID=Australia/Sydney:20181216T120000
DTEND;TZID=Australia/Sydney:20181216T150000
DTSTAMP:20260422T084706
CREATED:20180920T235942Z
LAST-MODIFIED:20180930T220301Z
UID:2715-1544961600-1544972400@www.tvsc.com.au
SUMMARY:Point Score Race 3 + Group B
DESCRIPTION:Race briefing at 12pm NSW time.\nRace start not before 1pm NSW time.\nSprint Races are 2 to 3 short course races.\n\nDUTY ROSTER – members please check your duty dates\nCrewing: Contact the DUTY OFFICER for the day if you wish to crew or need crew.\nRace Course: set on the day to suit conditions.\nBRIEFING LOCATION: TVSC Container\, Boat Ramp Car Park\, opposite 109 Fingal Rd / Sheoak Shack Cafe\nResults: Overall Pointscore – Handicap System Sprint Series & Chinderah Challenge – Yardstick\nResults: Class Championships – requires min. 3 boats each sailing in min. 2 races.\nCrew Results – Same Points As Skipper.\nDuty Points & State Titles Attendance – Sailors entered in the series on duties preventing racing or\nrepresenting TVSC at a State Titles score their average points for the season for that race. \n\nGroup A – NS14 + Singlehanders \nGroup B – Corsairs and Multihulls
URL:https://www.tvsc.com.au/event/sprint-races-and-group-b/
LOCATION:Tweed Valley Sailing Club\, Boat Park opposite the Sheaok Cafe\, Fingal Road\, Fingal Heads\, NSW\, 2487\, Australia
CATEGORIES:Race
END:VEVENT
BEGIN:VEVENT
DTSTART;TZID=Australia/Sydney:20181209T120000
DTEND;TZID=Australia/Sydney:20181209T150000
DTSTAMP:20260422T084706
CREATED:20180920T235836Z
LAST-MODIFIED:20180930T220134Z
UID:2713-1544356800-1544367600@www.tvsc.com.au
SUMMARY:Winter Series Presentation Picnic
DESCRIPTION:Join us for our Winter Series Presentation Picnic to be held on the banks of the Mighty Tweed River!
URL:https://www.tvsc.com.au/event/tba-point-score-race-4-group-a-alternate-date/
LOCATION:Tweed Valley Sailing Club\, Boat Park opposite the Sheaok Cafe\, Fingal Road\, Fingal Heads\, NSW\, 2487\, Australia
END:VEVENT
BEGIN:VEVENT
DTSTART;TZID=Australia/Sydney:20181202T120000
DTEND;TZID=Australia/Sydney:20181202T150000
DTSTAMP:20260422T084706
CREATED:20180920T235751Z
LAST-MODIFIED:20180930T215953Z
UID:2711-1543752000-1543762800@www.tvsc.com.au
SUMMARY:Sprint Series and Junior Racing
DESCRIPTION:Race briefing at 12pm NSW time.\nRace start not before 1pm NSW time.\n\nDUTY ROSTER – members please check your duty dates\nCrewing: Contact the DUTY OFFICER for the day if you wish to crew or need crew.\nRace Course: set on the day to suit conditions.\nBRIEFING LOCATION: TVSC Container\, Boat Ramp Car Park\, opposite 109 Fingal Rd / Sheoak Shack Cafe\nResults: Overall Pointscore – Handicap System Sprint Series & Chinderah Challenge – Yardstick\nResults: Class Championships – requires min. 3 boats each sailing in min. 2 races.\nCrew Results – Same Points As Skipper.\nDuty Points & State Titles Attendance – Sailors entered in the series on duties preventing racing or\nrepresenting TVSC at a State Titles score their average points for the season for that race. \n\nGroup A – NS14 + Singlehanders \nGroup B – Corsairs and Multihulls
URL:https://www.tvsc.com.au/event/tba-point-score-race-4-group-a/
LOCATION:Tweed Valley Sailing Club\, Boat Park opposite the Sheaok Cafe\, Fingal Road\, Fingal Heads\, NSW\, 2487\, Australia
CATEGORIES:Race
END:VEVENT
BEGIN:VEVENT
DTSTART;TZID=Australia/Sydney:20181201T100000
DTEND;TZID=Australia/Sydney:20181202T150000
DTSTAMP:20260422T084706
CREATED:20180930T221505Z
LAST-MODIFIED:20180930T221505Z
UID:2748-1543658400-1543762800@www.tvsc.com.au
SUMMARY:LCSC Monomasters Regatta
DESCRIPTION:The Corsair\, Impulse and Weta State Titles are being held this weekend at the Lake Cootharaba Sailing Club.
URL:https://www.tvsc.com.au/event/lcsc-monomasters-regatta/
LOCATION:Lake Cootharaba Sailing Club\, 24 Boreen Parade\, Boreen Point\, Qld\, 4565\, Australia
CATEGORIES:Away Event
END:VEVENT
BEGIN:VEVENT
DTSTART;TZID=Australia/Sydney:20181125T100000
DTEND;TZID=Australia/Sydney:20181125T150000
DTSTAMP:20260422T084706
CREATED:20180930T215920Z
LAST-MODIFIED:20180930T215920Z
UID:2733-1543140000-1543158000@www.tvsc.com.au
SUMMARY:Chinderah Lunch Cruise
DESCRIPTION:Sail up river to the Chinderah Pub for lunch and back.
URL:https://www.tvsc.com.au/event/chinderah-lunch-cruise/
LOCATION:Tweed Valley Sailing Club\, Boat Park opposite the Sheaok Cafe\, Fingal Road\, Fingal Heads\, NSW\, 2487\, Australia
END:VEVENT
BEGIN:VEVENT
DTSTART;TZID=Australia/Sydney:20181117T100000
DTEND;TZID=Australia/Sydney:20181118T150000
DTSTAMP:20260422T084706
CREATED:20180930T221224Z
LAST-MODIFIED:20180930T221224Z
UID:2745-1542448800-1542553200@www.tvsc.com.au
SUMMARY:BRSC - Bridge to Breakers Regatta
DESCRIPTION:The Big River Sailing Club will be holding their two day Regatta this weekend.  We always try to attend with big numbers. \nCamp on site from Friday afternoon.
URL:https://www.tvsc.com.au/event/brsc-bridge-to-breakers-regatta/
LOCATION:Big River Sailing Club\, 2 Careys Lane\, Harwood\, NSW\, 2465\, Australia
CATEGORIES:Away Event
ORGANIZER;CN="Big River Sailing Club":MAILTO:bigriversailingclub@gmail.com
END:VEVENT
BEGIN:VEVENT
DTSTART;TZID=Australia/Sydney:20181111T120000
DTEND;TZID=Australia/Sydney:20181111T150000
DTSTAMP:20260422T084706
CREATED:20180920T235705Z
LAST-MODIFIED:20180930T215747Z
UID:2709-1541937600-1541948400@www.tvsc.com.au
SUMMARY:Point Score Race 2 + Group A
DESCRIPTION:Race briefing at 12pm NSW time.\nRace start not before 1pm NSW time.\n\nDUTY ROSTER – members please check your duty dates\nCrewing: Contact the DUTY OFFICER for the day if you wish to crew or need crew.\nRace Course: set on the day to suit conditions.\nBRIEFING LOCATION: TVSC Container\, Boat Ramp Car Park\, opposite 109 Fingal Rd / Sheoak Shack Cafe\nResults: Overall Pointscore – Handicap System Sprint Series & Chinderah Challenge – Yardstick\nResults: Class Championships – requires min. 3 boats each sailing in min. 2 races.\nCrew Results – Same Points As Skipper.\nDuty Points & State Titles Attendance – Sailors entered in the series on duties preventing racing or\nrepresenting TVSC at a State Titles score their average points for the season for that race. \n\nGroup A – NS14 + Singlehanders \nGroup B – Corsairs and Multihulls
URL:https://www.tvsc.com.au/event/point-score-race-3-group-b-2/
LOCATION:Tweed Valley Sailing Club\, Boat Park opposite the Sheaok Cafe\, Fingal Road\, Fingal Heads\, NSW\, 2487\, Australia
CATEGORIES:Race
END:VEVENT
BEGIN:VEVENT
DTSTART;TZID=Australia/Sydney:20181104T120000
DTEND;TZID=Australia/Sydney:20181104T150000
DTSTAMP:20260422T084706
CREATED:20180920T235613Z
LAST-MODIFIED:20180930T215726Z
UID:2707-1541332800-1541343600@www.tvsc.com.au
SUMMARY:Sprint Races + Juniors Racing
DESCRIPTION:Race briefing at 12pm NSW time.\nRace start not before 1pm NSW time.\nSprint Races are 2 or 3 short races.\n\nDUTY ROSTER – members please check your duty dates\nCrewing: Contact the DUTY OFFICER for the day if you wish to crew or need crew.\nRace Course: set on the day to suit conditions.\nBRIEFING LOCATION: TVSC Container\, Boat Ramp Car Park\, opposite 109 Fingal Rd / Sheoak Shack Cafe\nResults: Overall Pointscore – Handicap System Sprint Series & Chinderah Challenge – Yardstick\nResults: Class Championships – requires min. 3 boats each sailing in min. 2 races.\nCrew Results – Same Points As Skipper.\nDuty Points & State Titles Attendance – Sailors entered in the series on duties preventing racing or\nrepresenting TVSC at a State Titles score their average points for the season for that race. \n\nGroup A – NS14 + Singlehanders \nGroup B – Corsairs and Multihulls
URL:https://www.tvsc.com.au/event/sprint-races-group-a/
LOCATION:Tweed Valley Sailing Club\, Boat Park opposite the Sheaok Cafe\, Fingal Road\, Fingal Heads\, NSW\, 2487\, Australia
CATEGORIES:Race
END:VEVENT
BEGIN:VEVENT
DTSTART;TZID=Australia/Sydney:20181028T083000
DTEND;TZID=Australia/Sydney:20181028T120000
DTSTAMP:20260422T084706
CREATED:20181018T201948Z
LAST-MODIFIED:20181018T201948Z
UID:2771-1540715400-1540728000@www.tvsc.com.au
SUMMARY:Juniors Sailing
DESCRIPTION:Bookings Essential.  Please email to book.
URL:https://www.tvsc.com.au/event/juniors-sailing-6/
LOCATION:Tweed Valley Sailing Club\, Boat Park opposite the Sheaok Cafe\, Fingal Road\, Fingal Heads\, NSW\, 2487\, Australia
CATEGORIES:Juniors Sailing
END:VEVENT
BEGIN:VEVENT
DTSTART;TZID=Australia/Sydney:20181021T120000
DTEND;TZID=Australia/Sydney:20181021T150000
DTSTAMP:20260422T084706
CREATED:20180920T235510Z
LAST-MODIFIED:20180930T215505Z
UID:2705-1540123200-1540134000@www.tvsc.com.au
SUMMARY:Point Score Race 1 + Group B
DESCRIPTION:Race briefing at 12pm NSW time.\nRace start not before 1pm NSW time.\n\nDUTY ROSTER – members please check your duty dates\nCrewing: Contact the DUTY OFFICER for the day if you wish to crew or need crew.\nRace Course: set on the day to suit conditions.\nBRIEFING LOCATION: TVSC Container\, Boat Ramp Car Park\, opposite 109 Fingal Rd / Sheoak Shack Cafe\nResults: Overall Pointscore – Handicap System Sprint Series & Chinderah Challenge – Yardstick\nResults: Class Championships – requires min. 3 boats each sailing in min. 2 races.\nCrew Results – Same Points As Skipper.\nDuty Points & State Titles Attendance – Sailors entered in the series on duties preventing racing or\nrepresenting TVSC at a State Titles score their average points for the season for that race. \n\nGroup A – NS14 + Singlehanders \nGroup B – Corsairs and Multihulls
URL:https://www.tvsc.com.au/event/point-score-race-2-group-b/
LOCATION:Tweed Valley Sailing Club\, Boat Park opposite the Sheaok Cafe\, Fingal Road\, Fingal Heads\, NSW\, 2487\, Australia
CATEGORIES:Race
END:VEVENT
BEGIN:VEVENT
DTSTART;TZID=Australia/Sydney:20181021T083000
DTEND;TZID=Australia/Sydney:20181021T110000
DTSTAMP:20260422T084706
CREATED:20181018T201902Z
LAST-MODIFIED:20181018T201902Z
UID:2769-1540110600-1540119600@www.tvsc.com.au
SUMMARY:Juniors
DESCRIPTION:Short session this Sunday START 8.30am NSW (7.30am QLD!) \nRace afterwards – so we must be all packed away by 11am.  \nBookings Essential.  Please email to book.
URL:https://www.tvsc.com.au/event/juniors/
LOCATION:Tweed Valley Sailing Club\, Boat Park opposite the Sheaok Cafe\, Fingal Road\, Fingal Heads\, NSW\, 2487\, Australia
CATEGORIES:Juniors Sailing
END:VEVENT
BEGIN:VEVENT
DTSTART;TZID=Australia/Sydney:20181014T120000
DTEND;TZID=Australia/Sydney:20181014T150000
DTSTAMP:20260422T084706
CREATED:20180920T235357Z
LAST-MODIFIED:20190907T000850Z
UID:2703-1539518400-1539529200@www.tvsc.com.au
SUMMARY:Sprint Series and Juniors Racing
DESCRIPTION:Race briefing at 12pm NSW time.\nRace start not before 1pm NSW time.\n\nDUTY ROSTER – members please check your duty dates\nCrewing: Contact the DUTY OFFICER for the day if you wish to crew or need crew.\nRace Course: set on the day to suit conditions.\nBRIEFING LOCATION: TVSC Container\, Boat Ramp Car Park\, opposite 109 Fingal Rd / Sheoak Shack Cafe\nResults: Overall Pointscore – Handicap System Sprint Series & Chinderah Challenge – Yardstick\nResults: Class Championships – requires min. 3 boats each sailing in min. 2 races.\nCrew Results – Same Points As Skipper.\nDuty Points & State Titles Attendance – Sailors entered in the series on duties preventing racing or\nrepresenting TVSC at a State Titles score their average points for the season for that race. \n\nGroup A – NS14 + Singlehanders \nGroup B – Corsairs and Multihulls
URL:https://www.tvsc.com.au/event/point-score-race-1-group-a/
LOCATION:Tweed Valley Sailing Club\, Boat Park opposite the Sheaok Cafe\, Fingal Road\, Fingal Heads\, NSW\, 2487\, Australia
CATEGORIES:Race
END:VEVENT
BEGIN:VEVENT
DTSTART;TZID=Australia/Sydney:20181013T100000
DTEND;TZID=Australia/Sydney:20181014T153000
DTSTAMP:20260422T084706
CREATED:20180930T220833Z
LAST-MODIFIED:20180930T220833Z
UID:2741-1539424800-1539531000@www.tvsc.com.au
SUMMARY:RRSRC Regatta at Ballina
DESCRIPTION:The Richmond River Sailing and Rowing Club are holding their two day regatta on this weekend.  Some of our members are attending.
URL:https://www.tvsc.com.au/event/rrsrc-regatta-at-ballina/
LOCATION:Richmond River Sailing & Rowing Club\, 2 River Street\, Ballina\, NSW\, 2478\, Australia
CATEGORIES:Away Event
ORGANIZER;CN="Richmond River Sailing & Rowing Club":MAILTO:contact.rrsrc@gmail.com
END:VEVENT
BEGIN:VEVENT
DTSTART;TZID=Australia/Sydney:20181007T090000
DTEND;TZID=Australia/Sydney:20181007T120000
DTSTAMP:20260422T084706
CREATED:20180930T215643Z
LAST-MODIFIED:20180930T215643Z
UID:2729-1538902800-1538913600@www.tvsc.com.au
SUMMARY:Social Sail - Upstream and Back
DESCRIPTION:A few members will be having a social sail this morning\, get in touch with the club so we can all sail together.
URL:https://www.tvsc.com.au/event/social-sail-upstream-and-back/
LOCATION:Tweed Valley Sailing Club\, Boat Park opposite the Sheaok Cafe\, Fingal Road\, Fingal Heads\, NSW\, 2487\, Australia
END:VEVENT
BEGIN:VEVENT
DTSTART;TZID=Australia/Sydney:20181005T080000
DTEND;TZID=Australia/Sydney:20181005T133000
DTSTAMP:20260422T084706
CREATED:20180920T235125Z
LAST-MODIFIED:20180920T235125Z
UID:2701-1538726400-1538746200@www.tvsc.com.au
SUMMARY:School Holiday Juniors
DESCRIPTION:We are thinking of holding a few juniors sailing days on the school holidays.  Please contact us to express your interest/availability.
URL:https://www.tvsc.com.au/event/school-holiday-juniors-3/
LOCATION:Tweed Valley Sailing Club\, Boat Park opposite the Sheaok Cafe\, Fingal Road\, Fingal Heads\, NSW\, 2487\, Australia
CATEGORIES:Juniors Sailing
END:VEVENT
BEGIN:VEVENT
DTSTART;TZID=Australia/Sydney:20181004T080000
DTEND;TZID=Australia/Sydney:20181004T133000
DTSTAMP:20260422T084706
CREATED:20180920T235055Z
LAST-MODIFIED:20180920T235055Z
UID:2699-1538640000-1538659800@www.tvsc.com.au
SUMMARY:School Holiday Juniors
DESCRIPTION:We are thinking of holding a few juniors sailing days on the school holidays.  Please contact us to express your interest/availability.
URL:https://www.tvsc.com.au/event/school-holiday-juniors-2/
LOCATION:Tweed Valley Sailing Club\, Boat Park opposite the Sheaok Cafe\, Fingal Road\, Fingal Heads\, NSW\, 2487\, Australia
CATEGORIES:Juniors Sailing
END:VEVENT
BEGIN:VEVENT
DTSTART;TZID=Australia/Sydney:20181003T090000
DTEND;TZID=Australia/Sydney:20181003T150000
DTSTAMP:20260422T084706
CREATED:20180830T005527Z
LAST-MODIFIED:20180921T000022Z
UID:2678-1538557200-1538578800@www.tvsc.com.au
SUMMARY:Women and Girls Social Fun on the Water
DESCRIPTION:Wednesday the 3rd of October  is Women and Girls social fun on the water day – contact us for more info.
URL:https://www.tvsc.com.au/event/women-and-girls-social-fun-on-the-water/
LOCATION:NSW
END:VEVENT
BEGIN:VEVENT
DTSTART;TZID=Australia/Sydney:20181002T090000
DTEND;TZID=Australia/Sydney:20181002T140000
DTSTAMP:20260422T084706
CREATED:20180920T235020Z
LAST-MODIFIED:20180920T235020Z
UID:2697-1538470800-1538488800@www.tvsc.com.au
SUMMARY:School Holiday Juniors
DESCRIPTION:We are thinking of holding a few juniors sailing days on the school holidays.  Please contact us to express your interest/availability.
URL:https://www.tvsc.com.au/event/school-holiday-juniors/
LOCATION:Tweed Valley Sailing Club\, Boat Park opposite the Sheaok Cafe\, Fingal Road\, Fingal Heads\, NSW\, 2487\, Australia
CATEGORIES:Juniors Sailing
END:VEVENT
BEGIN:VEVENT
DTSTART;TZID=Australia/Sydney:20180916T080000
DTEND;TZID=Australia/Sydney:20180916T113000
DTSTAMP:20260422T084706
CREATED:20180830T005356Z
LAST-MODIFIED:20180830T005407Z
UID:2675-1537084800-1537097400@www.tvsc.com.au
SUMMARY:Juniors
DESCRIPTION:Juniors Sailing and Adult Learn to Sail.
URL:https://www.tvsc.com.au/event/2675/
LOCATION:Tweed Valley Sailing Club\, Boat Park opposite the Sheaok Cafe\, Fingal Road\, Fingal Heads\, NSW\, 2487\, Australia
CATEGORIES:Juniors Sailing
END:VEVENT
BEGIN:VEVENT
DTSTART;TZID=Australia/Sydney:20180909T090000
DTEND;TZID=Australia/Sydney:20180909T150000
DTSTAMP:20260422T084706
CREATED:20180830T004352Z
LAST-MODIFIED:20180830T005114Z
UID:2666-1536483600-1536505200@www.tvsc.com.au
SUMMARY:Tumbulgum Passage Race - Rescheduled
DESCRIPTION:All Clubs Invitational Race for our rescheduled race down the river. \nNotice of Race \nEntry Form \nThe briefing and start times are the same as stated for the original event. \nPlease confirm your existing entries or send in a new entry form. \nWould the original support team please confirm their availability for this new date?
URL:https://www.tvsc.com.au/event/tumbulgum-passage-race-rescheduled/
LOCATION:Tweed Valley Sailing Club\, Boat Park opposite the Sheaok Cafe\, Fingal Road\, Fingal Heads\, NSW\, 2487\, Australia
CATEGORIES:Race
END:VEVENT
BEGIN:VEVENT
DTSTART;TZID=Australia/Sydney:20180826T090000
DTEND;TZID=Australia/Sydney:20180826T150000
DTSTAMP:20260422T084706
CREATED:20180618T072830Z
LAST-MODIFIED:20180729T232717Z
UID:2590-1535274000-1535295600@www.tvsc.com.au
SUMMARY:Tumbulgum Passage Race
DESCRIPTION:All Clubs Invitational Race \nFull Details here.
URL:https://www.tvsc.com.au/event/tumbulgum-passage-race/
LOCATION:Tweed Valley Sailing Club\, Boat Park opposite the Sheaok Cafe\, Fingal Road\, Fingal Heads\, NSW\, 2487\, Australia
CATEGORIES:Race
END:VEVENT
BEGIN:VEVENT
DTSTART;TZID=Australia/Sydney:20180805T120000
DTEND;TZID=Australia/Sydney:20180805T150000
DTSTAMP:20260422T084706
CREATED:20180618T072736Z
LAST-MODIFIED:20180618T072736Z
UID:2588-1533470400-1533481200@www.tvsc.com.au
SUMMARY:Winter Series Race 6
DESCRIPTION:
URL:https://www.tvsc.com.au/event/winter-series-race-6/
LOCATION:Tweed Valley Sailing Club\, Boat Park opposite the Sheaok Cafe\, Fingal Road\, Fingal Heads\, NSW\, 2487\, Australia
CATEGORIES:Race
END:VEVENT
BEGIN:VEVENT
DTSTART;TZID=Australia/Sydney:20180722T110000
DTEND;TZID=Australia/Sydney:20180722T150000
DTSTAMP:20260422T084706
CREATED:20180618T072658Z
LAST-MODIFIED:20180618T072658Z
UID:2586-1532257200-1532271600@www.tvsc.com.au
SUMMARY:Winter Series Race 5 - TBC
DESCRIPTION:
URL:https://www.tvsc.com.au/event/winter-series-race-5-tbc/
LOCATION:Tweed Valley Sailing Club\, Boat Park opposite the Sheaok Cafe\, Fingal Road\, Fingal Heads\, NSW\, 2487\, Australia
CATEGORIES:Race
END:VEVENT
BEGIN:VEVENT
DTSTART;TZID=Australia/Sydney:20180708T110000
DTEND;TZID=Australia/Sydney:20180708T170000
DTSTAMP:20260422T084706
CREATED:20180618T072520Z
LAST-MODIFIED:20180618T072520Z
UID:2582-1531047600-1531069200@www.tvsc.com.au
SUMMARY:Winter Series Race 4 - TBC
DESCRIPTION:
URL:https://www.tvsc.com.au/event/winter-series-race-4-tbc/
LOCATION:Tweed Valley Sailing Club\, Boat Park opposite the Sheaok Cafe\, Fingal Road\, Fingal Heads\, NSW\, 2487\, Australia
CATEGORIES:Race
END:VEVENT
BEGIN:VEVENT
DTSTART;TZID=Australia/Sydney:20180708T084500
DTEND;TZID=Australia/Sydney:20180708T103000
DTSTAMP:20260422T084706
CREATED:20180618T072610Z
LAST-MODIFIED:20180618T072610Z
UID:2584-1531039500-1531045800@www.tvsc.com.au
SUMMARY:Juniors and Try Sailing - TBC
DESCRIPTION:To be confirmed. \nPlease register by email.
URL:https://www.tvsc.com.au/event/juniors-and-try-sailing-tbc/
LOCATION:Tweed Valley Sailing Club\, Boat Park opposite the Sheaok Cafe\, Fingal Road\, Fingal Heads\, NSW\, 2487\, Australia
CATEGORIES:Juniors Sailing
END:VEVENT
BEGIN:VEVENT
DTSTART;TZID=Australia/Sydney:20180701T084500
DTEND;TZID=Australia/Sydney:20180701T110000
DTSTAMP:20260422T084706
CREATED:20180618T072400Z
LAST-MODIFIED:20180618T072400Z
UID:2580-1530434700-1530442800@www.tvsc.com.au
SUMMARY:Juniors and Try Sailing
DESCRIPTION:Please register by email.
URL:https://www.tvsc.com.au/event/juniors-and-try-sailing-9/
LOCATION:Tweed Valley Sailing Club\, Boat Park opposite the Sheaok Cafe\, Fingal Road\, Fingal Heads\, NSW\, 2487\, Australia
CATEGORIES:Juniors Sailing
END:VEVENT
BEGIN:VEVENT
DTSTART;TZID=Australia/Sydney:20180630T080000
DTEND;TZID=Australia/Sydney:20180630T170000
DTSTAMP:20260422T084706
CREATED:20180412T215319Z
LAST-MODIFIED:20180412T215319Z
UID:2530-1530345600-1530378000@www.tvsc.com.au
SUMMARY:Bunnings BBQ
DESCRIPTION:We’re running the BBQ at Tweed Heads Bunnings. \nPlease get in touch if you can help out!
URL:https://www.tvsc.com.au/event/bunnings-bbq/
LOCATION:NSW
END:VEVENT
BEGIN:VEVENT
DTSTART;TZID=Australia/Sydney:20180624T120000
DTEND;TZID=Australia/Sydney:20180624T150000
DTSTAMP:20260422T084706
CREATED:20180322T225945Z
LAST-MODIFIED:20180327T015627Z
UID:2501-1529841600-1529852400@www.tvsc.com.au
SUMMARY:Winter Series Race 3
DESCRIPTION:Contact the club before Sunday if you want to sail as crew or need crew for your boat.\nBriefing (Compulsory) 12pm at Fingal Head Boat Ramp.\nRace Start not before 1pm\nContact duty officer if you can help with any support roles.\nNon-members: New Adults must complete an indemnity form.
URL:https://www.tvsc.com.au/event/winter-series-race-3/
LOCATION:Tweed Valley Sailing Club\, Boat Park opposite the Sheaok Cafe\, Fingal Road\, Fingal Heads\, NSW\, 2487\, Australia
CATEGORIES:Race
END:VEVENT
BEGIN:VEVENT
DTSTART;TZID=Australia/Sydney:20180624T084500
DTEND;TZID=Australia/Sydney:20180624T103000
DTSTAMP:20260422T084706
CREATED:20180612T074212Z
LAST-MODIFIED:20180618T072302Z
UID:2576-1529829900-1529836200@www.tvsc.com.au
SUMMARY:CANCELLED - Juniors and Try Sailing
DESCRIPTION:Sorry but we’ve had to cancel Juniors and Try Sailing for the 24th.
URL:https://www.tvsc.com.au/event/juniors-and-try-sailing-8/
LOCATION:Tweed Valley Sailing Club\, Boat Park opposite the Sheaok Cafe\, Fingal Road\, Fingal Heads\, NSW\, 2487\, Australia
CATEGORIES:Juniors Sailing
END:VEVENT
BEGIN:VEVENT
DTSTART;TZID=Australia/Sydney:20180617T084500
DTEND;TZID=Australia/Sydney:20180617T113000
DTSTAMP:20260422T084706
CREATED:20180612T073533Z
LAST-MODIFIED:20180612T073533Z
UID:2574-1529225100-1529235000@www.tvsc.com.au
SUMMARY:Juniors and Try Sailing
DESCRIPTION:Please register by email.
URL:https://www.tvsc.com.au/event/juniors-and-try-sailing-7/
LOCATION:Tweed Valley Sailing Club\, Boat Park opposite the Sheaok Cafe\, Fingal Road\, Fingal Heads\, NSW\, 2487\, Australia
CATEGORIES:Juniors Sailing
END:VEVENT
END:VCALENDAR