BEGIN:VCALENDAR
VERSION:2.0
PRODID:-//Tweed Valley Sailing Club - ECPv6.15.17//NONSGML v1.0//EN
CALSCALE:GREGORIAN
METHOD:PUBLISH
X-WR-CALNAME:Tweed Valley Sailing Club
X-ORIGINAL-URL:https://www.tvsc.com.au
X-WR-CALDESC:Events for Tweed Valley Sailing Club
REFRESH-INTERVAL;VALUE=DURATION:PT1H
X-Robots-Tag:noindex
X-PUBLISHED-TTL:PT1H
BEGIN:VTIMEZONE
TZID:Australia/Sydney
BEGIN:STANDARD
TZOFFSETFROM:+1100
TZOFFSETTO:+1000
TZNAME:AEST
DTSTART:20160402T160000
END:STANDARD
BEGIN:DAYLIGHT
TZOFFSETFROM:+1000
TZOFFSETTO:+1100
TZNAME:AEDT
DTSTART:20161001T160000
END:DAYLIGHT
BEGIN:STANDARD
TZOFFSETFROM:+1100
TZOFFSETTO:+1000
TZNAME:AEST
DTSTART:20170401T160000
END:STANDARD
BEGIN:DAYLIGHT
TZOFFSETFROM:+1000
TZOFFSETTO:+1100
TZNAME:AEDT
DTSTART:20170930T160000
END:DAYLIGHT
BEGIN:STANDARD
TZOFFSETFROM:+1100
TZOFFSETTO:+1000
TZNAME:AEST
DTSTART:20180331T160000
END:STANDARD
BEGIN:DAYLIGHT
TZOFFSETFROM:+1000
TZOFFSETTO:+1100
TZNAME:AEDT
DTSTART:20181006T160000
END:DAYLIGHT
BEGIN:STANDARD
TZOFFSETFROM:+1100
TZOFFSETTO:+1000
TZNAME:AEST
DTSTART:20190406T160000
END:STANDARD
BEGIN:DAYLIGHT
TZOFFSETFROM:+1000
TZOFFSETTO:+1100
TZNAME:AEDT
DTSTART:20191005T160000
END:DAYLIGHT
END:VTIMEZONE
BEGIN:VTIMEZONE
TZID:Australia/Brisbane
BEGIN:STANDARD
TZOFFSETFROM:+1000
TZOFFSETTO:+1000
TZNAME:AEST
DTSTART:20160101T000000
END:STANDARD
END:VTIMEZONE
BEGIN:VEVENT
DTSTART;TZID=Australia/Sydney:20180624T084500
DTEND;TZID=Australia/Sydney:20180624T103000
DTSTAMP:20260422T110703
CREATED:20180612T074212Z
LAST-MODIFIED:20180618T072302Z
UID:2576-1529829900-1529836200@www.tvsc.com.au
SUMMARY:CANCELLED - Juniors and Try Sailing
DESCRIPTION:Sorry but we’ve had to cancel Juniors and Try Sailing for the 24th.
URL:https://www.tvsc.com.au/event/juniors-and-try-sailing-8/
LOCATION:Tweed Valley Sailing Club\, Boat Park opposite the Sheaok Cafe\, Fingal Road\, Fingal Heads\, NSW\, 2487\, Australia
CATEGORIES:Juniors Sailing
END:VEVENT
BEGIN:VEVENT
DTSTART;TZID=Australia/Sydney:20180617T084500
DTEND;TZID=Australia/Sydney:20180617T113000
DTSTAMP:20260422T110703
CREATED:20180612T073533Z
LAST-MODIFIED:20180612T073533Z
UID:2574-1529225100-1529235000@www.tvsc.com.au
SUMMARY:Juniors and Try Sailing
DESCRIPTION:Please register by email.
URL:https://www.tvsc.com.au/event/juniors-and-try-sailing-7/
LOCATION:Tweed Valley Sailing Club\, Boat Park opposite the Sheaok Cafe\, Fingal Road\, Fingal Heads\, NSW\, 2487\, Australia
CATEGORIES:Juniors Sailing
END:VEVENT
BEGIN:VEVENT
DTSTART;TZID=Australia/Sydney:20180616T170000
DTEND;TZID=Australia/Sydney:20180616T210000
DTSTAMP:20260422T110704
CREATED:20180322T230113Z
LAST-MODIFIED:20180412T215215Z
UID:2503-1529168400-1529182800@www.tvsc.com.au
SUMMARY:Annual Dinner
DESCRIPTION:Our Annual Dinner Presentation Night. \nLocation and reservation process to be confirmed.
URL:https://www.tvsc.com.au/event/annual-dinner/
LOCATION:NSW
END:VEVENT
BEGIN:VEVENT
DTSTART;TZID=Australia/Sydney:20180603T120000
DTEND;TZID=Australia/Sydney:20180603T150000
DTSTAMP:20260422T110704
CREATED:20180322T225859Z
LAST-MODIFIED:20180327T015852Z
UID:2499-1528027200-1528038000@www.tvsc.com.au
SUMMARY:Winter Series Race 2
DESCRIPTION:Contact the club before Sunday if you want to sail as crew or need crew for your boat.\nBriefing (Compulsory) 12pm at Fingal Head Boat Ramp.\nRace Start not before 1pm\nContact duty officer if you can help with any support roles.\nNon-members: New Adults must complete an indemnity form.
URL:https://www.tvsc.com.au/event/winter-series-race-2/
LOCATION:Tweed Valley Sailing Club\, Boat Park opposite the Sheaok Cafe\, Fingal Road\, Fingal Heads\, NSW\, 2487\, Australia
CATEGORIES:Race
END:VEVENT
BEGIN:VEVENT
DTSTART;TZID=Australia/Sydney:20180603T084500
DTEND;TZID=Australia/Sydney:20180603T110000
DTSTAMP:20260422T110704
CREATED:20180426T025337Z
LAST-MODIFIED:20180426T025337Z
UID:2547-1528015500-1528023600@www.tvsc.com.au
SUMMARY:Juniors and Try Sailing
DESCRIPTION:Please register by email.
URL:https://www.tvsc.com.au/event/juniors-and-try-sailing-6/
LOCATION:Tweed Valley Sailing Club\, Boat Park opposite the Sheaok Cafe\, Fingal Road\, Fingal Heads\, NSW\, 2487\, Australia
END:VEVENT
BEGIN:VEVENT
DTSTART;TZID=Australia/Sydney:20180527T084500
DTEND;TZID=Australia/Sydney:20180527T110000
DTSTAMP:20260422T110704
CREATED:20180426T025222Z
LAST-MODIFIED:20180426T025222Z
UID:2545-1527410700-1527418800@www.tvsc.com.au
SUMMARY:Juniors and Try Sailing
DESCRIPTION:Please register by email
URL:https://www.tvsc.com.au/event/juniors-and-try-sailing-5/
LOCATION:Tweed Valley Sailing Club\, Boat Park opposite the Sheaok Cafe\, Fingal Road\, Fingal Heads\, NSW\, 2487\, Australia
END:VEVENT
BEGIN:VEVENT
DTSTART;TZID=Australia/Sydney:20180520T120000
DTEND;TZID=Australia/Sydney:20180520T150000
DTSTAMP:20260422T110704
CREATED:20180322T225818Z
LAST-MODIFIED:20180327T015907Z
UID:2497-1526817600-1526828400@www.tvsc.com.au
SUMMARY:Winter Series Race 1
DESCRIPTION:Contact the club before Sunday if you want to sail as crew or need crew for your boat.\nBriefing (Compulsory) 12pm at Fingal Head Boat Ramp.\nRace Start not before 1pm\nContact duty officer if you can help with any support roles.\nNon-members: New Adults must complete an indemnity form.
URL:https://www.tvsc.com.au/event/winter-series-race-1/
LOCATION:Tweed Valley Sailing Club\, Boat Park opposite the Sheaok Cafe\, Fingal Road\, Fingal Heads\, NSW\, 2487\, Australia
CATEGORIES:Race
END:VEVENT
BEGIN:VEVENT
DTSTART;TZID=Australia/Sydney:20180520T084500
DTEND;TZID=Australia/Sydney:20180520T110000
DTSTAMP:20260422T110704
CREATED:20180426T025140Z
LAST-MODIFIED:20180426T025140Z
UID:2543-1526805900-1526814000@www.tvsc.com.au
SUMMARY:Juniors and Try Sailing
DESCRIPTION:Please register by email.
URL:https://www.tvsc.com.au/event/juniors-and-try-sailing-4/
LOCATION:Tweed Valley Sailing Club\, Boat Park opposite the Sheaok Cafe\, Fingal Road\, Fingal Heads\, NSW\, 2487\, Australia
END:VEVENT
BEGIN:VEVENT
DTSTART;TZID=Australia/Sydney:20180506T110000
DTEND;TZID=Australia/Sydney:20180506T143000
DTSTAMP:20260422T110704
CREATED:20180426T025023Z
LAST-MODIFIED:20180430T003342Z
UID:2541-1525604400-1525617000@www.tvsc.com.au
SUMMARY:Social Sail - Cruise to the Chindy Pub for Lunch
DESCRIPTION:All welcome to join us for lunch at midday and also a short sail up the river to the Pontoon opposite the Chinderah Tavern. Lunch and then sail back. The last one we did was an excellent day out  – visitors  very welcome. \nRSVP by Friday for lunch numbers please (even if you’ve already said you’re coming)\n \nInfo for skippers/crew:\nDepart Fingal about 10.30 – 11 latest\nHigh Tide Chinderah – 2pm so an easy sail up and back with the tide.\nAim to get to Chinderah by just before 12\n\n \nCREW There is already a list of keen sailors wanting a space on a boat so please let us know if you can fit someone on or if you need a boat / can loan a boat.\n \nCorsairs can tie up on pontoon. All help to lift other boats onto the grass – or sail at Fngal and just drive down to chindy for lunch.\n \nDry  clothes/wallets etc can go in Bills car which will be down at Chinderah – all bags need to be in his car by 10am
URL:https://www.tvsc.com.au/event/to-be-confirmed-social-sail-cruise-to-the-chindy-pub-for-lunch/
LOCATION:Tweed Valley Sailing Club\, Boat Park opposite the Sheaok Cafe\, Fingal Road\, Fingal Heads\, NSW\, 2487\, Australia
END:VEVENT
BEGIN:VEVENT
DTSTART;TZID=Australia/Sydney:20180429T084500
DTEND;TZID=Australia/Sydney:20180429T233000
DTSTAMP:20260422T110704
CREATED:20180426T024827Z
LAST-MODIFIED:20180426T024929Z
UID:2538-1524991500-1525044600@www.tvsc.com.au
SUMMARY:Juniors and Try Sailing and Social Sailing
DESCRIPTION:Please register by email.
URL:https://www.tvsc.com.au/event/juniors-and-try-sailing-3/
LOCATION:Tweed Valley Sailing Club\, Boat Park opposite the Sheaok Cafe\, Fingal Road\, Fingal Heads\, NSW\, 2487\, Australia
END:VEVENT
BEGIN:VEVENT
DTSTART;TZID=Australia/Sydney:20180424T093000
DTEND;TZID=Australia/Sydney:20180424T150000
DTSTAMP:20260422T110704
CREATED:20180422T231059Z
LAST-MODIFIED:20180422T231059Z
UID:2533-1524562200-1524582000@www.tvsc.com.au
SUMMARY:Midweek Sail - Juniors Day
DESCRIPTION:Tuesday 24 April was the most popular day for a Juniors midweek sail so this is locked in. \nWe would like to get on the water quickly as the best wind is forecast for the morning. \nContact Alison if any questions/changes 0434 982 922.
URL:https://www.tvsc.com.au/event/midweek-sail-juniors-day/
LOCATION:Tweed Valley Sailing Club\, Boat Park opposite the Sheaok Cafe\, Fingal Road\, Fingal Heads\, NSW\, 2487\, Australia
END:VEVENT
BEGIN:VEVENT
DTSTART;TZID=Australia/Sydney:20180415T093000
DTEND;TZID=Australia/Sydney:20180415T130000
DTSTAMP:20260422T110704
CREATED:20180412T214841Z
LAST-MODIFIED:20180412T214841Z
UID:2526-1523784600-1523797200@www.tvsc.com.au
SUMMARY:Social Sail\, Adult Try Sailing and Juniors
DESCRIPTION:Bring your boats down for a sail again this sunday morning while Juniors is on – the new improved BBQ (thanks Glenn) is there for anyone who wants to fire it up for a BYO lunch afterwards.\nAdult Try Sailing\nIf you’re interested in a try out sail or getting some practice in this Sunday morning please let us know asap so enough boats and skippers can be arranged.\n \nYou will be sailing on a Corsair.
URL:https://www.tvsc.com.au/event/social-sail-adult-try-sailing-and-juniors/
LOCATION:Tweed Valley Sailing Club\, Boat Park opposite the Sheaok Cafe\, Fingal Road\, Fingal Heads\, NSW\, 2487\, Australia
END:VEVENT
BEGIN:VEVENT
DTSTART;TZID=Australia/Sydney:20180325T120000
DTEND;TZID=Australia/Sydney:20180325T150000
DTSTAMP:20260422T110704
CREATED:20171213T080807Z
LAST-MODIFIED:20171213T080807Z
UID:2242-1521979200-1521990000@www.tvsc.com.au
SUMMARY:Point Score Race 10 + Class Championship Group B
DESCRIPTION:Contact the club before Sunday if you want to sail as crew or need crew for your boat.\nBriefing (Compulsory) 12pm at Fingal Head Boat Ramp – Car park opp. Sheoak Cafe\nRace Start not before 1pm\nContact duty officer if you can help with any support roles. \nNon-members: New Adults must complete an indemnity form.
URL:https://www.tvsc.com.au/event/point-score-race-10-class-championship-group-b/
LOCATION:NSW
CATEGORIES:Race
END:VEVENT
BEGIN:VEVENT
DTSTART;TZID=Australia/Sydney:20180318T084500
DTEND;TZID=Australia/Sydney:20180318T110000
DTSTAMP:20260422T110704
CREATED:20180221T205320Z
LAST-MODIFIED:20180221T205320Z
UID:2422-1521362700-1521370800@www.tvsc.com.au
SUMMARY:Juniors and Try Sailing
DESCRIPTION:Bookings Essential.\nCost $5\nJuniors is for ages 7 to 17\nCan you help?  People are needed to help pack up boats at 11am. Training given.
URL:https://www.tvsc.com.au/event/juniors-and-try-sailing-2/
LOCATION:NSW
CATEGORIES:Juniors Sailing
END:VEVENT
BEGIN:VEVENT
DTSTART;VALUE=DATE:20180310
DTEND;VALUE=DATE:20180312
DTSTAMP:20260422T110704
CREATED:20180122T224529Z
LAST-MODIFIED:20180122T224529Z
UID:2351-1520640000-1520812799@www.tvsc.com.au
SUMMARY:BRSC Annual Regatta at Harwood
DESCRIPTION:The Big River Regatta is going ahead\, NOR can be viewed from the link. \nThere will be some minor changes while we don’t have a clubhouse\, but we hope you can overcome any inconveniences and support the event and our club in true sailing spirit. \n Note the arrangements for Saturday night dinner at the Harwood Hilton on the NOR. If you want to dine at the pub\, please book for yourselves asap but no later than the day before\, under the Sailing Club group\, so they have the numbers. \n We are still unsure what facilities we will have available\, the worst case scenario is limited hot showers (in the disabled unit) and porta loos. Best case is we have our usual amenities re opened. \n It is camping\, right! \n On the subject of the camping area we will have a strip of mown paddock to the north of the back access road for trailer and car parking\, this should alleviate pressure on camping and rigging space. \n We have power reconnected however with limited supply\, enough to charge phones etc\, but leave the hair dryer behind. \n Best of all\, the Clarence is still great sailing\, the camp and rigging area perfect\, do come and enjoy the “Demolition Derby Regatta”. \n Any questions please call Hariet 0409 664511 or email bigriversailingclub@gmail.com
URL:https://www.tvsc.com.au/event/brsc-annual-regatta-at-harwood/
LOCATION:Big River Sailing Club\, 2 Careys Lane\, Harwood\, NSW\, 2465\, Australia
END:VEVENT
BEGIN:VEVENT
DTSTART;TZID=Australia/Sydney:20180304T120000
DTEND;TZID=Australia/Sydney:20180304T170000
DTSTAMP:20260422T110704
CREATED:20171020T071827Z
LAST-MODIFIED:20171123T074709Z
UID:2050-1520164800-1520182800@www.tvsc.com.au
SUMMARY:Chindy Challenge Race 1
DESCRIPTION:Race 1 of 2 : Fingal to Chinderah and back. \nTimes TBA
URL:https://www.tvsc.com.au/event/chindy-challenge-race-1/
LOCATION:NSW
CATEGORIES:Race
END:VEVENT
BEGIN:VEVENT
DTSTART;TZID=Australia/Sydney:20180225T120000
DTEND;TZID=Australia/Sydney:20180225T150000
DTSTAMP:20260422T110704
CREATED:20171213T080735Z
LAST-MODIFIED:20171213T080735Z
UID:2240-1519560000-1519570800@www.tvsc.com.au
SUMMARY:Point Score Race 9 + Class Championship Group A
DESCRIPTION:Contact the club before Sunday if you want to sail as crew or need crew for your boat.\nBriefing (Compulsory) 12pm at Fingal Head Boat Ramp – Car park opp. Sheoak Cafe\nRace Start not before 1pm\nContact duty officer if you can help with any support roles. \nNon-members: New Adults must complete an indemnity form.
URL:https://www.tvsc.com.au/event/point-score-race-9-class-championship-group-a/
LOCATION:NSW
CATEGORIES:Race
END:VEVENT
BEGIN:VEVENT
DTSTART;TZID=Australia/Sydney:20180225T084500
DTEND;TZID=Australia/Sydney:20180225T110000
DTSTAMP:20260422T110704
CREATED:20180221T204808Z
LAST-MODIFIED:20180221T204817Z
UID:2418-1519548300-1519556400@www.tvsc.com.au
SUMMARY:Juniors and Try Sailing
DESCRIPTION:Bookings Essential.\nCost $5\nJuniors is for ages 7 to 17\nCan you help?\nPeople are needed to help pack up boats at 11am. Training given.
URL:https://www.tvsc.com.au/event/juniors-and-try-sailing/
LOCATION:NSW
CATEGORIES:Juniors Sailing
END:VEVENT
BEGIN:VEVENT
DTSTART;TZID=Australia/Sydney:20180218T084500
DTEND;TZID=Australia/Sydney:20180218T113000
DTSTAMP:20260422T110704
CREATED:20180215T000224Z
LAST-MODIFIED:20180215T000224Z
UID:2413-1518943500-1518953400@www.tvsc.com.au
SUMMARY:Juniors Sailing and Fun Sail
DESCRIPTION:Juniors & Teens\nStart 8:45am NSW (7.45 QLD)\nBooking required – reply to this email to ensure a space is available – beginners welcome.\nMeet : TVSC container – Fingal Head Boat Ramp car park\n11am : Pack up. Juniors assist with boat rigging and unrigging and washing.\nFinish 11.30am (10.30 QLD)\nCost per session – $5 per sailor / Gold coin donation concession –  All proceeds to boat and club maintenance\, safety boat fuel etc.\nNB Under 18’s attending for the first time? Parents/Guardians please complete a Consent form (attached) for each under 18. \nWhat to bring:\nAnyone sailing –  bring:\nfootwear that can get wet\,\nhat\, sunscreen\na change of clothes \,\nwater bottle and a snack.\nThe club has PFDs (Life jackets) for loan for children & adults over 40kg\nFootwear (not thongs) is compulsory when sailing.\nJobs for Parents + Sailing\nPlease help with – Sign On/Off\, general setup/pack up \,\ncrewing on safety boats.\nDepending on numbers there may also be opportunities for parents to sail. \nFacilities\nNote we do not have a club house. The container is for boat and equipment storage and juniors are not permitted to enter the container unless helping with carrying boats.\nPublic toilets close by – juniors to go in pairs please\nRefreshments – Sheoak Shack Cafe opposite boat ramp car park and shop 100m further down the road + club sells drinks and snacks. \nSailors always check the Weather Forecast & Tides : \nhttp://wind.willyweather.com.au/nsw/far-north-coast/tweed-river–cave-point.html
URL:https://www.tvsc.com.au/event/juniors-sailing-and-fun-sail/
LOCATION:NSW
END:VEVENT
BEGIN:VEVENT
DTSTART;TZID=Australia/Sydney:20180211T120000
DTEND;TZID=Australia/Sydney:20180211T150000
DTSTAMP:20260422T110704
CREATED:20171213T080626Z
LAST-MODIFIED:20171213T080656Z
UID:2237-1518350400-1518361200@www.tvsc.com.au
SUMMARY:Point Score Race 8 + Class Championship Group B
DESCRIPTION:Contact the club before Sunday if you want to sail as crew or need crew for your boat.\nBriefing (Compulsory) 12pm at Fingal Head Boat Ramp – Car park opp. Sheoak Cafe\nRace Start not before 1pm\nContact duty officer if you can help with any support roles. \nNon-members: New Adults must complete an indemnity form.
URL:https://www.tvsc.com.au/event/point-score-race-7-class-championship-group-b/
LOCATION:NSW
END:VEVENT
BEGIN:VEVENT
DTSTART;TZID=Australia/Sydney:20180204T090000
DTEND;TZID=Australia/Sydney:20180204T150000
DTSTAMP:20260422T110704
CREATED:20180122T224005Z
LAST-MODIFIED:20180122T224005Z
UID:2347-1517734800-1517756400@www.tvsc.com.au
SUMMARY:Chindy Lunch Cruise to Chinderah Tavern
DESCRIPTION:A social sail The “Chindy Lunch Cruise” to the Chinderah Tavern on Sunday 4 Feb.  Would be great if all the Corsairs can come to this – crew spots will be available 1 way or both directions so suggest we all pile on. There may not be any beach space at Chinderah as it will be high tide. Corsairs can raft up to the pontoon and we could lift boats onto the grass if necessary while we have lunch…. or you can just keep sailing and we’ll throw you a chip.
URL:https://www.tvsc.com.au/event/chindy-lunch-cruise-to-chinderah-tavern/
LOCATION:NSW
END:VEVENT
BEGIN:VEVENT
DTSTART;TZID=Australia/Sydney:20180124T083000
DTEND;TZID=Australia/Sydney:20180125T120000
DTSTAMP:20260422T110704
CREATED:20180122T224106Z
LAST-MODIFIED:20180122T224106Z
UID:2349-1516782600-1516881600@www.tvsc.com.au
SUMMARY:Juniors and Teens Sailing
DESCRIPTION:It’s very late notice\, as it was a challenge to get enough available volunteers for midweek – as always it all comes together – thanks team! \nThey will be relaxed mornings – no racing to worry about in the afternoon.  \nX3s and Sabots + 1 Corsair on both days. \nPlease RSVP by SMS to Alison 0434 982 922 if you’re not already on the list so we know how many boats to rig. \nSign on & rigging from 8.45am NSW time\nOff the water by 11.45am\nSailing Fee – $5 \nSausages after sailing on Wednesday – BYO lunch on Thursday.
URL:https://www.tvsc.com.au/event/juniors-and-teens-sailing/
LOCATION:NSW
END:VEVENT
BEGIN:VEVENT
DTSTART;TZID=Australia/Sydney:20180121T120000
DTEND;TZID=Australia/Sydney:20180121T150000
DTSTAMP:20260422T110704
CREATED:20171213T080553Z
LAST-MODIFIED:20171213T080553Z
UID:2235-1516536000-1516546800@www.tvsc.com.au
SUMMARY:Point Score Race 7 + Class Championship Group A
DESCRIPTION:Contact the club before Sunday if you want to sail as crew or need crew for your boat.\nBriefing (Compulsory) 12pm at Fingal Head Boat Ramp – Car park opp. Sheoak Cafe\nRace Start not before 1pm\nContact duty officer if you can help with any support roles. \nNon-members: New Adults must complete an indemnity form.
URL:https://www.tvsc.com.au/event/point-score-race-7-class-championship-group-a/
LOCATION:NSW
CATEGORIES:Race
END:VEVENT
BEGIN:VEVENT
DTSTART;TZID=Australia/Sydney:20180114T120000
DTEND;TZID=Australia/Sydney:20180114T150000
DTSTAMP:20260422T110704
CREATED:20171213T080443Z
LAST-MODIFIED:20171213T080450Z
UID:2233-1515931200-1515942000@www.tvsc.com.au
SUMMARY:Point Score Race 6 + Class Championship Group B
DESCRIPTION:Contact the club before Sunday if you want to sail as crew or need crew for your boat.\nBriefing (Compulsory) 12pm at Fingal Head Boat Ramp – Car park opp. Sheoak Cafe\nRace Start not before 1pm\nContact duty officer if you can help with any support roles. \nNon-members: New Adults must complete an indemnity form.
URL:https://www.tvsc.com.au/event/point-score-race-6-class-championship-group-b/
LOCATION:NSW
CATEGORIES:Race
END:VEVENT
BEGIN:VEVENT
DTSTART;TZID=Australia/Sydney:20180107T090000
DTEND;TZID=Australia/Sydney:20180107T150000
DTSTAMP:20260422T110704
CREATED:20171213T103711Z
LAST-MODIFIED:20171213T103723Z
UID:2249-1515315600-1515337200@www.tvsc.com.au
SUMMARY:Bunnings BBQ Fundraiser
DESCRIPTION:We’ll be running the BBQ at the Tweed Heads Bunnings on the 7th of January.  Contact Kevin if you can help out!
URL:https://www.tvsc.com.au/event/bunnings-bbq-fund-raiser/
LOCATION:NSW
END:VEVENT
BEGIN:VEVENT
DTSTART;TZID=Australia/Sydney:20171217T120000
DTEND;TZID=Australia/Sydney:20171217T150000
DTSTAMP:20260422T110704
CREATED:20171020T071729Z
LAST-MODIFIED:20171020T071737Z
UID:2047-1513512000-1513522800@www.tvsc.com.au
SUMMARY:Winter Series Presentation Picnic + Fun Sail and Sabot Races
DESCRIPTION:More details\, including times\, will be sent by email.
URL:https://www.tvsc.com.au/event/winter-series-presentation-picnic-fun-sail-and-sabot-races/
LOCATION:NSW
END:VEVENT
BEGIN:VEVENT
DTSTART;TZID=Australia/Sydney:20171210T120000
DTEND;TZID=Australia/Sydney:20171210T150000
DTSTAMP:20260422T110704
CREATED:20171020T071527Z
LAST-MODIFIED:20171020T071527Z
UID:2044-1512907200-1512918000@www.tvsc.com.au
SUMMARY:Point Score Race 5 + Class Championships for NS14 and Lasers
DESCRIPTION:Contact the club before Sunday if you want to sail as crew or need crew for your boat.\nBriefing (Compulsory) 12pm at Fingal Head Boat Ramp – Car park opp. Sheoak Cafe\nRace Start not before 1pm\nContact duty officer if you can help with any support roles. \nNon-members: New Adults complete indemnity form.
URL:https://www.tvsc.com.au/event/point-score-race-5-class-championships-for-ns14-and-lasers/
LOCATION:NSW
CATEGORIES:Race
END:VEVENT
BEGIN:VEVENT
DTSTART;TZID=Australia/Sydney:20171210T084500
DTEND;TZID=Australia/Sydney:20171210T170000
DTSTAMP:20260422T110704
CREATED:20171020T072111Z
LAST-MODIFIED:20171123T074752Z
UID:2057-1512895500-1512925200@www.tvsc.com.au
SUMMARY:Juniors Sailing and Try Sailing
DESCRIPTION:Please book by email.\nMeet at the TVSC Container\nCost: $5 per Junior/Gold coin donation concession.\nSee our Juniors page for more details. \nTimes are NSW time.
URL:https://www.tvsc.com.au/event/juniors-sailing-tbc/
LOCATION:NSW
CATEGORIES:Juniors Sailing
END:VEVENT
BEGIN:VEVENT
DTSTART;VALUE=DATE:20171202
DTEND;VALUE=DATE:20171204
DTSTAMP:20260422T110704
CREATED:20171120T004128Z
LAST-MODIFIED:20171120T004153Z
UID:2170-1512172800-1512345599@www.tvsc.com.au
SUMMARY:Lake Cootharaba Sailing Club - MonoMasters (Including Corsair State Titles)
DESCRIPTION:MONOMASTERS\nIncorporating Corsair State Titles\nCareel 18s State Titles\nand the Weta December Challenge \n2rd and 3th December 2017 \nLake Cootharaba Sailing Club\n24 Boreen Parade\, Boreen Point 4565
URL:https://www.tvsc.com.au/event/2170/
LOCATION:NSW
END:VEVENT
BEGIN:VEVENT
DTSTART;TZID=Australia/Sydney:20171126T120000
DTEND;TZID=Australia/Sydney:20171126T150000
DTSTAMP:20260422T110704
CREATED:20171020T071044Z
LAST-MODIFIED:20171020T071549Z
UID:2039-1511697600-1511708400@www.tvsc.com.au
SUMMARY:Point Score Race 4 + Class Championships for NS14 and Lasers
DESCRIPTION:Contact the club before Sunday if you want to sail as crew or need crew for your boat.\nBriefing (Compulsory) 12pm at Fingal Head Boat Ramp – Car park opp. Sheoak Cafe\nRace Start not before 1pm\nContact duty officer if you can help with any support roles. \nNon-members: New Adults complete indemnity form.
URL:https://www.tvsc.com.au/event/point-score-race-4-class-champions-for-ns14-lasers/
LOCATION:NSW
CATEGORIES:Race
END:VEVENT
END:VCALENDAR