BEGIN:VCALENDAR
VERSION:2.0
PRODID:-//Tweed Valley Sailing Club - ECPv6.15.17//NONSGML v1.0//EN
CALSCALE:GREGORIAN
METHOD:PUBLISH
X-ORIGINAL-URL:https://www.tvsc.com.au
X-WR-CALDESC:Events for Tweed Valley Sailing Club
REFRESH-INTERVAL;VALUE=DURATION:PT1H
X-Robots-Tag:noindex
X-PUBLISHED-TTL:PT1H
BEGIN:VTIMEZONE
TZID:Australia/Sydney
BEGIN:STANDARD
TZOFFSETFROM:+1100
TZOFFSETTO:+1000
TZNAME:AEST
DTSTART:20250405T160000
END:STANDARD
BEGIN:DAYLIGHT
TZOFFSETFROM:+1000
TZOFFSETTO:+1100
TZNAME:AEDT
DTSTART:20251004T160000
END:DAYLIGHT
BEGIN:STANDARD
TZOFFSETFROM:+1100
TZOFFSETTO:+1000
TZNAME:AEST
DTSTART:20260404T160000
END:STANDARD
BEGIN:DAYLIGHT
TZOFFSETFROM:+1000
TZOFFSETTO:+1100
TZNAME:AEDT
DTSTART:20261003T160000
END:DAYLIGHT
BEGIN:STANDARD
TZOFFSETFROM:+1100
TZOFFSETTO:+1000
TZNAME:AEST
DTSTART:20270403T160000
END:STANDARD
BEGIN:DAYLIGHT
TZOFFSETFROM:+1000
TZOFFSETTO:+1100
TZNAME:AEDT
DTSTART:20271002T160000
END:DAYLIGHT
END:VTIMEZONE
BEGIN:VEVENT
DTSTART;TZID=Australia/Sydney:20260920T083000
DTEND;TZID=Australia/Sydney:20260920T110000
DTSTAMP:20260421T224523
CREATED:20260403T022053Z
LAST-MODIFIED:20260403T022053Z
UID:6568-1789893000-1789902000@www.tvsc.com.au
SUMMARY:Juniors
DESCRIPTION:Juniors – Please register beforehand by email.
URL:https://www.tvsc.com.au/event/juniors-85/
LOCATION:Tweed Valley Sailing Club\, Boat Park opposite the Sheaok Cafe\, Fingal Road\, Fingal Heads\, NSW\, 2487\, Australia
CATEGORIES:Juniors Sailing
END:VEVENT
BEGIN:VEVENT
DTSTART;TZID=Australia/Sydney:20260920T130000
DTEND;TZID=Australia/Sydney:20260920T153000
DTSTAMP:20260421T224523
CREATED:20260403T022052Z
LAST-MODIFIED:20260403T022052Z
UID:6567-1789909200-1789918200@www.tvsc.com.au
SUMMARY:Race 21 & 22 Winter Series
DESCRIPTION:Race Briefing at 12pm NSW Time.\nRace start not before 1pm NSW Time.
URL:https://www.tvsc.com.au/event/race-21-22-winter-series/
LOCATION:Tweed Valley Sailing Club\, Boat Park opposite the Sheaok Cafe\, Fingal Road\, Fingal Heads\, NSW\, 2487\, Australia
CATEGORIES:Race
END:VEVENT
BEGIN:VEVENT
DTSTART;TZID=Australia/Sydney:20260927T083000
DTEND;TZID=Australia/Sydney:20260927T110000
DTSTAMP:20260421T224523
CREATED:20260403T022053Z
LAST-MODIFIED:20260403T022053Z
UID:6569-1790497800-1790506800@www.tvsc.com.au
SUMMARY:Juniors
DESCRIPTION:Juniors – Please register beforehand by email.
URL:https://www.tvsc.com.au/event/juniors-86/
LOCATION:Tweed Valley Sailing Club\, Boat Park opposite the Sheaok Cafe\, Fingal Road\, Fingal Heads\, NSW\, 2487\, Australia
CATEGORIES:Juniors Sailing
END:VEVENT
END:VCALENDAR