BEGIN:VCALENDAR
VERSION:2.0
PRODID:-//Tweed Valley Sailing Club - ECPv6.15.17//NONSGML v1.0//EN
CALSCALE:GREGORIAN
METHOD:PUBLISH
X-WR-CALNAME:Tweed Valley Sailing Club
X-ORIGINAL-URL:https://www.tvsc.com.au
X-WR-CALDESC:Events for Tweed Valley Sailing Club
REFRESH-INTERVAL;VALUE=DURATION:PT1H
X-Robots-Tag:noindex
X-PUBLISHED-TTL:PT1H
BEGIN:VTIMEZONE
TZID:Australia/Sydney
BEGIN:STANDARD
TZOFFSETFROM:+1100
TZOFFSETTO:+1000
TZNAME:AEST
DTSTART:20230401T160000
END:STANDARD
BEGIN:DAYLIGHT
TZOFFSETFROM:+1000
TZOFFSETTO:+1100
TZNAME:AEDT
DTSTART:20230930T160000
END:DAYLIGHT
BEGIN:STANDARD
TZOFFSETFROM:+1100
TZOFFSETTO:+1000
TZNAME:AEST
DTSTART:20240406T160000
END:STANDARD
BEGIN:DAYLIGHT
TZOFFSETFROM:+1000
TZOFFSETTO:+1100
TZNAME:AEDT
DTSTART:20241005T160000
END:DAYLIGHT
BEGIN:STANDARD
TZOFFSETFROM:+1100
TZOFFSETTO:+1000
TZNAME:AEST
DTSTART:20250405T160000
END:STANDARD
BEGIN:DAYLIGHT
TZOFFSETFROM:+1000
TZOFFSETTO:+1100
TZNAME:AEDT
DTSTART:20251004T160000
END:DAYLIGHT
END:VTIMEZONE
BEGIN:VEVENT
DTSTART;TZID=Australia/Sydney:20240914T093000
DTEND;TZID=Australia/Sydney:20240915T153000
DTSTAMP:20260422T013957
CREATED:20240725T195350Z
LAST-MODIFIED:20240902T030432Z
UID:5935-1726306200-1726414200@www.tvsc.com.au
SUMMARY:COURSE FULL Adults Introduction to Sailing Weekend 14/15th September 2024
DESCRIPTION:Come and experience a 2 day Introduction to Sailing Course at Tweed Valley Sailing Club\, main boat harbour\, Fingal Road\, Fingal.  Held over one weekend from 9:30 am to 3:30 pm each day.  Open to 10 pax only (over 17 years of age).   \n\n\n\nParticipant requirements:  Over 17 years of age\, be an efficient swimmer\, fitness level – quite agile (there is a lot of ducking and bending\, pushing and pulling).  Not recommended for people with back or knee issues. \n\n\n\nWhat you will learn: \n\n\n\nPreparation:  appropriate clothing to suit conditions\, identify and use safety equipment\, demonstrate an understanding of the need for protection from environmental elements. \n\n\n\nBoats and equipment and ropework:  rig a pacer and corsair with assistance\, identify the commonly used parts of the boat\, tie a figure of 8 knot and bowline. \n\n\n\nSkills and techniques:  launch and recover boat with assistance\, correctly tack and stop the boat\, sucessfully sail a windward/broad beach course. \n\n\n\nSailing theory:  port/starboard\, windward/leeward\, and overtaking vessels. \n\n\n\nMeteorology and Tides: identify the wind direction and able to source weather forecasts.   \n\n\n\nSafety and emergency:  participate in single boat towing and perform capsize recovery in shallow water.   \n\n\n\nClub will supply lifejackets and we do have some water boots we can loan.  Safety boats will be on the water for your protection.   \n\n\n\nWhat to bring:  ENTHUSIASM AND A SMILE\, Sunscreen\, hat\, wet shirt (long sleeve ideally)\, shorts or long pants (expect to get them wet)\, shoes you can get wet\, change of clothes into warmer clothes\, snacks\, water and lunch.   \n\n\n\nCourse starts at 9:30 am to 3:30 pm\, breaking for lunch around 12:15 pm for no longer than 45 mins.  Please ensure to bring your lunch as you will not have enough time to go away and purchase food.   \n\n\n\nCost:  $250 for the 2 days\, which includes club membership for a year (year finishes 30 September 2025).  Membership will give you access to hire the club boats once you are deemed competent\, and allows you to start sailing in club races (fortnightly).   \n\n\n\nRegistration will not be confirmed until full payment has been made.  These courses fill very quickly\, so register now to avoid missing out.   \n\n\n\nCourse is run by club coaches and experienced club members.  We are all volunteers. \n\n\n\nPlease phone Monique on 0409 761 908 after 9th August\, or email monandpaul104@gmail.com if you have any enquiries.  
URL:https://www.tvsc.com.au/event/adults-introduction-to-sailing-weekend-14-15th-september-2024/
LOCATION:Tweed Valley Sailing Club\, Boat Park opposite the Sheaok Cafe\, Fingal Road\, Fingal Heads\, NSW\, 2487\, Australia
END:VEVENT
BEGIN:VEVENT
DTSTART;TZID=Australia/Sydney:20240908T130000
DTEND;TZID=Australia/Sydney:20240908T153000
DTSTAMP:20260422T013957
CREATED:20240313T084316Z
LAST-MODIFIED:20240509T104227Z
UID:5734-1725800400-1725809400@www.tvsc.com.au
SUMMARY:Race 19 & 20 - Handicap - Winter Series
DESCRIPTION:Race Briefing at 12pm NSW Time.Race start 1pm NSW Time.
URL:https://www.tvsc.com.au/event/race-9-10-multi-handed-champs-winter-series/
LOCATION:Tweed Valley Sailing Club\, Boat Park opposite the Sheaok Cafe\, Fingal Road\, Fingal Heads\, NSW\, 2487\, Australia
CATEGORIES:Race
END:VEVENT
BEGIN:VEVENT
DTSTART;TZID=Australia/Sydney:20240908T083000
DTEND;TZID=Australia/Sydney:20240908T113000
DTSTAMP:20260422T013957
CREATED:20240828T001835Z
LAST-MODIFIED:20240828T001941Z
UID:5975-1725784200-1725795000@www.tvsc.com.au
SUMMARY:Juniors - Sunday morning
DESCRIPTION:
URL:https://www.tvsc.com.au/event/juniors-tbc-18-copy-copy/
LOCATION:Tweed Valley Sailing Club\, Boat Park opposite the Sheaok Cafe\, Fingal Road\, Fingal Heads\, NSW\, 2487\, Australia
CATEGORIES:Juniors Sailing
END:VEVENT
BEGIN:VEVENT
DTSTART;TZID=Australia/Sydney:20240901T083000
DTEND;TZID=Australia/Sydney:20240901T113000
DTSTAMP:20260422T013957
CREATED:20240828T000328Z
LAST-MODIFIED:20240828T001645Z
UID:5969-1725179400-1725190200@www.tvsc.com.au
SUMMARY:Juniors - Sunday morning
DESCRIPTION:
URL:https://www.tvsc.com.au/event/juniors-tbc-18-copy/
LOCATION:Tweed Valley Sailing Club\, Boat Park opposite the Sheaok Cafe\, Fingal Road\, Fingal Heads\, NSW\, 2487\, Australia
CATEGORIES:Juniors Sailing
END:VEVENT
BEGIN:VEVENT
DTSTART;TZID=Australia/Sydney:20240825T130000
DTEND;TZID=Australia/Sydney:20240825T153000
DTSTAMP:20260422T013957
CREATED:20240313T084315Z
LAST-MODIFIED:20240509T104217Z
UID:5732-1724590800-1724599800@www.tvsc.com.au
SUMMARY:Race 17 & 18 - Handicap - Winter Series
DESCRIPTION:Race Briefing at 12pm NSW Time.Race start 1pm NSW Time.
URL:https://www.tvsc.com.au/event/race-9-10-single-handed-champs-winter-series/
LOCATION:Tweed Valley Sailing Club\, Boat Park opposite the Sheaok Cafe\, Fingal Road\, Fingal Heads\, NSW\, 2487\, Australia
CATEGORIES:Race
END:VEVENT
BEGIN:VEVENT
DTSTART;TZID=Australia/Sydney:20240825T083000
DTEND;TZID=Australia/Sydney:20240825T110000
DTSTAMP:20260422T013957
CREATED:20240313T084316Z
LAST-MODIFIED:20240808T234504Z
UID:5733-1724574600-1724583600@www.tvsc.com.au
SUMMARY:Juniors
DESCRIPTION:Juniors – Please register beforehand by email.
URL:https://www.tvsc.com.au/event/juniors-tbc-18/
LOCATION:Tweed Valley Sailing Club\, Boat Park opposite the Sheaok Cafe\, Fingal Road\, Fingal Heads\, NSW\, 2487\, Australia
CATEGORIES:Juniors Sailing
END:VEVENT
BEGIN:VEVENT
DTSTART;TZID=Australia/Sydney:20240811T130000
DTEND;TZID=Australia/Sydney:20240811T153000
DTSTAMP:20260422T013957
CREATED:20240313T084301Z
LAST-MODIFIED:20240509T104207Z
UID:5730-1723381200-1723390200@www.tvsc.com.au
SUMMARY:Race 15 & 16 - Handicap - Winter Series
DESCRIPTION:Race Briefing at 12pm NSW Time.Race start 1pm NSW Time.
URL:https://www.tvsc.com.au/event/race-7-8-multi-handed-champs-winter-series/
LOCATION:Tweed Valley Sailing Club\, Boat Park opposite the Sheaok Cafe\, Fingal Road\, Fingal Heads\, NSW\, 2487\, Australia
CATEGORIES:Race
END:VEVENT
BEGIN:VEVENT
DTSTART;TZID=Australia/Sydney:20240811T083000
DTEND;TZID=Australia/Sydney:20240811T110000
DTSTAMP:20260422T013957
CREATED:20240313T084315Z
LAST-MODIFIED:20240808T005154Z
UID:5731-1723365000-1723374000@www.tvsc.com.au
SUMMARY:Juniors
DESCRIPTION:Juniors – Please register beforehand by email.
URL:https://www.tvsc.com.au/event/juniors-tbc-17/
LOCATION:Tweed Valley Sailing Club\, Boat Park opposite the Sheaok Cafe\, Fingal Road\, Fingal Heads\, NSW\, 2487\, Australia
CATEGORIES:Juniors Sailing
END:VEVENT
BEGIN:VEVENT
DTSTART;TZID=Australia/Sydney:20240804T083000
DTEND;TZID=Australia/Sydney:20240804T110000
DTSTAMP:20260422T013957
CREATED:20240313T084317Z
LAST-MODIFIED:20240803T084516Z
UID:5735-1722760200-1722769200@www.tvsc.com.au
SUMMARY:Juniors - TBC
DESCRIPTION:Juniors – Please register beforehand by email.
URL:https://www.tvsc.com.au/event/juniors-tbc-19/
LOCATION:Tweed Valley Sailing Club\, Boat Park opposite the Sheaok Cafe\, Fingal Road\, Fingal Heads\, NSW\, 2487\, Australia
CATEGORIES:Juniors Sailing
END:VEVENT
BEGIN:VEVENT
DTSTART;TZID=Australia/Sydney:20240728T130000
DTEND;TZID=Australia/Sydney:20240728T153000
DTSTAMP:20260422T013957
CREATED:20240313T084300Z
LAST-MODIFIED:20240717T203229Z
UID:5728-1722171600-1722180600@www.tvsc.com.au
SUMMARY:Race 13 & 14 - Handicap - Winter Series
DESCRIPTION:Race Briefing at 12pm NSW Time.Race start 1pm NSW Time.
URL:https://www.tvsc.com.au/event/race-7-8-single-handed-champs-winter-series/
LOCATION:Tweed Valley Sailing Club\, Boat Park opposite the Sheaok Cafe\, Fingal Road\, Fingal Heads\, NSW\, 2487\, Australia
CATEGORIES:Race
END:VEVENT
BEGIN:VEVENT
DTSTART;TZID=Australia/Sydney:20240728T083000
DTEND;TZID=Australia/Sydney:20240728T110000
DTSTAMP:20260422T013957
CREATED:20240313T084301Z
LAST-MODIFIED:20240521T010848Z
UID:5729-1722155400-1722164400@www.tvsc.com.au
SUMMARY:Juniors
DESCRIPTION:Free for all Juniors with TVSC Junior Package Membership\nClub X3s\, MJs and Pacers are available\nSail-competent parents are encouraged to join in\nPlease Register each week
URL:https://www.tvsc.com.au/event/juniors-tbc-16/
LOCATION:Tweed Valley Sailing Club\, Boat Park opposite the Sheaok Cafe\, Fingal Road\, Fingal Heads\, NSW\, 2487\, Australia
CATEGORIES:Juniors Sailing
END:VEVENT
BEGIN:VEVENT
DTSTART;TZID=Australia/Sydney:20240721T083000
DTEND;TZID=Australia/Sydney:20240721T110000
DTSTAMP:20260422T013957
CREATED:20240716T061311Z
LAST-MODIFIED:20240716T061408Z
UID:5904-1721550600-1721559600@www.tvsc.com.au
SUMMARY:Juniors
DESCRIPTION:Free for all Juniors with TVSC Junior Package Membership\nClub X3s\, MJs and Pacers are available\nSail-competent parents are encouraged to join in\nPlease Register each week\nIf you’re not a member of our club\, then you must purchase a sail pass for the day\, from our Membership Page\nParents who’d like to sail may be able to sail too\, if you hire a boat\, then please use the Hire link on the website\, before the session\, to book/pay for the boat.
URL:https://www.tvsc.com.au/event/juniors-tbc-15-copy/
LOCATION:Tweed Valley Sailing Club\, Boat Park opposite the Sheaok Cafe\, Fingal Road\, Fingal Heads\, NSW\, 2487\, Australia
CATEGORIES:Juniors Sailing
END:VEVENT
BEGIN:VEVENT
DTSTART;TZID=Australia/Sydney:20240714T130000
DTEND;TZID=Australia/Sydney:20240714T153000
DTSTAMP:20260422T013957
CREATED:20240313T084259Z
LAST-MODIFIED:20240711T072819Z
UID:5726-1720962000-1720971000@www.tvsc.com.au
SUMMARY:Race 11 & 12 - Handicap - Winter Series
DESCRIPTION:Race Briefing at 12pm NSW Time.Race start 1pm NSW Time.
URL:https://www.tvsc.com.au/event/race-5-6-multi-handed-champs-winter-series/
LOCATION:Tweed Valley Sailing Club\, Boat Park opposite the Sheaok Cafe\, Fingal Road\, Fingal Heads\, NSW\, 2487\, Australia
CATEGORIES:Race
END:VEVENT
BEGIN:VEVENT
DTSTART;TZID=Australia/Sydney:20240714T083000
DTEND;TZID=Australia/Sydney:20240714T110000
DTSTAMP:20260422T013957
CREATED:20240313T084300Z
LAST-MODIFIED:20240711T072721Z
UID:5727-1720945800-1720954800@www.tvsc.com.au
SUMMARY:Juniors
DESCRIPTION:Free for all Juniors with TVSC Junior Package Membership\nClub X3s\, MJs and Pacers are available\nSail-competent parents are encouraged to join in\nPlease Register each week\nIf you’re not a member of our club\, then you must purchase a sail pass for the day\, from our Membership Page\nParents who’d like to sail may be able to sail too\, if you hire a boat\, then please use the Hire link on the website\, before the session\, to book/pay for the boat.
URL:https://www.tvsc.com.au/event/juniors-tbc-15/
LOCATION:Tweed Valley Sailing Club\, Boat Park opposite the Sheaok Cafe\, Fingal Road\, Fingal Heads\, NSW\, 2487\, Australia
CATEGORIES:Juniors Sailing
END:VEVENT
BEGIN:VEVENT
DTSTART;TZID=Australia/Sydney:20240708T083000
DTEND;TZID=Australia/Sydney:20240710T150000
DTSTAMP:20260422T013957
CREATED:20240517T035200Z
LAST-MODIFIED:20240527T051442Z
UID:5814-1720427400-1720623600@www.tvsc.com.au
SUMMARY:School Holiday Juniors Sailing Course
DESCRIPTION:8\,9\,10th July 2024 – 8.30am to 3.00pm \n\n\n\nFor Children 7-17yrs \n\n\n\nThe four day course will include: \n\n\n\n\nSafety\n\n\n\nWind and tide considerations\n\n\n\nBoat and Sail handling\n\n\n\nCapsize Drill\n\n\n\nUpwind and Downwind Sailing\n\n\n\nTacking and Gybing\n\n\n\n\nThe aim of this introductory course is for all participants to be able to steer (and crew) a sailing dinghy on all points of sailing in light to moderate conditions in sheltered waters. \n\n\n\nParticipants should be reasonably fit and be able to swim at least 25 metres. \n\n\n\nClub boats available: Six X3s\, Six 14’ Pacers\, two 16’ Corsairs and two Safety craft. Life Jackets provided. Other Club facilities are limited.   \n\n\n\nCost: $155 ( NSW Active Kids voucher may be used) – The cost includes TVSC Junior Package Membership for all Junior Sailing sessions until Sept 2025. \n\n\n\nMaximum numbers: 14 \n\n\n\nMore information is available on our juniors page or contact John Hayward on 041025497
URL:https://www.tvsc.com.au/event/school-holiday-juniors-sailing-course/
LOCATION:Tweed Valley Sailing Club\, Boat Park opposite the Sheaok Cafe\, Fingal Road\, Fingal Heads\, NSW\, 2487\, Australia
END:VEVENT
BEGIN:VEVENT
DTSTART;TZID=Australia/Sydney:20240630T130000
DTEND;TZID=Australia/Sydney:20240630T153000
DTSTAMP:20260422T013957
CREATED:20240313T084246Z
LAST-MODIFIED:20240509T104056Z
UID:5724-1719752400-1719761400@www.tvsc.com.au
SUMMARY:Race 9 & 10 - Handicap - Winter Series
DESCRIPTION:Race Briefing at 12pm NSW Time.Race start 1pm NSW Time.
URL:https://www.tvsc.com.au/event/race-5-6-single-handed-champs-winter-series/
LOCATION:Tweed Valley Sailing Club\, Boat Park opposite the Sheaok Cafe\, Fingal Road\, Fingal Heads\, NSW\, 2487\, Australia
CATEGORIES:Race
END:VEVENT
BEGIN:VEVENT
DTSTART;TZID=Australia/Sydney:20240630T083000
DTEND;TZID=Australia/Sydney:20240630T110000
DTSTAMP:20260422T013957
CREATED:20240313T084246Z
LAST-MODIFIED:20240521T010721Z
UID:5725-1719736200-1719745200@www.tvsc.com.au
SUMMARY:Juniors
DESCRIPTION:Free for all Juniors with TVSC Junior Package Membership\nClub X3s\, MJs and Pacers are available\nSail-competent parents are encouraged to join in\nPlease Register each week
URL:https://www.tvsc.com.au/event/juniors-tbc-14/
LOCATION:Tweed Valley Sailing Club\, Boat Park opposite the Sheaok Cafe\, Fingal Road\, Fingal Heads\, NSW\, 2487\, Australia
CATEGORIES:Juniors Sailing
END:VEVENT
BEGIN:VEVENT
DTSTART;TZID=Australia/Sydney:20240622T083000
DTEND;TZID=Australia/Sydney:20240623T150000
DTSTAMP:20260422T013957
CREATED:20240527T052111Z
LAST-MODIFIED:20240527T052426Z
UID:5863-1719045000-1719154800@www.tvsc.com.au
SUMMARY:Learn to Sail a Dinghy - Week 2 of 2
DESCRIPTION:The four-day course across two weekends will include: \n\n\n\n\nSafety\n\n\n\nWind and tide considerations\n\n\n\nBoat and Sail handling\n\n\n\nCapsize Drill\n\n\n\nUpwind and Downwind Sailing\n\n\n\nTacking and Gybing\n\n\n\n\n(The first weekend is on 15/16th of June\, you must register/attend that first week.) \n\n\n\nRegister Here \n\n\n\nThis introductory course aims for all participants to be able to steer (and crew) a sailing dinghy on all points of sailing in light to moderate conditions in sheltered waters. \n\n\n\nParticipants should be reasonably fit and be able to swim at least 25 metres. \n\n\n\nClub boats used: Six 14’ Pacers\, two 16’ Corsairs and two Safety craft. Life Jackets provided. Other Club facilities are limited.   \n\n\n\nCost: $290 \n\n\n\nMaximum numbers: 14 \n\n\n\nSome further information is available here. \n\n\n\nContact John Hayward 0431025497 if you have any questions.
URL:https://www.tvsc.com.au/event/learn-to-sail-a-dinghy-week-2-of-2/
LOCATION:Tweed Valley Sailing Club\, Boat Park opposite the Sheaok Cafe\, Fingal Road\, Fingal Heads\, NSW\, 2487\, Australia
END:VEVENT
BEGIN:VEVENT
DTSTART;TZID=Australia/Sydney:20240615T083000
DTEND;TZID=Australia/Sydney:20240616T150000
DTSTAMP:20260422T013957
CREATED:20240517T034920Z
LAST-MODIFIED:20240608T004531Z
UID:5809-1718440200-1718550000@www.tvsc.com.au
SUMMARY:Learn to Sail a Dinghy - Week 1 of 2
DESCRIPTION:The four-day course across two weekends will include: \n\n\n\n\nSafety\n\n\n\nWind and tide considerations\n\n\n\nBoat and Sail handling\n\n\n\nCapsize Drill\n\n\n\nUpwind and Downwind Sailing\n\n\n\nTacking and Gybing\n\n\n\n\n(The second weekend is on 22/23rd of June\, no separate registration is required) \n\n\n\nThis introductory course aims for all participants to be able to steer (and crew) a sailing dinghy on all points of sailing in light to moderate conditions in sheltered waters. \n\n\n\nParticipants should be reasonably fit and be able to swim at least 25 metres. \n\n\n\nClub boats used: Six 14’ Pacers\, two 16’ Corsairs and two Safety craft. Life Jackets provided. Other Club facilities are limited.   \n\n\n\nCost: $290 for adults\, Children 7-17 yrs $155 (junior fee includes Junior Membership Package) \n\n\n\nMaximum numbers: 14 \n\n\n\nRegister below. \n\n\n\nSome further information is available here. \n\n\n\nContact John Hayward 0431025497 if you have any questions.
URL:https://www.tvsc.com.au/event/learn-to-sail-a-dinghy/
LOCATION:Tweed Valley Sailing Club\, Boat Park opposite the Sheaok Cafe\, Fingal Road\, Fingal Heads\, NSW\, 2487\, Australia
END:VEVENT
BEGIN:VEVENT
DTSTART;TZID=Australia/Sydney:20240609T130000
DTEND;TZID=Australia/Sydney:20240609T153000
DTSTAMP:20260422T013957
CREATED:20240313T084245Z
LAST-MODIFIED:20240509T104046Z
UID:5722-1717938000-1717947000@www.tvsc.com.au
SUMMARY:Race 7 & 8 - Handicap - Winter Series
DESCRIPTION:Race Briefing at 12pm NSW Time.Race start 1pm NSW Time.
URL:https://www.tvsc.com.au/event/race-3-4-multi-handed-champs-winter-series/
LOCATION:Tweed Valley Sailing Club\, Boat Park opposite the Sheaok Cafe\, Fingal Road\, Fingal Heads\, NSW\, 2487\, Australia
CATEGORIES:Race
END:VEVENT
BEGIN:VEVENT
DTSTART;TZID=Australia/Sydney:20240609T083000
DTEND;TZID=Australia/Sydney:20240609T110000
DTSTAMP:20260422T013957
CREATED:20240313T084245Z
LAST-MODIFIED:20240527T075252Z
UID:5723-1717921800-1717930800@www.tvsc.com.au
SUMMARY:Juniors
DESCRIPTION:Free for all Juniors with TVSC Junior Package Membership\nClub X3s\, MJs and Pacers are available\nSail-competent parents are encouraged to join in\nPlease Register each week\nIf you’re not a member of our club\, then you must purchase a sail pass for the day\, from our Membership Page\nParents who’d like to sail may be able to sail too\, if you hire a boat\, then please use the Hire link on the website\, before the session\, to book/pay for the boat.
URL:https://www.tvsc.com.au/event/juniors-tbc-13/
LOCATION:Tweed Valley Sailing Club\, Boat Park opposite the Sheaok Cafe\, Fingal Road\, Fingal Heads\, NSW\, 2487\, Australia
CATEGORIES:Juniors Sailing
END:VEVENT
BEGIN:VEVENT
DTSTART;TZID=Australia/Sydney:20240602T083000
DTEND;TZID=Australia/Sydney:20240602T110000
DTSTAMP:20260422T013957
CREATED:20240527T075009Z
LAST-MODIFIED:20240527T075126Z
UID:5867-1717317000-1717326000@www.tvsc.com.au
SUMMARY:Juniors
DESCRIPTION:Free for all Juniors with TVSC Junior Package Membership\nClub X3s\, MJs and Pacers available\nSail competent parents encouraged to join in\nPlease Register each week\nIf you’re not a member of our club\, then you must purchase a sail pass for the day\, from our Membership Page\nParents who’d like to sail may be able to sail too\, if you hire a boat\, then please use the Hire link on the website\, before the session\, to book/pay for the boat.
URL:https://www.tvsc.com.au/event/juniors-tbc-12-copy/
LOCATION:Tweed Valley Sailing Club\, Boat Park opposite the Sheaok Cafe\, Fingal Road\, Fingal Heads\, NSW\, 2487\, Australia
CATEGORIES:Juniors Sailing
END:VEVENT
BEGIN:VEVENT
DTSTART;TZID=Australia/Sydney:20240526T130000
DTEND;TZID=Australia/Sydney:20240526T153000
DTSTAMP:20260422T013957
CREATED:20240313T084242Z
LAST-MODIFIED:20240509T104017Z
UID:5720-1716728400-1716737400@www.tvsc.com.au
SUMMARY:Race 5 & 6 - Handicap - Winter Series
DESCRIPTION:Race Briefing at 12pm NSW Time.Race start 1pm NSW Time.
URL:https://www.tvsc.com.au/event/race-3-4-single-handed-champs-winter-series/
LOCATION:Tweed Valley Sailing Club\, Boat Park opposite the Sheaok Cafe\, Fingal Road\, Fingal Heads\, NSW\, 2487\, Australia
CATEGORIES:Race
END:VEVENT
BEGIN:VEVENT
DTSTART;TZID=Australia/Sydney:20240526T083000
DTEND;TZID=Australia/Sydney:20240526T110000
DTSTAMP:20260422T013957
CREATED:20240313T084244Z
LAST-MODIFIED:20240527T051148Z
UID:5721-1716712200-1716721200@www.tvsc.com.au
SUMMARY:Juniors
DESCRIPTION:Free for all Juniors with TVSC Junior Package Membership\nClub X3s\, MJs and Pacers available\nSail competent parents encouraged to join in\nPlease Register each week\nIf you’re not a member of our club\, then you must purchase a sail pass for the day\, from our Membership Page\nParents who’d like to sail may be able to sail too\, if you hire a boat\, then please use the Hire link on the website\, before the session\, to book/pay for the boat.
URL:https://www.tvsc.com.au/event/juniors-tbc-12/
LOCATION:Tweed Valley Sailing Club\, Boat Park opposite the Sheaok Cafe\, Fingal Road\, Fingal Heads\, NSW\, 2487\, Australia
CATEGORIES:Juniors Sailing
END:VEVENT
BEGIN:VEVENT
DTSTART;TZID=Australia/Sydney:20240512T130000
DTEND;TZID=Australia/Sydney:20240512T153000
DTSTAMP:20260422T013957
CREATED:20240313T084241Z
LAST-MODIFIED:20240512T004016Z
UID:5718-1715518800-1715527800@www.tvsc.com.au
SUMMARY:Race 3 & 4 - Handicap - Winter Series - Potentially Postponed (Weather)
DESCRIPTION:Race Briefing at 12pm NSW Time.Race start 1pm NSW Time.
URL:https://www.tvsc.com.au/event/race-1-2-multi-handed-champs-winter-series/
LOCATION:Tweed Valley Sailing Club\, Boat Park opposite the Sheaok Cafe\, Fingal Road\, Fingal Heads\, NSW\, 2487\, Australia
CATEGORIES:Race
END:VEVENT
BEGIN:VEVENT
DTSTART;TZID=Australia/Sydney:20240512T083000
DTEND;TZID=Australia/Sydney:20240512T113000
DTSTAMP:20260422T013957
CREATED:20240313T084242Z
LAST-MODIFIED:20240511T110235Z
UID:5719-1715502600-1715513400@www.tvsc.com.au
SUMMARY:Juniors -Cancelled
DESCRIPTION:Juniors – Please register beforehand. \nFor parents who would like to sail\, boat registration will be $15; for juniors\, it is $5.  Please pay in advance after registering. \nJuniors with the juniors package do not need to make any payment.
URL:https://www.tvsc.com.au/event/juniors-tbc-11/
LOCATION:Tweed Valley Sailing Club\, Boat Park opposite the Sheaok Cafe\, Fingal Road\, Fingal Heads\, NSW\, 2487\, Australia
CATEGORIES:Juniors Sailing
END:VEVENT
BEGIN:VEVENT
DTSTART;TZID=Australia/Sydney:20240428T073000
DTEND;TZID=Australia/Sydney:20240428T170000
DTSTAMP:20260422T013957
CREATED:20240319T025109Z
LAST-MODIFIED:20240319T025116Z
UID:5740-1714289400-1714323600@www.tvsc.com.au
SUMMARY:Bunnings BBQ
DESCRIPTION:We’re running the Bunnings BBQ at the Tweed Heads Bunnings.  The more volunteers\, the better.   \n\n\n\nPlease put your name down on the Roster\, where you can help out. \n\n\n\nRoster
URL:https://www.tvsc.com.au/event/bunnings-bbq-5/
LOCATION:NSW
END:VEVENT
BEGIN:VEVENT
DTSTART;TZID=Australia/Sydney:20240427T130000
DTEND;TZID=Australia/Sydney:20240427T153000
DTSTAMP:20260422T013957
CREATED:20240313T084240Z
LAST-MODIFIED:20240404T034544Z
UID:5716-1714222800-1714231800@www.tvsc.com.au
SUMMARY:Race 1 & 2 - Single Handed Champs - Winter Series
DESCRIPTION:Race Briefing at 12pm NSW Time.\nRace start 1pm NSW Time.
URL:https://www.tvsc.com.au/event/race-1-2-single-handed-champs-winter-series/
LOCATION:Tweed Valley Sailing Club\, Boat Park opposite the Sheaok Cafe\, Fingal Road\, Fingal Heads\, NSW\, 2487\, Australia
CATEGORIES:Race
END:VEVENT
BEGIN:VEVENT
DTSTART;TZID=Australia/Sydney:20240427T083000
DTEND;TZID=Australia/Sydney:20240427T110000
DTSTAMP:20260422T013957
CREATED:20240313T084241Z
LAST-MODIFIED:20240404T034810Z
UID:5717-1714206600-1714215600@www.tvsc.com.au
SUMMARY:Juniors - TBC
DESCRIPTION:Juniors – Please register beforehand by email.
URL:https://www.tvsc.com.au/event/juniors-tbc-10/
LOCATION:Tweed Valley Sailing Club\, Boat Park opposite the Sheaok Cafe\, Fingal Road\, Fingal Heads\, NSW\, 2487\, Australia
CATEGORIES:Juniors Sailing
END:VEVENT
BEGIN:VEVENT
DTSTART;TZID=Australia/Sydney:20240414T130000
DTEND;TZID=Australia/Sydney:20240414T153000
DTSTAMP:20260422T013957
CREATED:20230906T002657Z
LAST-MODIFIED:20240410T225648Z
UID:5477-1713099600-1713108600@www.tvsc.com.au
SUMMARY:Final Day Picnic and Fun Sail
DESCRIPTION:Final Race Day – Play Day/Picnic.
URL:https://www.tvsc.com.au/event/final-day-picnic-2/
LOCATION:Tweed Valley Sailing Club\, Boat Park opposite the Sheaok Cafe\, Fingal Road\, Fingal Heads\, NSW\, 2487\, Australia
CATEGORIES:Race
END:VEVENT
END:VCALENDAR