BEGIN:VCALENDAR
VERSION:2.0
PRODID:-//Tweed Valley Sailing Club - ECPv6.15.17//NONSGML v1.0//EN
CALSCALE:GREGORIAN
METHOD:PUBLISH
X-WR-CALNAME:Tweed Valley Sailing Club
X-ORIGINAL-URL:https://www.tvsc.com.au
X-WR-CALDESC:Events for Tweed Valley Sailing Club
REFRESH-INTERVAL;VALUE=DURATION:PT1H
X-Robots-Tag:noindex
X-PUBLISHED-TTL:PT1H
BEGIN:VTIMEZONE
TZID:Australia/Sydney
BEGIN:STANDARD
TZOFFSETFROM:+1100
TZOFFSETTO:+1000
TZNAME:AEST
DTSTART:20220402T160000
END:STANDARD
BEGIN:DAYLIGHT
TZOFFSETFROM:+1000
TZOFFSETTO:+1100
TZNAME:AEDT
DTSTART:20221001T160000
END:DAYLIGHT
BEGIN:STANDARD
TZOFFSETFROM:+1100
TZOFFSETTO:+1000
TZNAME:AEST
DTSTART:20230401T160000
END:STANDARD
BEGIN:DAYLIGHT
TZOFFSETFROM:+1000
TZOFFSETTO:+1100
TZNAME:AEDT
DTSTART:20230930T160000
END:DAYLIGHT
BEGIN:STANDARD
TZOFFSETFROM:+1100
TZOFFSETTO:+1000
TZNAME:AEST
DTSTART:20240406T160000
END:STANDARD
BEGIN:DAYLIGHT
TZOFFSETFROM:+1000
TZOFFSETTO:+1100
TZNAME:AEDT
DTSTART:20241005T160000
END:DAYLIGHT
END:VTIMEZONE
BEGIN:VTIMEZONE
TZID:Australia/Brisbane
BEGIN:STANDARD
TZOFFSETFROM:+1000
TZOFFSETTO:+1000
TZNAME:AEST
DTSTART:20220101T000000
END:STANDARD
END:VTIMEZONE
BEGIN:VEVENT
DTSTART;TZID=Australia/Sydney:20230917T130000
DTEND;TZID=Australia/Sydney:20230917T153000
DTSTAMP:20260422T053609
CREATED:20230305T225630Z
LAST-MODIFIED:20230905T234611Z
UID:5227-1694955600-1694964600@www.tvsc.com.au
SUMMARY:Winter Racing
DESCRIPTION:Race day for our Winter 2023 Season. Briefing at Midday\, racing from 1pm. Boat registration will be here\, a few days from before the event. Juniors are encouraged to race\, they’ll have their own shorter course. A sausage sizzle and results will be done after we’re all packed away on each day. Roster is here.  On Sunday\, if you’d be interested in crewing (no experience necessary) then please fill in this form. A skipper may get in touch with you. Or come along on the day (the earlier the better) to see if you can find a ride. Details on what to bring are here.  Skippers\, your list of the available crew is here. For members\, we have Pacers/Lasers/Corsairs available for hire.  If you hire a boat\, you’ll need to both hire the the boat and register your entry as a skipper.
URL:https://www.tvsc.com.au/event/winter-racing-19/
LOCATION:Tweed Valley Sailing Club\, Boat Park opposite the Sheaok Cafe\, Fingal Road\, Fingal Heads\, NSW\, 2487\, Australia
CATEGORIES:Race
END:VEVENT
BEGIN:VEVENT
DTSTART;TZID=Australia/Sydney:20230903T130000
DTEND;TZID=Australia/Sydney:20230903T153000
DTSTAMP:20260422T053609
CREATED:20230305T225630Z
LAST-MODIFIED:20230305T225630Z
UID:5226-1693746000-1693755000@www.tvsc.com.au
SUMMARY:Winter Racing
DESCRIPTION:Race day for our Winter 2023 Season. \nBriefing at Midday\, racing from 1pm. \nBoat registration will be here\, a few days from before the event. \nJuniors are encouraged to race\, they’ll have their own shorter course. \nA sausage sizzle and results will be done after we’re all packed away on each day. \nRoster is here.  \nOn Sunday\, if you’d be interested in crewing (no experience necessary) then please fill in this form. A skipper may get in touch with you. Or come along on the day (the earlier the better) to see if you can find a ride. Details on what to bring are here.  Skippers\, your list of the available crew is here. \nFor members\, we have Pacers/Lasers/Corsairs available for hire.  If you hire a boat\, you’ll need to both hire the the boat and register your entry as a skipper.
URL:https://www.tvsc.com.au/event/winter-racing-18/
LOCATION:Tweed Valley Sailing Club\, Boat Park opposite the Sheaok Cafe\, Fingal Road\, Fingal Heads\, NSW\, 2487\, Australia
CATEGORIES:Race
END:VEVENT
BEGIN:VEVENT
DTSTART;TZID=Australia/Sydney:20230902T090000
DTEND;TZID=Australia/Sydney:20230902T133000
DTSTAMP:20260422T053609
CREATED:20230728T014246Z
LAST-MODIFIED:20230728T014247Z
UID:5425-1693645200-1693661400@www.tvsc.com.au
SUMMARY:Working Bee
DESCRIPTION:TO DO LISTCONTAINER. OutsideSORT OUT LOCK ON DOUBLE DOORCHECK ROOF LEAVES/RUSTPAVERS have pavers\, need gravel or cracker dustInsideSAIL LOFT DIVIDERS\, have ply and bracketsSORT OUT SAILS INCLUDING MJ’s IN THE BOXESPLYWOOD BENCH TOP. 1145×550 not importantSHOES\, PFDPUT UP PERGOLAS AND CHECK FOR LOOSE AND BROKEN FASTENINGS.DUMP BROKEN OR STUFF WE DON’T NEED.X3 TRAILERCHECK TYRES\, DRAWBAR\, LIGHTS pre RWC. Run it round the car park or up the road to makesure it runs OK.X3’sFREE SEIZED DOLLY WHEEL\, REPLACE WHEEL WITH FLAT TYRE WITH NEW SOLID WHEELNeed to get wheel\, will ring and make sure one in stock..PLASTIC HOOK FOR DOOR RETAINER\, may be on the side grille.LOOK OVER ALL RIGGING FOR DEFECTS/FRAYINGCAPERSpTOE STRAPS\, got to source\, CHECK RIGGING/ SAILS\,CLEAN HULL\, PUMP UP TYRESDOLLY per CraigPACERSCLEAN HULLSMATCH UP AND MARK SO EVERYTHING STAYS WITH THE SAME BOATS.MAKE SURE WE ONLY HAVE ONE NUMBER 2\, CONSIDER NAMING COMPETITION.TOW RING BY FRONT STAY\, TELESCOPIC PADDLES\, on order.NEW VENTURI (s) on Jumping Joey?new one in the Pacer boxNEW AXLE AND SOLID WHEELS ON DOLLY WITH NARROW WHEELS.Need to get axle \, have 2 wheels.[Kate].
URL:https://www.tvsc.com.au/event/working-bee-2/
LOCATION:Tweed Valley Sailing Club\, Boat Park opposite the Sheaok Cafe\, Fingal Road\, Fingal Heads\, NSW\, 2487\, Australia
END:VEVENT
BEGIN:VEVENT
DTSTART;TZID=Australia/Sydney:20230820T130000
DTEND;TZID=Australia/Sydney:20230820T153000
DTSTAMP:20260422T053609
CREATED:20230305T225629Z
LAST-MODIFIED:20230305T225629Z
UID:5225-1692536400-1692545400@www.tvsc.com.au
SUMMARY:Winter Racing
DESCRIPTION:Race day for our Winter 2023 Season. \nBriefing at Midday\, racing from 1pm. \nBoat registration will be here\, a few days from before the event. \nJuniors are encouraged to race\, they’ll have their own shorter course. \nA sausage sizzle and results will be done after we’re all packed away on each day. \nRoster is here.  \nOn Sunday\, if you’d be interested in crewing (no experience necessary) then please fill in this form. A skipper may get in touch with you. Or come along on the day (the earlier the better) to see if you can find a ride. Details on what to bring are here.  Skippers\, your list of the available crew is here. \nFor members\, we have Pacers/Lasers/Corsairs available for hire.  If you hire a boat\, you’ll need to both hire the the boat and register your entry as a skipper.
URL:https://www.tvsc.com.au/event/winter-racing-17/
LOCATION:Tweed Valley Sailing Club\, Boat Park opposite the Sheaok Cafe\, Fingal Road\, Fingal Heads\, NSW\, 2487\, Australia
CATEGORIES:Race
END:VEVENT
BEGIN:VEVENT
DTSTART;TZID=Australia/Sydney:20230820T083000
DTEND;TZID=Australia/Sydney:20230820T113000
DTSTAMP:20260422T053609
CREATED:20230816T061848Z
LAST-MODIFIED:20230816T073628Z
UID:5429-1692520200-1692531000@www.tvsc.com.au
SUMMARY:Junior's Fun Sail
DESCRIPTION:Junior Sailing is back on each Sunday morning until further notice. \n\n\n\nOpen to all Junior Members (new members welcome 7-17yrs).  \n\n\n\nBoats available: X3s\, Manly Juniors\, Pacers\, or bring your own boat! \n\n\n\nPlease register  here\,
URL:https://www.tvsc.com.au/event/juniors-fun-sail/
LOCATION:NSW
END:VEVENT
BEGIN:VEVENT
DTSTART;TZID=Australia/Sydney:20230813T080000
DTEND;TZID=Australia/Sydney:20230813T160000
DTSTAMP:20260422T053609
CREATED:20230306T002344Z
LAST-MODIFIED:20230712T013253Z
UID:5240-1691913600-1691942400@www.tvsc.com.au
SUMMARY:2023 Tumbulgum Passage Race
DESCRIPTION:New start location: 8599 Tweed Valley Way\, Tumbulgum\, NSW \n\n\n\nThis iconic race is back! Long race of approximately 20 kms. High tide at 8:47 am (1.09m) at Tumbulgum. Race briefing at 9 am\, start of race at 9:45 am. \n\n\n\nLocation open for rigging on the day only from 6:30 am onwards. No cars or gear are to be left on the property (it’s a private property) for the duration of the day. We need to leave the property as we found it soon after the race starts. \n\n\n\nDinghy owners will have to organise to have their cars and trailers back at finish at Fingal Boat Harbour\, Fingal Road\, Fingal. \n\n\n\nCar pooling should leave from Fingal no later than 8:30 am to get back for briefing at 9 am at 8599 Tweed Valley Way. \n\n\n\nBacon and Egg Rolls available for sale before the start\, and Presentation with Sausage Sizzle will be held as soon as practical at clubhouse after finish. \n\n\n\nFee entry only $25.00 per boat\, with safety boats along the course to provide assistance. \n\n\n\nTo register click here \n\n\n\nAny enquires can be directed to Bryan Townsend\, Commodore\, 0431 229 512.
URL:https://www.tvsc.com.au/event/2023-tumbulgum-passage-race/
LOCATION:Tweed Valley Sailing Club\, Boat Park opposite the Sheaok Cafe\, Fingal Road\, Fingal Heads\, NSW\, 2487\, Australia
CATEGORIES:Race
END:VEVENT
BEGIN:VEVENT
DTSTART;TZID=Australia/Sydney:20230806T130000
DTEND;TZID=Australia/Sydney:20230806T153000
DTSTAMP:20260422T053609
CREATED:20230305T225629Z
LAST-MODIFIED:20230712T012937Z
UID:5224-1691326800-1691335800@www.tvsc.com.au
SUMMARY:Winter Racing (cancelled)
DESCRIPTION:Cancelled due to waterskiing event on the river.
URL:https://www.tvsc.com.au/event/winter-racing-16/
LOCATION:Tweed Valley Sailing Club\, Boat Park opposite the Sheaok Cafe\, Fingal Road\, Fingal Heads\, NSW\, 2487\, Australia
CATEGORIES:Race
END:VEVENT
BEGIN:VEVENT
DTSTART;TZID=Australia/Brisbane:20230729T000000
DTEND;TZID=Australia/Brisbane:20230730T235959
DTSTAMP:20260422T053609
CREATED:20230305T225718Z
LAST-MODIFIED:20230305T225718Z
UID:5235-1690588800-1690761599@www.tvsc.com.au
SUMMARY:Winter Bash Regatta
DESCRIPTION:Winter Bash Regatta
URL:https://www.tvsc.com.au/event/winter-bash-regatta/
LOCATION:Humpybong Yacht Club\, Qld\, Australia
CATEGORIES:Away Event
END:VEVENT
BEGIN:VEVENT
DTSTART;TZID=Australia/Sydney:20230723T130000
DTEND;TZID=Australia/Sydney:20230723T153000
DTSTAMP:20260422T053609
CREATED:20230305T225629Z
LAST-MODIFIED:20230305T225629Z
UID:5223-1690117200-1690126200@www.tvsc.com.au
SUMMARY:Winter Racing
DESCRIPTION:Race day for our Winter 2023 Season. \nBriefing at Midday\, racing from 1pm. \nBoat registration will be here\, a few days from before the event. \nJuniors are encouraged to race\, they’ll have their own shorter course. \nA sausage sizzle and results will be done after we’re all packed away on each day. \nRoster is here.  \nOn Sunday\, if you’d be interested in crewing (no experience necessary) then please fill in this form. A skipper may get in touch with you. Or come along on the day (the earlier the better) to see if you can find a ride. Details on what to bring are here.  Skippers\, your list of the available crew is here. \nFor members\, we have Pacers/Lasers/Corsairs available for hire.  If you hire a boat\, you’ll need to both hire the the boat and register your entry as a skipper.
URL:https://www.tvsc.com.au/event/winter-racing-15/
LOCATION:Tweed Valley Sailing Club\, Boat Park opposite the Sheaok Cafe\, Fingal Road\, Fingal Heads\, NSW\, 2487\, Australia
CATEGORIES:Race
END:VEVENT
BEGIN:VEVENT
DTSTART;TZID=Australia/Sydney:20230716T083000
DTEND;TZID=Australia/Sydney:20230716T120000
DTSTAMP:20260422T053609
CREATED:20230711T071217Z
LAST-MODIFIED:20230712T013410Z
UID:5399-1689496200-1689508800@www.tvsc.com.au
SUMMARY:Juniors Sailing
DESCRIPTION:https://www.revolutionise.com.au/tweedvalleysc/events/195693/
URL:https://www.tvsc.com.au/event/juniors-sailing-18/
LOCATION:NSW
CATEGORIES:Juniors Sailing
END:VEVENT
BEGIN:VEVENT
DTSTART;TZID=Australia/Brisbane:20230707T000000
DTEND;TZID=Australia/Brisbane:20230710T235959
DTSTAMP:20260422T053609
CREATED:20230305T225717Z
LAST-MODIFIED:20230305T225717Z
UID:5234-1688688000-1689033599@www.tvsc.com.au
SUMMARY:South Pacific Laser Masters
DESCRIPTION:South Pacific Laser Masters
URL:https://www.tvsc.com.au/event/south-pacific-laser-masters/
LOCATION:Royal Queensland Yacht Squadron\, 578 Royal Esplanade\, Manly\, Qld\, 4179\, Australia
CATEGORIES:Away Event
END:VEVENT
BEGIN:VEVENT
DTSTART;TZID=Australia/Sydney:20230703T083000
DTEND;TZID=Australia/Sydney:20230705T153000
DTSTAMP:20260422T053609
CREATED:20230606T042102Z
LAST-MODIFIED:20230712T013410Z
UID:5335-1688373000-1688571000@www.tvsc.com.au
SUMMARY:July School Holiday Sailing Course
DESCRIPTION:This 3 day Sailing Course (8.30am – 3.30pm each day) is open to School Children aged between 7-15yrs. The aim is to give kids an introduction to sailing on our River in a fun and safe environment. \n\n\n\nNumbers will be limited so book in early! \n\n\n\nCost: $60 for 3 days. \n\n\n\nChildren must be able to swim 25 metres\, (although we hope not to get too wet) and have lunch to eat each day during lunch break. \n\n\n\nRescue boats\, sailing boats and lifejackets will be provided. \n\n\n\nChildren should wear swimmers\, shorts\, warm thermal T shirt (or similar woolen jumper)\, shoes to get wet and spray jacket. Wet suit etc optional. Have warm dry clothes to change into. \n\n\n\nInstructors will be qualified Aust. Sailing Instructors as well as experienced Club sailors\, who all volunteer their time. \n\n\n\nIt would be appreciated if parents could assist with boat handling at the beginning and end of sailing each day.  \n\n\n\nCheers\, \n\n\n\nJohn Hayward\, Instructor \n\n\n\n0431 025 497
URL:https://www.tvsc.com.au/event/july-school-holiday-sailing-course/
LOCATION:Tweed Valley Sailing Club\, Boat Park opposite the Sheaok Cafe\, Fingal Road\, Fingal Heads\, NSW\, 2487\, Australia
CATEGORIES:Juniors Sailing
END:VEVENT
BEGIN:VEVENT
DTSTART;TZID=Australia/Sydney:20230625T130000
DTEND;TZID=Australia/Sydney:20230625T153000
DTSTAMP:20260422T053609
CREATED:20230305T225628Z
LAST-MODIFIED:20230305T225628Z
UID:5222-1687698000-1687707000@www.tvsc.com.au
SUMMARY:Winter Racing
DESCRIPTION:Race day for our Winter 2023 Season. \nBriefing at Midday\, racing from 1pm. \nBoat registration will be here\, a few days from before the event. \nJuniors are encouraged to race\, they’ll have their own shorter course. \nA sausage sizzle and results will be done after we’re all packed away on each day. \nRoster is here.  \nOn Sunday\, if you’d be interested in crewing (no experience necessary) then please fill in this form. A skipper may get in touch with you. Or come along on the day (the earlier the better) to see if you can find a ride. Details on what to bring are here.  Skippers\, your list of the available crew is here. \nFor members\, we have Pacers/Lasers/Corsairs available for hire.  If you hire a boat\, you’ll need to both hire the the boat and register your entry as a skipper.
URL:https://www.tvsc.com.au/event/winter-racing-14/
LOCATION:Tweed Valley Sailing Club\, Boat Park opposite the Sheaok Cafe\, Fingal Road\, Fingal Heads\, NSW\, 2487\, Australia
CATEGORIES:Race
END:VEVENT
BEGIN:VEVENT
DTSTART;TZID=Australia/Sydney:20230611T130000
DTEND;TZID=Australia/Sydney:20230611T153000
DTSTAMP:20260422T053609
CREATED:20230305T225627Z
LAST-MODIFIED:20230305T225627Z
UID:5221-1686488400-1686497400@www.tvsc.com.au
SUMMARY:Winter Racing
DESCRIPTION:Race day for our Winter 2023 Season. \nBriefing at Midday\, racing from 1pm. \nBoat registration will be here\, a few days from before the event. \nJuniors are encouraged to race\, they’ll have their own shorter course. \nA sausage sizzle and results will be done after we’re all packed away on each day. \nRoster is here.  \nOn Sunday\, if you’d be interested in crewing (no experience necessary) then please fill in this form. A skipper may get in touch with you. Or come along on the day (the earlier the better) to see if you can find a ride. Details on what to bring are here.  Skippers\, your list of the available crew is here. \nFor members\, we have Pacers/Lasers/Corsairs available for hire.  If you hire a boat\, you’ll need to both hire the the boat and register your entry as a skipper.
URL:https://www.tvsc.com.au/event/winter-racing-13/
LOCATION:Tweed Valley Sailing Club\, Boat Park opposite the Sheaok Cafe\, Fingal Road\, Fingal Heads\, NSW\, 2487\, Australia
CATEGORIES:Race
END:VEVENT
BEGIN:VEVENT
DTSTART;TZID=Australia/Sydney:20230528T130000
DTEND;TZID=Australia/Sydney:20230528T153000
DTSTAMP:20260422T053609
CREATED:20230305T225627Z
LAST-MODIFIED:20230524T071141Z
UID:5220-1685278800-1685287800@www.tvsc.com.au
SUMMARY:Winter Racing
DESCRIPTION:Race day for our Winter 2023 Season. Briefing at Midday\, racing from 1pm. Boat registration will be here\, a few days from before the event. Juniors are encouraged to race\, they’ll have their own shorter course. A sausage sizzle and results will be done after we’re all packed away on each day. Roster is here.  On Sunday\, if you’d be interested in crewing (no experience necessary) then please fill in this form. A skipper may get in touch with you. Or come along on the day (the earlier the better) to see if you can find a ride. Details on what to bring are here.  Skippers\, your list of the available crew is here. For members\, we have Pacers/Lasers/Corsairs available for hire.  If you hire a boat\, you’ll need to both hire the the boat and register your entry as a skipper.
URL:https://www.tvsc.com.au/event/winter-racing-12/
LOCATION:Tweed Valley Sailing Club\, Boat Park opposite the Sheaok Cafe\, Fingal Road\, Fingal Heads\, NSW\, 2487\, Australia
CATEGORIES:Race
END:VEVENT
BEGIN:VEVENT
DTSTART;TZID=Australia/Brisbane:20230527T000000
DTEND;TZID=Australia/Brisbane:20230528T235959
DTSTAMP:20260422T053609
CREATED:20230305T225717Z
LAST-MODIFIED:20230305T225717Z
UID:5233-1685145600-1685318399@www.tvsc.com.au
SUMMARY:Women and Girls Sailing Regatta
DESCRIPTION:Women and Girls Sailing Regatta
URL:https://www.tvsc.com.au/event/women-and-girls-sailing-regatta/
LOCATION:Humpybong Yacht Club\, Qld\, Australia
CATEGORIES:Away Event
END:VEVENT
BEGIN:VEVENT
DTSTART;TZID=Australia/Sydney:20230520T070000
DTEND;TZID=Australia/Sydney:20230520T150000
DTSTAMP:20260422T053609
CREATED:20230322T005633Z
LAST-MODIFIED:20230322T005655Z
UID:5262-1684566000-1684594800@www.tvsc.com.au
SUMMARY:Bunnings BBQ
DESCRIPTION:Fundraiser at the Tweed Heads Bunnings
URL:https://www.tvsc.com.au/event/bunnings-bbq-4/
LOCATION:NSW
END:VEVENT
BEGIN:VEVENT
DTSTART;TZID=Australia/Sydney:20230514T130000
DTEND;TZID=Australia/Sydney:20230514T153000
DTSTAMP:20260422T053609
CREATED:20230305T225627Z
LAST-MODIFIED:20230305T225627Z
UID:5219-1684069200-1684078200@www.tvsc.com.au
SUMMARY:Winter Racing
DESCRIPTION:Race day for our Winter 2023 Season. \nBriefing at Midday\, racing from 1pm. \nBoat registration will be here\, a few days from before the event. \nJuniors are encouraged to race\, they’ll have their own shorter course. \nA sausage sizzle and results will be done after we’re all packed away on each day. \nRoster is here.  \nOn Sunday\, if you’d be interested in crewing (no experience necessary) then please fill in this form. A skipper may get in touch with you. Or come along on the day (the earlier the better) to see if you can find a ride. Details on what to bring are here.  Skippers\, your list of the available crew is here. \nFor members\, we have Pacers/Lasers/Corsairs available for hire.  If you hire a boat\, you’ll need to both hire the the boat and register your entry as a skipper.
URL:https://www.tvsc.com.au/event/winter-racing-11/
LOCATION:Tweed Valley Sailing Club\, Boat Park opposite the Sheaok Cafe\, Fingal Road\, Fingal Heads\, NSW\, 2487\, Australia
CATEGORIES:Race
END:VEVENT
BEGIN:VEVENT
DTSTART;TZID=Australia/Sydney:20230513T140000
DTEND;TZID=Australia/Sydney:20230513T170000
DTSTAMP:20260422T053609
CREATED:20230328T081349Z
LAST-MODIFIED:20230423T221949Z
UID:5291-1683986400-1683997200@www.tvsc.com.au
SUMMARY:Summer Presentation
DESCRIPTION:Summer Presentation day at the club\, please use this link to RSVP. \n\n\n\nThere will be a choice of loaded hamburgers (beef\, chicken or vegetarian) available for sale @ $5.00 each.  \n\n\n\nWhere:  Clubhouse\, Fingal \n\n\n\nWhat to bring:  Chair or picnic rug to sit on\, plus BYO drinks.  Soft drinks will be available for sale.   \n\n\n\nBring your musical instrument to have a “jam” session as the sun goes down.   \n\n\n\nPLEASE RSVP below before 10 May 2023:
URL:https://www.tvsc.com.au/event/summer-presentation/
LOCATION:Tweed Valley Sailing Club\, Boat Park opposite the Sheaok Cafe\, Fingal Road\, Fingal Heads\, NSW\, 2487\, Australia
END:VEVENT
BEGIN:VEVENT
DTSTART;TZID=Australia/Sydney:20230430T130000
DTEND;TZID=Australia/Sydney:20230430T153000
DTSTAMP:20260422T053609
CREATED:20230305T225627Z
LAST-MODIFIED:20230305T225627Z
UID:5218-1682859600-1682868600@www.tvsc.com.au
SUMMARY:Winter Racing
DESCRIPTION:Race day for our Winter 2023 Season. \nBriefing at Midday\, racing from 1pm. \nBoat registration will be here\, a few days from before the event. \nJuniors are encouraged to race\, they’ll have their own shorter course. \nA sausage sizzle and results will be done after we’re all packed away on each day. \nRoster is here.  \nOn Sunday\, if you’d be interested in crewing (no experience necessary) then please fill in this form. A skipper may get in touch with you. Or come along on the day (the earlier the better) to see if you can find a ride. Details on what to bring are here.  Skippers\, your list of the available crew is here. \nFor members\, we have Pacers/Lasers/Corsairs available for hire.  If you hire a boat\, you’ll need to both hire the the boat and register your entry as a skipper.
URL:https://www.tvsc.com.au/event/winter-racing-10/
LOCATION:Tweed Valley Sailing Club\, Boat Park opposite the Sheaok Cafe\, Fingal Road\, Fingal Heads\, NSW\, 2487\, Australia
CATEGORIES:Race
END:VEVENT
BEGIN:VEVENT
DTSTART;TZID=Australia/Brisbane:20230429T000000
DTEND;TZID=Australia/Brisbane:20230430T235959
DTSTAMP:20260422T053609
CREATED:20230305T225645Z
LAST-MODIFIED:20230305T225645Z
UID:5232-1682726400-1682899199@www.tvsc.com.au
SUMMARY:QLD Laser State Titles
DESCRIPTION:Queensland Laser State Titles at Humpybong Yacht Club. \nCamping available as usual at the club on the water for free\, club selling breakfast and lunch\, and pub & coffee across the road. What’s not to like?
URL:https://www.tvsc.com.au/event/qld-laser-state-titles/
LOCATION:Humpybong Yacht Club\, Qld\, Australia
CATEGORIES:Away Event
END:VEVENT
BEGIN:VEVENT
DTSTART;TZID=Australia/Brisbane:20230429T000000
DTEND;TZID=Australia/Brisbane:20230430T235959
DTSTAMP:20260422T053609
CREATED:20230305T225645Z
LAST-MODIFIED:20230305T225645Z
UID:5229-1682726400-1682899199@www.tvsc.com.au
SUMMARY:Jack Holt Regatta
DESCRIPTION:Jack Holt Regatta
URL:https://www.tvsc.com.au/event/jack-holt-regatta/
LOCATION:Lake Cootharaba Sailing Club\, 24 Boreen Parade\, Boreen Point\, Qld\, 4565\, Australia
CATEGORIES:Away Event
END:VEVENT
BEGIN:VEVENT
DTSTART;TZID=Australia/Sydney:20230423T100000
DTEND;TZID=Australia/Sydney:20230423T153000
DTSTAMP:20260422T053609
CREATED:20230305T225645Z
LAST-MODIFIED:20230305T225645Z
UID:5230-1682244000-1682263800@www.tvsc.com.au
SUMMARY:She Skippers Race
DESCRIPTION:She Skippers Race.Women helm only!
URL:https://www.tvsc.com.au/event/she-skippers-race/
LOCATION:NSW
CATEGORIES:Away Event
END:VEVENT
BEGIN:VEVENT
DTSTART;TZID=Australia/Sydney:20230423T000000
DTEND;TZID=Australia/Sydney:20230423T235959
DTSTAMP:20260422T053609
CREATED:20220913T003905Z
LAST-MODIFIED:20221004T084736Z
UID:4802-1682208000-1682294399@www.tvsc.com.au
SUMMARY:CYC - Peel Island Marathon
DESCRIPTION:Cleveland Yacht Club’s Annual Peel Island Marathon.\n\nIt’s either becalmed or really really blowin.
URL:https://www.tvsc.com.au/event/cyc-peel-island-marathon-3/
LOCATION:NSW
CATEGORIES:Away Event
END:VEVENT
BEGIN:VEVENT
DTSTART;TZID=Australia/Sydney:20230415T110000
DTEND;TZID=Australia/Sydney:20230415T133000
DTSTAMP:20260422T053609
CREATED:20230312T213218Z
LAST-MODIFIED:20230326T233023Z
UID:5251-1681556400-1681565400@www.tvsc.com.au
SUMMARY:SheSails Saturday 11:00 am to 1:30 pm
DESCRIPTION:Continue to develop your sailing skills at our monthly sailing sessions.  Safety boat and volunteers will be on hand.  Bring water\, wear blockout and appropriate clothing and smile! \n\n\n\nPlease click on the link below to register: \n\n\n\nhttps://www.revolutionise.com.au/tweedvalleysc/events/181036/
URL:https://www.tvsc.com.au/event/shesails-saturday-a-m-1100-am-to-130-pm/
LOCATION:NSW
END:VEVENT
BEGIN:VEVENT
DTSTART;TZID=Australia/Brisbane:20230407T000000
DTEND;TZID=Australia/Brisbane:20230409T235959
DTSTAMP:20260422T053609
CREATED:20230305T225644Z
LAST-MODIFIED:20230305T225644Z
UID:5228-1680825600-1681084799@www.tvsc.com.au
SUMMARY:Easter All Boats Regatta 
DESCRIPTION:Easter All Boats Regatta at LCSC
URL:https://www.tvsc.com.au/event/easter-all-boats-regatta/
LOCATION:Lake Cootharaba Sailing Club\, 24 Boreen Parade\, Boreen Point\, Qld\, 4565\, Australia
CATEGORIES:Away Event
END:VEVENT
BEGIN:VEVENT
DTSTART;TZID=Australia/Sydney:20230326T113000
DTEND;TZID=Australia/Sydney:20230326T150000
DTSTAMP:20260422T053609
CREATED:20220913T010940Z
LAST-MODIFIED:20230314T233626Z
UID:4829-1679830200-1679842800@www.tvsc.com.au
SUMMARY:Race Day - All Championship Series Day 6 (Final Day)
DESCRIPTION:Race day for our Summer 2022/23 Season. \n\n\n\nBriefing at Midday\, racing from 1pm. \n\n\n\nBoat registration is here. \n\n\n\nJuniors are encouraged to race\, they’ll have their own shorter course. \n\n\n\nA sausage sizzle and results will be done after we’re all packed away on each day. \n\n\n\nRoster is here.  \n\n\n\nOn Sunday\, if you’d be interested in crewing (no experience necessary) then please fill in this form. A skipper may get in touch with you. Or come along on the day (the earlier the better) to see if you can find a ride. Details on what to bring are here.  Skippers\, your list of the available crew is here. \n\n\n\nFor members\, we have Pacers available for hire.  If you hire a boat\, you’ll need to both hire the the boat and register your entry as a skipper.
URL:https://www.tvsc.com.au/event/race-day-all-championship-series-day-6/
LOCATION:Tweed Valley Sailing Club\, Boat Park opposite the Sheaok Cafe\, Fingal Road\, Fingal Heads\, NSW\, 2487\, Australia
CATEGORIES:Race
END:VEVENT
BEGIN:VEVENT
DTSTART;TZID=Australia/Sydney:20230326T100000
DTEND;TZID=Australia/Sydney:20230326T113000
DTSTAMP:20260422T053609
CREATED:20230323T022252Z
LAST-MODIFIED:20230323T022420Z
UID:5270-1679824800-1679830200@www.tvsc.com.au
SUMMARY:Committee Meeting
DESCRIPTION:All are welcome to attend at the container. \n\n\n\n26-March-2023-Committee-Meeting-AgendaDownload
URL:https://www.tvsc.com.au/event/committee-meeting-4/
LOCATION:NSW
END:VEVENT
BEGIN:VEVENT
DTSTART;TZID=Australia/Brisbane:20230325T000000
DTEND;TZID=Australia/Brisbane:20230326T235959
DTSTAMP:20260422T053609
CREATED:20230305T225645Z
LAST-MODIFIED:20230305T225645Z
UID:5231-1679702400-1679875199@www.tvsc.com.au
SUMMARY:Thunderbolt Regatta
DESCRIPTION:Thunderbolt Regatta at Lake Keepit Sailing Club (Chilly!)
URL:https://www.tvsc.com.au/event/thunderbolt-regatta/
LOCATION:NSW
CATEGORIES:Away Event
END:VEVENT
BEGIN:VEVENT
DTSTART;TZID=Australia/Sydney:20230312T113000
DTEND;TZID=Australia/Sydney:20230312T150000
DTSTAMP:20260422T053609
CREATED:20220913T010852Z
LAST-MODIFIED:20230227T072441Z
UID:4827-1678620600-1678633200@www.tvsc.com.au
SUMMARY:Race Day - Handicap Series Day 5
DESCRIPTION:Race day for our Summer 2022/23 Season. \n\n\n\nBriefing at Midday\, racing from 1pm. \n\n\n\nBoat registration is here. \n\n\n\nJuniors are encouraged to race\, they’ll have their own shorter course. \n\n\n\nA sausage sizzle and results will be done after we’re all packed away on each day. \n\n\n\nRoster is here.  \n\n\n\nOn Sunday\, if you’d be interested in crewing (no experience necessary) then please fill in this form. A skipper may get in touch with you. Or come along on the day (the earlier the better) to see if you can find a ride. Details on what to bring are here.  Skippers\, your list of the available crew is here. \n\n\n\nFor members\, we have Pacers available for hire.  If you hire a boat\, you’ll need to both hire the the boat and register your entry as a skipper.
URL:https://www.tvsc.com.au/event/race-day-all-championship-series-copy-copy-copy-copy-copy/
LOCATION:Tweed Valley Sailing Club\, Boat Park opposite the Sheaok Cafe\, Fingal Road\, Fingal Heads\, NSW\, 2487\, Australia
CATEGORIES:Race
END:VEVENT
END:VCALENDAR