BEGIN:VCALENDAR
VERSION:2.0
PRODID:-//Tweed Valley Sailing Club - ECPv6.15.17//NONSGML v1.0//EN
CALSCALE:GREGORIAN
METHOD:PUBLISH
X-WR-CALNAME:Tweed Valley Sailing Club
X-ORIGINAL-URL:https://www.tvsc.com.au
X-WR-CALDESC:Events for Tweed Valley Sailing Club
REFRESH-INTERVAL;VALUE=DURATION:PT1H
X-Robots-Tag:noindex
X-PUBLISHED-TTL:PT1H
BEGIN:VTIMEZONE
TZID:Australia/Sydney
BEGIN:STANDARD
TZOFFSETFROM:+1100
TZOFFSETTO:+1000
TZNAME:AEST
DTSTART:20200404T160000
END:STANDARD
BEGIN:DAYLIGHT
TZOFFSETFROM:+1000
TZOFFSETTO:+1100
TZNAME:AEDT
DTSTART:20201003T160000
END:DAYLIGHT
BEGIN:STANDARD
TZOFFSETFROM:+1100
TZOFFSETTO:+1000
TZNAME:AEST
DTSTART:20210403T160000
END:STANDARD
BEGIN:DAYLIGHT
TZOFFSETFROM:+1000
TZOFFSETTO:+1100
TZNAME:AEDT
DTSTART:20211002T160000
END:DAYLIGHT
BEGIN:STANDARD
TZOFFSETFROM:+1100
TZOFFSETTO:+1000
TZNAME:AEST
DTSTART:20220402T160000
END:STANDARD
BEGIN:DAYLIGHT
TZOFFSETFROM:+1000
TZOFFSETTO:+1100
TZNAME:AEDT
DTSTART:20221001T160000
END:DAYLIGHT
BEGIN:STANDARD
TZOFFSETFROM:+1100
TZOFFSETTO:+1000
TZNAME:AEST
DTSTART:20230401T160000
END:STANDARD
BEGIN:DAYLIGHT
TZOFFSETFROM:+1000
TZOFFSETTO:+1100
TZNAME:AEDT
DTSTART:20230930T160000
END:DAYLIGHT
END:VTIMEZONE
BEGIN:VEVENT
DTSTART;TZID=Australia/Sydney:20220619T110000
DTEND;TZID=Australia/Sydney:20220619T150000
DTSTAMP:20260422T030451
CREATED:20220418T080410Z
LAST-MODIFIED:20220612T235616Z
UID:4548-1655636400-1655650800@www.tvsc.com.au
SUMMARY:Winter Racing
DESCRIPTION:Racing is on. \nBriefing at Midday\, first race at 1pm. \nSkippers Registration – https://www.revolutionise.com.au/tweedvalleysc/events/145510/
URL:https://www.tvsc.com.au/event/winter-racing-4/
LOCATION:Tweed Valley Sailing Club\, Boat Park opposite the Sheaok Cafe\, Fingal Road\, Fingal Heads\, NSW\, 2487\, Australia
CATEGORIES:Race
END:VEVENT
BEGIN:VEVENT
DTSTART;TZID=Australia/Sydney:20220619T083000
DTEND;TZID=Australia/Sydney:20220619T113000
DTSTAMP:20260422T030451
CREATED:20220612T235630Z
LAST-MODIFIED:20220612T235738Z
UID:4663-1655627400-1655638200@www.tvsc.com.au
SUMMARY:Juniors Sailing
DESCRIPTION:9am Start \nPlease register here – https://www.revolutionise.com.au/tweedvalleysc/events/145507/ \nOur weekly Junior Sailing is starting up again. It’s open to ages 7-17 years. \nShore crew (parents) help would be greatly appreciated. \nNew sailors are welcome and if numbers suffice a separate class may be formed. \nPlease remind us of your age and years of sailing experience (if any) when you register.
URL:https://www.tvsc.com.au/event/juniors-sailing-17-copy/
LOCATION:NSW
CATEGORIES:Juniors Sailing
END:VEVENT
BEGIN:VEVENT
DTSTART;TZID=Australia/Sydney:20220612T090000
DTEND;TZID=Australia/Sydney:20220612T123000
DTSTAMP:20260422T030451
CREATED:20220605T234616Z
LAST-MODIFIED:20220605T234616Z
UID:4660-1655024400-1655037000@www.tvsc.com.au
SUMMARY:Juniors Sailing
DESCRIPTION:9am Start \nPlease register here – https://www.revolutionise.com.au/tweedvalleysc/events/144677/ \nOur weekly Junior Sailing is starting up again. It’s open to ages 7-17 years. \nShore crew (parents) help would be greatly appreciated. \nNew sailors are welcome and if numbers suffice a separate class may be formed. \nPlease remind us of your age and years of sailing experience (if any) when you register.
URL:https://www.tvsc.com.au/event/juniors-sailing-17/
LOCATION:NSW
CATEGORIES:Juniors Sailing
END:VEVENT
BEGIN:VEVENT
DTSTART;TZID=Australia/Sydney:20220611T080000
DTEND;TZID=Australia/Sydney:20220612T170000
DTSTAMP:20260422T030451
CREATED:20220423T072010Z
LAST-MODIFIED:20220423T072010Z
UID:4568-1654934400-1655053200@www.tvsc.com.au
SUMMARY:Gold Coast Catamaran Club Bad News Regatta
DESCRIPTION:For the cat wackers \nThe annual Bad News regatta at Currumbin Alley.
URL:https://www.tvsc.com.au/event/gold-coast-catamaran-club-bad-news-regatta/
LOCATION:NSW
CATEGORIES:Away Event
END:VEVENT
BEGIN:VEVENT
DTSTART;TZID=Australia/Sydney:20220605T110000
DTEND;TZID=Australia/Sydney:20220605T150000
DTSTAMP:20260422T030451
CREATED:20220418T074945Z
LAST-MODIFIED:20220529T234319Z
UID:4541-1654426800-1654441200@www.tvsc.com.au
SUMMARY:Winter Racing
DESCRIPTION:Racing is on. \nBriefing at Midday\, first race at 1pm. \nSkippers Registration Here.
URL:https://www.tvsc.com.au/event/winter-racing-3/
LOCATION:Tweed Valley Sailing Club\, Boat Park opposite the Sheaok Cafe\, Fingal Road\, Fingal Heads\, NSW\, 2487\, Australia
CATEGORIES:Race
END:VEVENT
BEGIN:VEVENT
DTSTART;TZID=Australia/Sydney:20220605T083000
DTEND;TZID=Australia/Sydney:20220605T113000
DTSTAMP:20260422T030451
CREATED:20220529T234438Z
LAST-MODIFIED:20220529T234639Z
UID:4651-1654417800-1654428600@www.tvsc.com.au
SUMMARY:Juniors Sailing
DESCRIPTION:Our weekly Junior Sailing is starting up again.  It’s open to ages 7-17 years. \nShore crew (parents) help would be greatly appreciated. \nNew sailors are welcome and if numbers suffice a separate class may be formed. \nPlease remind us of your age and years of sailing experience (if any) when you register. \nPlease register here.
URL:https://www.tvsc.com.au/event/juniors-sailing-14-copy-copy/
LOCATION:Tweed Valley Sailing Club\, Boat Park opposite the Sheaok Cafe\, Fingal Road\, Fingal Heads\, NSW\, 2487\, Australia
CATEGORIES:Juniors Sailing
END:VEVENT
BEGIN:VEVENT
DTSTART;VALUE=DATE:20220604
DTEND;VALUE=DATE:20220606
DTSTAMP:20260422T030451
CREATED:20220418T074849Z
LAST-MODIFIED:20220522T222420Z
UID:4539-1654300800-1654473599@www.tvsc.com.au
SUMMARY:Winter Marathon Wivenhoe Dam - Cancelled
DESCRIPTION:Away Event – Brisbane Valley Sailing Club’s two day regatta. \n 
URL:https://www.tvsc.com.au/event/winter-marathon-wivenhoe-dam/
LOCATION:NSW
CATEGORIES:Away Event
END:VEVENT
BEGIN:VEVENT
DTSTART;TZID=Australia/Sydney:20220529T090000
DTEND;TZID=Australia/Sydney:20220529T120000
DTSTAMP:20260422T030451
CREATED:20220522T222335Z
LAST-MODIFIED:20220522T222358Z
UID:4636-1653814800-1653825600@www.tvsc.com.au
SUMMARY:Juniors Sailing
DESCRIPTION:Our weekly Junior Sailing is starting up again.  It’s open to ages 7-17 years. \nShore crew (parents) help would be greatly appreciated. \nNew sailors are welcome and if numbers suffice a separate class may be formed. \nPlease remind us of your age and years of sailing experience (if any) when you register. \nPlease register here.
URL:https://www.tvsc.com.au/event/juniors-sailing-14-copy/
LOCATION:Tweed Valley Sailing Club\, Boat Park opposite the Sheaok Cafe\, Fingal Road\, Fingal Heads\, NSW\, 2487\, Australia
CATEGORIES:Juniors Sailing
END:VEVENT
BEGIN:VEVENT
DTSTART;TZID=Australia/Sydney:20220522T110000
DTEND;TZID=Australia/Sydney:20220522T150000
DTSTAMP:20260422T030451
CREATED:20220418T074340Z
LAST-MODIFIED:20220516T012539Z
UID:4537-1653217200-1653231600@www.tvsc.com.au
SUMMARY:Winter Racing
DESCRIPTION:Racing is on. \nBriefing at Midday\, first race at 1pm. \nSkippers\, please register here.
URL:https://www.tvsc.com.au/event/winter-racing-2/
LOCATION:Tweed Valley Sailing Club\, Boat Park opposite the Sheaok Cafe\, Fingal Road\, Fingal Heads\, NSW\, 2487\, Australia
CATEGORIES:Race
END:VEVENT
BEGIN:VEVENT
DTSTART;TZID=Australia/Sydney:20220521T110000
DTEND;TZID=Australia/Sydney:20220521T150000
DTSTAMP:20260422T030451
CREATED:20220503T072022Z
LAST-MODIFIED:20220516T235533Z
UID:4593-1653130800-1653145200@www.tvsc.com.au
SUMMARY:Juniors Sailing - Saturday
DESCRIPTION:Juniors this weekend is Saturday at 11am\, to pair up with the SheSails race day. \n  \nOur weekly Junior Sailing is starting up again. It’s open to ages 7-17 years. \nNew sailors are welcome and if numbers suffice a separate class may be formed. \nPlease remind us of your age and years of sailing experience (if any) when you register. \nRegistration here.
URL:https://www.tvsc.com.au/event/juniors-sailing-16/
LOCATION:Tweed Valley Sailing Club\, Boat Park opposite the Sheaok Cafe\, Fingal Road\, Fingal Heads\, NSW\, 2487\, Australia
CATEGORIES:Juniors Sailing
END:VEVENT
BEGIN:VEVENT
DTSTART;TZID=Australia/Sydney:20220515T090000
DTEND;TZID=Australia/Sydney:20220515T120000
DTSTAMP:20260422T030451
CREATED:20220503T071824Z
LAST-MODIFIED:20220508T222744Z
UID:4588-1652605200-1652616000@www.tvsc.com.au
SUMMARY:Juniors Sailing
DESCRIPTION:Our weekly Junior Sailing is starting up again.  It’s open to ages 7-17 years. \nShore crew (parents) help would be greatly appreciated. \nNew sailors are welcome and if numbers suffice a separate class may be formed. \nPlease remind us of your age and years of sailing experience (if any) when you register. \nPlease register here.
URL:https://www.tvsc.com.au/event/juniors-sailing-14/
LOCATION:Tweed Valley Sailing Club\, Boat Park opposite the Sheaok Cafe\, Fingal Road\, Fingal Heads\, NSW\, 2487\, Australia
CATEGORIES:Juniors Sailing
END:VEVENT
BEGIN:VEVENT
DTSTART;TZID=Australia/Sydney:20220508T110000
DTEND;TZID=Australia/Sydney:20220508T150000
DTSTAMP:20260422T030451
CREATED:20220418T073831Z
LAST-MODIFIED:20220502T221955Z
UID:4534-1652007600-1652022000@www.tvsc.com.au
SUMMARY:Winter Racing
DESCRIPTION:Racing is on. \nBriefing at Midday\, first race at 1pm. \nBoat Registration Here: https://www.revolutionise.com.au/tweedvalleysc/events/141131/
URL:https://www.tvsc.com.au/event/winter-racing/
LOCATION:Tweed Valley Sailing Club\, Boat Park opposite the Sheaok Cafe\, Fingal Road\, Fingal Heads\, NSW\, 2487\, Australia
CATEGORIES:Race
END:VEVENT
BEGIN:VEVENT
DTSTART;TZID=Australia/Sydney:20220508T083000
DTEND;TZID=Australia/Sydney:20220508T120000
DTSTAMP:20260422T030451
CREATED:20220503T071931Z
LAST-MODIFIED:20220503T071931Z
UID:4591-1651998600-1652011200@www.tvsc.com.au
SUMMARY:Juniors Sailing
DESCRIPTION:Our weekly Junior Sailing is starting up again.  It’s open to ages 7-17 years. \nAs there is an afternoon club race we will need to start promptly at 8.30 and be off the water by 11.30. Shore crew (parents) help would be greatly appreciated. \nNew sailors are welcome and if numbers suffice a separate class may be formed. \nPlease remind us of your age and years of sailing experience (if any) when you register. \nRegistration Link
URL:https://www.tvsc.com.au/event/juniors-sailing-15/
LOCATION:NSW
CATEGORIES:Juniors Sailing
END:VEVENT
BEGIN:VEVENT
DTSTART;TZID=Australia/Sydney:20220424T110000
DTEND;TZID=Australia/Sydney:20220424T170000
DTSTAMP:20260422T030451
CREATED:20220314T053148Z
LAST-MODIFIED:20220418T073451Z
UID:4518-1650798000-1650819600@www.tvsc.com.au
SUMMARY:CYC Peel Island Marathon
DESCRIPTION:Our first winter away event.  \nCleveland Yacht Club’s annual Peel Island Marathon. \nWe have eight boats attending. \nNOR: https://www.cyc.asn.au/peel-island-marathon/notice-of-race/ \n 
URL:https://www.tvsc.com.au/event/cyc-peel-island-marathon-2/
LOCATION:NSW
CATEGORIES:Away Event
END:VEVENT
BEGIN:VEVENT
DTSTART;TZID=Australia/Sydney:20220423T110000
DTEND;TZID=Australia/Sydney:20220423T150000
DTSTAMP:20260422T030451
CREATED:20220402T061033Z
LAST-MODIFIED:20220418T090158Z
UID:4526-1650711600-1650726000@www.tvsc.com.au
SUMMARY:SheSails "Let's Keep Sailing" Saturday 23 April 2022 at 11 am
DESCRIPTION:All female members are invited to attend our SheSails “Let’s Keep Sailing” Saturday sailing. \nHigh tide is at 3:01 pm.  Come and join like minded women\, sailing on the Tweed River. \nYou can elect to crew or steer on one of the 4 pacers available\, or sail an X3 sailing dinghy.  There is also a laser available to sail. \nThere will be a safety boat or two on the water\, plus volunteers to help you. \nThe fee is $10 per person which covers fuel for the safety boats and ongoing maintenance on the pacers and X3s.  Payment needs to be made at the time of registration to confirm your spot. \nPlease bring plenty of water and food. \nIf you have any enquiries\, please do not hesitate to contact Monique (e:  swell.lady16@gmail.com) or phone 0409 761 908. \n* Please note that should the weather be bad for sailing\, we will postpone it to the following month.  The fee paid will be credited to a subsequent sailing day.
URL:https://www.tvsc.com.au/event/shesails-lets-keep-sailing-saturday-23-april-2022-at-11-am/
LOCATION:Tweed Valley Sailing Club\, Boat Park opposite the Sheaok Cafe\, Fingal Road\, Fingal Heads\, NSW\, 2487\, Australia
END:VEVENT
BEGIN:VEVENT
DTSTART;TZID=Australia/Sydney:20220327T110000
DTEND;TZID=Australia/Sydney:20220327T170000
DTSTAMP:20260422T030451
CREATED:20220119T055425Z
LAST-MODIFIED:20220201T004541Z
UID:4382-1648378800-1648400400@www.tvsc.com.au
SUMMARY:QLA - QLD State River Titles
DESCRIPTION:We’re the host club for the Queensland Laser Association’s River Titles. \nSee the QLA website for more details\, registration etc. \nNOR and registration are here.  TVSC Members can enter the event without needing to be a member of the QLA. \nIf you’re available to volunteer for the day\, then please fill in this form. \n 
URL:https://www.tvsc.com.au/event/queensland-laser-association/
LOCATION:Tweed Valley Sailing Club\, Boat Park opposite the Sheaok Cafe\, Fingal Road\, Fingal Heads\, NSW\, 2487\, Australia
END:VEVENT
BEGIN:VEVENT
DTSTART;TZID=Australia/Sydney:20220320T120000
DTEND;TZID=Australia/Sydney:20220320T150000
DTSTAMP:20260422T030451
CREATED:20211219T041521Z
LAST-MODIFIED:20220314T234204Z
UID:4343-1647777600-1647788400@www.tvsc.com.au
SUMMARY:Summer 21/22 Day 6 - Final Day
DESCRIPTION:The last race day our short summer series. \nSkippers\, register here.
URL:https://www.tvsc.com.au/event/summer-21-22-day-3-copy-copy-copy/
LOCATION:Tweed Valley Sailing Club\, Boat Park opposite the Sheaok Cafe\, Fingal Road\, Fingal Heads\, NSW\, 2487\, Australia
CATEGORIES:Race
END:VEVENT
BEGIN:VEVENT
DTSTART;VALUE=DATE:20220312
DTEND;VALUE=DATE:20220327
DTSTAMP:20260422T030451
CREATED:20220222T004219Z
LAST-MODIFIED:20220310T233516Z
UID:4429-1647043200-1648339199@www.tvsc.com.au
SUMMARY:She Sails - Learn to Sail Course - 2 Days - 12 and 26 March 2022
DESCRIPTION:To celebrate International Women’s Day 2022 our club is holding a Women and Girls Introduction to Sailing course.  If you would like to learn to sail on the beautiful waters of Tweed River\, Fingal\, Northern NSW over 2 Saturdays in March (with a back up date in April\, if weather turns sour on us). \nCourse is limited to 9 pax\, so don’t hesitate to sign on and pay to secure your spot. \nhttps://www.revolutionise.com.au/tweedvalleysc/events/133065/
URL:https://www.tvsc.com.au/event/she-sails-learn-to-sail-course-2-days-12-and-26-march-2022/
LOCATION:Tweed Valley Sailing Club\, Boat Park opposite the Sheaok Cafe\, Fingal Road\, Fingal Heads\, NSW\, 2487\, Australia
ATTACH;FMTTYPE=image/jpeg:https://www.tvsc.com.au/wp-content/uploads/2022/02/44B7430B-099C-4CBF-A9EC-884C8775680F.jpeg
END:VEVENT
BEGIN:VEVENT
DTSTART;TZID=Australia/Sydney:20220306T120000
DTEND;TZID=Australia/Sydney:20220306T150000
DTSTAMP:20260422T030451
CREATED:20211219T041453Z
LAST-MODIFIED:20220304T044327Z
UID:4341-1646568000-1646578800@www.tvsc.com.au
SUMMARY:Summer 21/22 Day 5 (Cancelled)
DESCRIPTION:Day 5 of our short summer series \nCancelled due to the flooding.
URL:https://www.tvsc.com.au/event/summer-21-22-day-3-copy-copy/
LOCATION:Tweed Valley Sailing Club\, Boat Park opposite the Sheaok Cafe\, Fingal Road\, Fingal Heads\, NSW\, 2487\, Australia
CATEGORIES:Race
END:VEVENT
BEGIN:VEVENT
DTSTART;VALUE=DATE:20220226
DTEND;VALUE=DATE:20220228
DTSTAMP:20260422T030451
CREATED:20211004T084641Z
LAST-MODIFIED:20220201T004834Z
UID:4209-1645833600-1646006399@www.tvsc.com.au
SUMMARY:Big River Annual Regatta
DESCRIPTION:The BRSC are holding their annual regatta at Harwood this weekend. \nIf you’d like to crew for the weekend\, then please fill in this form.
URL:https://www.tvsc.com.au/event/big-river-annual-regatta-2/
LOCATION:Big River Sailing Club\, 2 Careys Lane\, Harwood\, NSW\, 2465\, Australia
CATEGORIES:Away Event
ORGANIZER;CN="Big River Sailing Club":MAILTO:bigriversailingclub@gmail.com
END:VEVENT
BEGIN:VEVENT
DTSTART;TZID=Australia/Sydney:20220220T120000
DTEND;TZID=Australia/Sydney:20220220T150000
DTSTAMP:20260422T030451
CREATED:20211213T002722Z
LAST-MODIFIED:20220214T062113Z
UID:4329-1645358400-1645369200@www.tvsc.com.au
SUMMARY:Summer 21/22 Day 4
DESCRIPTION:Day 4 of our short summer series. \nSkipper Registration here.
URL:https://www.tvsc.com.au/event/summer-21-22-day-3-copy/
LOCATION:Tweed Valley Sailing Club\, Boat Park opposite the Sheaok Cafe\, Fingal Road\, Fingal Heads\, NSW\, 2487\, Australia
CATEGORIES:Race
END:VEVENT
BEGIN:VEVENT
DTSTART;TZID=Australia/Sydney:20220212T120000
DTEND;TZID=Australia/Sydney:20220212T170000
DTSTAMP:20260422T030451
CREATED:20220103T010356Z
LAST-MODIFIED:20220202T063037Z
UID:4348-1644667200-1644685200@www.tvsc.com.au
SUMMARY:SheSails Learn to Sail - 2 Day Course - 12th and 19th February 2022 COURSE FULL
DESCRIPTION:Tweed Valley Sailing Club is holding it’s first SheSails Learn to Dinghy Sail course for 2022.  Held over 2 Saturdays\, Day 1\, 12th February\, and Day 2\, 19th February and open to only 8 “wannabe” sailors.   Please click on the link below to register and pay $150 which includes club membership. \nhttps://www.revolutionise.com.au/tweedvalleysc/events/126199/
URL:https://www.tvsc.com.au/event/shesails-learn-to-sail-2-day-course-february-2022/
LOCATION:Tweed Valley Sailing Club\, Boat Park opposite the Sheaok Cafe\, Fingal Road\, Fingal Heads\, NSW\, 2487\, Australia
ATTACH;FMTTYPE=image/jpeg:https://www.tvsc.com.au/wp-content/uploads/2021/05/184698649_1171888693279898_8759851249133326141_n-scaled.jpg
END:VEVENT
BEGIN:VEVENT
DTSTART;TZID=Australia/Sydney:20220206T120000
DTEND;TZID=Australia/Sydney:20220206T150000
DTSTAMP:20260422T030451
CREATED:20211207T060956Z
LAST-MODIFIED:20220201T004627Z
UID:4321-1644148800-1644159600@www.tvsc.com.au
SUMMARY:Summer 21/22 Day 3
DESCRIPTION:Day 3 of our short summer series. \nSkipper’s registration here.
URL:https://www.tvsc.com.au/event/summer-21-22-day-3/
LOCATION:Tweed Valley Sailing Club\, Boat Park opposite the Sheaok Cafe\, Fingal Road\, Fingal Heads\, NSW\, 2487\, Australia
CATEGORIES:Race
END:VEVENT
BEGIN:VEVENT
DTSTART;TZID=Australia/Sydney:20220123T120000
DTEND;TZID=Australia/Sydney:20220123T150000
DTSTAMP:20260422T030451
CREATED:20211207T060818Z
LAST-MODIFIED:20220119T054157Z
UID:4319-1642939200-1642950000@www.tvsc.com.au
SUMMARY:Summer 21/22 Championship Day 2
DESCRIPTION:Skipper Registration: https://www.revolutionise.com.au/tweedvalleysc/events/128402/ \nBriefing at midday \n1st Race at 1pm. \nTwo Races. \nAll times are NSW times. \n 
URL:https://www.tvsc.com.au/event/summer-21-22-championship-day-2/
LOCATION:Tweed Valley Sailing Club\, Boat Park opposite the Sheaok Cafe\, Fingal Road\, Fingal Heads\, NSW\, 2487\, Australia
CATEGORIES:Race
END:VEVENT
BEGIN:VEVENT
DTSTART;TZID=Australia/Sydney:20220116T110000
DTEND;TZID=Australia/Sydney:20220116T143000
DTSTAMP:20260422T030451
CREATED:20220114T060835Z
LAST-MODIFIED:20220114T060835Z
UID:4364-1642330800-1642343400@www.tvsc.com.au
SUMMARY:Juniors Sailing
DESCRIPTION:We’re running a once off Juniors session this coming Sunday.  Please register here.
URL:https://www.tvsc.com.au/event/juniors-sailing-13/
LOCATION:Tweed Valley Sailing Club\, Boat Park opposite the Sheaok Cafe\, Fingal Road\, Fingal Heads\, NSW\, 2487\, Australia
CATEGORIES:Juniors Sailing
END:VEVENT
BEGIN:VEVENT
DTSTART;TZID=Australia/Sydney:20220109T120000
DTEND;TZID=Australia/Sydney:20220109T150000
DTSTAMP:20260422T030451
CREATED:20211207T060732Z
LAST-MODIFIED:20211208T222816Z
UID:4317-1641729600-1641740400@www.tvsc.com.au
SUMMARY:2021/22 Summer Season First Day Back for All (Day 1)
DESCRIPTION:The first day that we can all race as a club\, since the border closed in July.  Let’s make it a good one. \nMore details to follow.
URL:https://www.tvsc.com.au/event/2021-22-summer-season-first-day-back-for-all/
LOCATION:Tweed Valley Sailing Club\, Boat Park opposite the Sheaok Cafe\, Fingal Road\, Fingal Heads\, NSW\, 2487\, Australia
CATEGORIES:Race
END:VEVENT
BEGIN:VEVENT
DTSTART;TZID=Australia/Sydney:20211212T120000
DTEND;TZID=Australia/Sydney:20211212T150000
DTSTAMP:20260422T030451
CREATED:20211207T060544Z
LAST-MODIFIED:20211208T222802Z
UID:4315-1639310400-1639321200@www.tvsc.com.au
SUMMARY:Casual (COVID) Racing
DESCRIPTION:Racing is on this Sunday\, the last of the year. \nBriefing at Midday\, sailing from 1 pm. \nAs the Qld members are unable to attend\, this will be an informal race day\, rather than a championship day. \nSkipper’s Registration here.  Skippers\, the list of the available crew is here. \nIf you’d like to crew\, then leave your details here\, if you haven’t previously. 
URL:https://www.tvsc.com.au/event/casual-covid-racing/
LOCATION:Tweed Valley Sailing Club\, Boat Park opposite the Sheaok Cafe\, Fingal Road\, Fingal Heads\, NSW\, 2487\, Australia
CATEGORIES:Race
END:VEVENT
BEGIN:VEVENT
DTSTART;VALUE=DATE:20211204
DTEND;VALUE=DATE:20211206
DTSTAMP:20260422T030451
CREATED:20211004T052414Z
LAST-MODIFIED:20211004T052414Z
UID:4203-1638576000-1638748799@www.tvsc.com.au
SUMMARY:Away Event - LCSC Boating and RV Monomasters Regatta
DESCRIPTION:A weekend of camping and racing at Lake Cootharaba. \nSome members will be attending. \nMore details at https://lcsc.org.au
URL:https://www.tvsc.com.au/event/away-event-lcsc-boating-and-rv-monomasters-regatta/
LOCATION:Lake Cootharaba Sailing Club\, 24 Boreen Parade\, Boreen Point\, Qld\, 4565\, Australia
CATEGORIES:Away Event
END:VEVENT
BEGIN:VEVENT
DTSTART;VALUE=DATE:20211127
DTEND;VALUE=DATE:20211129
DTSTAMP:20260422T030451
CREATED:20211004T084559Z
LAST-MODIFIED:20211004T084559Z
UID:4207-1637971200-1638143999@www.tvsc.com.au
SUMMARY:Ballina Annual Regatta
DESCRIPTION:The RRSRC are holding their annual regatta this weekend.
URL:https://www.tvsc.com.au/event/ballina-annual-regatta/
LOCATION:Richmond River Sailing & Rowing Club\, 2 River Street\, Ballina\, NSW\, 2478\, Australia
CATEGORIES:Away Event
ORGANIZER;CN="Richmond River Sailing & Rowing Club":MAILTO:contact.rrsrc@gmail.com
END:VEVENT
BEGIN:VEVENT
DTSTART;TZID=Australia/Sydney:20211121T083000
DTEND;TZID=Australia/Sydney:20211121T130000
DTSTAMP:20260422T030451
CREATED:20211117T231548Z
LAST-MODIFIED:20211117T231548Z
UID:4281-1637483400-1637499600@www.tvsc.com.au
SUMMARY:Juniors Sailing
DESCRIPTION:Juniors at Fingal \nFrom 8:30. \nPlease register before the day.
URL:https://www.tvsc.com.au/event/juniors-sailing-12/
LOCATION:Tweed Valley Sailing Club\, Boat Park opposite the Sheaok Cafe\, Fingal Road\, Fingal Heads\, NSW\, 2487\, Australia
CATEGORIES:Juniors Sailing
END:VEVENT
END:VCALENDAR