BEGIN:VCALENDAR
VERSION:2.0
PRODID:-//Tweed Valley Sailing Club - ECPv6.15.17//NONSGML v1.0//EN
CALSCALE:GREGORIAN
METHOD:PUBLISH
X-WR-CALNAME:Tweed Valley Sailing Club
X-ORIGINAL-URL:https://www.tvsc.com.au
X-WR-CALDESC:Events for Tweed Valley Sailing Club
REFRESH-INTERVAL;VALUE=DURATION:PT1H
X-Robots-Tag:noindex
X-PUBLISHED-TTL:PT1H
BEGIN:VTIMEZONE
TZID:Australia/Sydney
BEGIN:STANDARD
TZOFFSETFROM:+1100
TZOFFSETTO:+1000
TZNAME:AEST
DTSTART:20200404T160000
END:STANDARD
BEGIN:DAYLIGHT
TZOFFSETFROM:+1000
TZOFFSETTO:+1100
TZNAME:AEDT
DTSTART:20201003T160000
END:DAYLIGHT
BEGIN:STANDARD
TZOFFSETFROM:+1100
TZOFFSETTO:+1000
TZNAME:AEST
DTSTART:20210403T160000
END:STANDARD
BEGIN:DAYLIGHT
TZOFFSETFROM:+1000
TZOFFSETTO:+1100
TZNAME:AEDT
DTSTART:20211002T160000
END:DAYLIGHT
BEGIN:STANDARD
TZOFFSETFROM:+1100
TZOFFSETTO:+1000
TZNAME:AEST
DTSTART:20220402T160000
END:STANDARD
BEGIN:DAYLIGHT
TZOFFSETFROM:+1000
TZOFFSETTO:+1100
TZNAME:AEDT
DTSTART:20221001T160000
END:DAYLIGHT
END:VTIMEZONE
BEGIN:VEVENT
DTSTART;TZID=Australia/Sydney:20210725T120000
DTEND;TZID=Australia/Sydney:20210725T150000
DTSTAMP:20260422T041719
CREATED:20210405T004141Z
LAST-MODIFIED:20210728T052509Z
UID:3807-1627214400-1627225200@www.tvsc.com.au
SUMMARY:Winter 2021 - Day 7 (Postponed)
DESCRIPTION:Race day was postponed due to border closure. \n  \nProbably two short races. \n\nBriefing at Midday\nRace Start at 1pm\n\n 
URL:https://www.tvsc.com.au/event/winter-2021-day-7/
LOCATION:Tweed Valley Sailing Club\, Boat Park opposite the Sheaok Cafe\, Fingal Road\, Fingal Heads\, NSW\, 2487\, Australia
CATEGORIES:Race
END:VEVENT
BEGIN:VEVENT
DTSTART;TZID=Australia/Sydney:20210718T090000
DTEND;TZID=Australia/Sydney:20210718T113000
DTSTAMP:20260422T041719
CREATED:20210713T011921Z
LAST-MODIFIED:20210713T011921Z
UID:4094-1626598800-1626607800@www.tvsc.com.au
SUMMARY:Juniors Sailing
DESCRIPTION:Starts at 9 am.  Please register here.
URL:https://www.tvsc.com.au/event/juniors-sailing-11/
LOCATION:Tweed Valley Sailing Club\, Boat Park opposite the Sheaok Cafe\, Fingal Road\, Fingal Heads\, NSW\, 2487\, Australia
CATEGORIES:Juniors Sailing
END:VEVENT
BEGIN:VEVENT
DTSTART;TZID=Australia/Sydney:20210717T120000
DTEND;TZID=Australia/Sydney:20210717T160000
DTSTAMP:20260422T041719
CREATED:20210628T095152Z
LAST-MODIFIED:20210713T214333Z
UID:4043-1626523200-1626537600@www.tvsc.com.au
SUMMARY:SheSails Saturday 17 July 2021 at 12 pm.
DESCRIPTION:“SheSails” next Sailing afternoon is on Saturday 17 July 2021\, for all members of the club (including competent juniors). \nLink to register: \nhttps://www.revolutionise.com.au/tweedvalleysc/events/105967/  \nOur June sailing day brought together 6 women\, and unfortunately the wind died off. \nRigging to commence at 12 pm\, High Tide being 2 pm.  A safety boat will be on the water to provide assistance. \nThere will be the choice of sailing a pacer together or sailing solo on an X3\, and the club laser is also available. \nIf you would like to participate\, it’s $5 per person\, which will cover the petrol expense for the safety boat (and boat repairs).  If you could pay this at the time of registering then I don’t have to worry about handling money on the day. \nFor those members who have their own boat\, you’re welcome to bring your boat and sail with us! \nI look forward to seeing you on 17th July at 12 pm.  If you have any enquiries\, please don’t hesitate to phone me on 0409 761 908 or email me at swell.lady16@gmail.com. \nYour sailing pal\, \n  \nMonique \nSheSails Rep \nTVSC
URL:https://www.tvsc.com.au/event/shesails-saturday-17-july-2021-at-12-pm/
END:VEVENT
BEGIN:VEVENT
DTSTART;TZID=Australia/Sydney:20210717T100000
DTEND;TZID=Australia/Sydney:20210717T170000
DTSTAMP:20260422T041719
CREATED:20210712T235530Z
LAST-MODIFIED:20210712T235530Z
UID:4067-1626516000-1626541200@www.tvsc.com.au
SUMMARY:Committee Meeting - All Welcome
DESCRIPTION:At the Sheaoak Cafe opposite the boat ramp carpark.
URL:https://www.tvsc.com.au/event/committee-meeting-all-welcome/
END:VEVENT
BEGIN:VEVENT
DTSTART;TZID=Australia/Sydney:20210711T120000
DTEND;TZID=Australia/Sydney:20210711T150000
DTSTAMP:20260422T041719
CREATED:20210405T004010Z
LAST-MODIFIED:20210704T065255Z
UID:3805-1626004800-1626015600@www.tvsc.com.au
SUMMARY:Winter 2021 - Day 6
DESCRIPTION:Skippers please register here. \n\nBriefing at Midday\nRace Start at 1pm
URL:https://www.tvsc.com.au/event/winter-2021-day-6/
LOCATION:Tweed Valley Sailing Club\, Boat Park opposite the Sheaok Cafe\, Fingal Road\, Fingal Heads\, NSW\, 2487\, Australia
CATEGORIES:Race
END:VEVENT
BEGIN:VEVENT
DTSTART;TZID=Australia/Sydney:20210711T090000
DTEND;TZID=Australia/Sydney:20210711T113000
DTSTAMP:20260422T041719
CREATED:20210704T065216Z
LAST-MODIFIED:20210704T065216Z
UID:4055-1625994000-1626003000@www.tvsc.com.au
SUMMARY:Juniors Sailing
DESCRIPTION:Please register here.
URL:https://www.tvsc.com.au/event/juniors-sailing-10/
LOCATION:Tweed Valley Sailing Club\, Boat Park opposite the Sheaok Cafe\, Fingal Road\, Fingal Heads\, NSW\, 2487\, Australia
CATEGORIES:Juniors Sailing
END:VEVENT
BEGIN:VEVENT
DTSTART;TZID=Australia/Sydney:20210704T110000
DTEND;TZID=Australia/Sydney:20210704T150000
DTSTAMP:20260422T041719
CREATED:20210628T061638Z
LAST-MODIFIED:20210630T022102Z
UID:4037-1625396400-1625410800@www.tvsc.com.au
SUMMARY:Fun Sail
DESCRIPTION:Not a club event\, but if people would like to sail\, then a few people will be sailing from lunchtime on Sunday.
URL:https://www.tvsc.com.au/event/fun-sail/
END:VEVENT
BEGIN:VEVENT
DTSTART;TZID=Australia/Sydney:20210704T110000
DTEND;TZID=Australia/Sydney:20210704T140000
DTSTAMP:20260422T041719
CREATED:20210630T022148Z
LAST-MODIFIED:20210630T022148Z
UID:4049-1625396400-1625407200@www.tvsc.com.au
SUMMARY:Juniors Sailing
DESCRIPTION:Please register here.
URL:https://www.tvsc.com.au/event/juniors-sailing-9/
LOCATION:Tweed Valley Sailing Club\, Boat Park opposite the Sheaok Cafe\, Fingal Road\, Fingal Heads\, NSW\, 2487\, Australia
CATEGORIES:Juniors Sailing
END:VEVENT
BEGIN:VEVENT
DTSTART;TZID=Australia/Sydney:20210627T120000
DTEND;TZID=Australia/Sydney:20210627T150000
DTSTAMP:20260422T041719
CREATED:20210405T003907Z
LAST-MODIFIED:20210621T005318Z
UID:3803-1624795200-1624806000@www.tvsc.com.au
SUMMARY:Winter 2021 - Day 5
DESCRIPTION:Pursuit Start Race – where different boats start at different times\, based on handicap. \nSkippers Please Register your boat here. \n\nBriefing at Midday\nRace Start from 1pm\n\nProvisional Start Times are below: \n\n\n\nPursuit race start times on 27 June 2021\n\n\nStart\nTime\nBoat list\n\n\n1\n13:00:00\nP2 P2; P6 P6; 0 Red Yawl; 0 Snark; 107 Neil Armstrong\n\n\n2\n13:01:00\n \n\n\n3\n13:02:00\n311 Talbingo\n\n\n4\n13:03:00\n0 Le Vent; 492 Midnight Magic\n\n\n5\n13:04:00\n1109.NS On and Off; 1890 Blue Tack; 1890 Impulsive Matt; 1824 Flight 24; 1829 Need For Speed\n\n\n6\n13:05:00\n616 It’s Academic; 169 One Too Many\n\n\n7\n13:06:00\n1169 Zazen; 1905 Blue Tack\n\n\n8\n13:07:00\n \n\n\n9\n13:08:00\n396 Nimbus; 802 None The Wiser; 396 Nimbus; 677 Dominatrix; 1682 No Sweat; 683 Epic\n\n\n10\n13:09:00\n45669 Naked\n\n\n11\n13:10:00\n \n\n\n12\n13:11:00\n \n\n\n13\n13:12:00\n580 Splitter; 126 Rosie\n\n\n14\n13:13:00\n \n\n\n15\n13:14:00\n \n\n\n16\n13:15:00\n1918 Hippocampus\n\n\n17\n13:16:00\n \n\n\n18\n13:17:00\n \n\n\n19\n13:18:00\n \n\n\n20\n13:19:00\n \n\n\n21\n13:20:00\n266 Capers; 490 Keenas; 184 Gidget\n\n\n22\n13:21:00\n \n\n\n23\n13:22:00\n50103 Lets Disco\n\n\n24\n13:23:00\n \n\n\n25\n13:24:00\n23488 Betty; 157866 Lazarbeam\n\n\n26\n13:25:00\n848 Monopoly; 267817 Tipsy Too; 165820 Glider\n\n\n27\n13:26:00\n171115 Condition Zulu\n\n\n28\n13:27:00\n192699 Lizard Drinking; 169715 Splatter; 168125 Flight V\n\n\n29\n13:28:00\n193408 V 2.5\n\n\n30\n13:29:00\n207817 Rolling Stone\n\n\n31\n13:30:00\n202789 Dreadnought; 1109.MG On and Off\n\n\n32\n13:31:00\n179414 Bluey
URL:https://www.tvsc.com.au/event/winter-2021-day-5/
LOCATION:Tweed Valley Sailing Club\, Boat Park opposite the Sheaok Cafe\, Fingal Road\, Fingal Heads\, NSW\, 2487\, Australia
CATEGORIES:Race
END:VEVENT
BEGIN:VEVENT
DTSTART;TZID=Australia/Sydney:20210619T120000
DTEND;TZID=Australia/Sydney:20210619T160000
DTSTAMP:20260422T041719
CREATED:20210614T031805Z
LAST-MODIFIED:20210614T031805Z
UID:3999-1624104000-1624118400@www.tvsc.com.au
SUMMARY:"SheSails" Sailing Saturday 19 June
DESCRIPTION:Our next “SheSails” sailing afternoon is on this Saturday 19 June 2021.  This is open to all club members – bring your dinghies and sail with us! \nIf you don’t have a lot of sailing experience\, spending as much time sailing on the water is the only way to improve your skills and confidence.  \nRigging is commencing at 12 pm\, with High Tide at 4:32 pm (Tweed River\, Cave Point).  At this stage there is plenty of wind forecast\, but it can change as the week progresses.  A safety boat will be on the water to provide assistance.  \nThere will be the choice of sailing a pacer with 2 or 3 pax\, or sailing solo on an X3\, and there is one laser available.  You’ll be rigging your own boat also\, so practice your knots! \nThe cost to hire a boat is $5 per person\, which will cover the petrol expense for the safety boat.  There is no cost for members coming with their own boat. \nPlease click on the link below to attend. \nhttps://www.revolutionise.com.au/tweedvalleysc/events/103048/\n  \nIf you can book your spot as soon as possible\, I would appreciate it\, so I can ask for help from other club members\, if necessary.  At this stage\, there is only myself there driving the safety boat. Dependent on how many book a spot\, I will ask other club members to help. \n \nI look forward to seeing you on 19th June.  The next date after that is planned for 17th July.   If you have any enquiries\, please don’t hesitate to phone me on 0409 761 908 or email me at swell.lady16@gmail.com.\n \nKind regards\n \nMonique\nSheSails Rep\nTweed Valley Sailing Club
URL:https://www.tvsc.com.au/event/shesails-sailing-saturday-19-june/
LOCATION:Tweed Valley Sailing Club\, Boat Park opposite the Sheaok Cafe\, Fingal Road\, Fingal Heads\, NSW\, 2487\, Australia
END:VEVENT
BEGIN:VEVENT
DTSTART;TZID=Australia/Sydney:20210613T120000
DTEND;TZID=Australia/Sydney:20210613T150000
DTSTAMP:20260422T041719
CREATED:20210530T231125Z
LAST-MODIFIED:20210602T051326Z
UID:3934-1623585600-1623596400@www.tvsc.com.au
SUMMARY:Winter 2021 - Handicap Beach Start Day
DESCRIPTION:One Long Race\, handicap starts\, starting from the beach. \n\nBriefing at Midday\nRace Start at 1pm\n\nRegister here. \nOur next race day\, in two weeks time\, will be a single long race\, with handicap start times\, leaving from the beach. Each boat will be given an individual start time for when they can leave the beach with slower boats departing earlier and the faster ones having to play catch up\, during the race. \nBriefing on the day will be midday and start times will be posted on the website from Saturday and shown at the container Sunday morning. Please arrange your registration and crew early\, if you need them. You can register here. \nThe beach might get a bit busy\, so if you have a later start time\, then please hold off on putting your boat on the beach early and also shuffle down to the end.
URL:https://www.tvsc.com.au/event/winter-2021-day-4-copy/
LOCATION:Tweed Valley Sailing Club\, Boat Park opposite the Sheaok Cafe\, Fingal Road\, Fingal Heads\, NSW\, 2487\, Australia
CATEGORIES:Race
END:VEVENT
BEGIN:VEVENT
DTSTART;TZID=Australia/Sydney:20210606T090000
DTEND;TZID=Australia/Sydney:20210606T120000
DTSTAMP:20260422T041719
CREATED:20210531T092418Z
LAST-MODIFIED:20210601T014917Z
UID:3943-1622970000-1622980800@www.tvsc.com.au
SUMMARY:Try Sailing
DESCRIPTION:For Adults new to sailing\, we’ll be running some try sailing sessions this morning. \nSpaces are limited and registration options are available here. \nNon members must also buy a sail pass for the day.
URL:https://www.tvsc.com.au/event/juniors-sailing-8-copy-copy-copy-copy-2-copy/
LOCATION:Tweed Valley Sailing Club\, Boat Park opposite the Sheaok Cafe\, Fingal Road\, Fingal Heads\, NSW\, 2487\, Australia
END:VEVENT
BEGIN:VEVENT
DTSTART;TZID=Australia/Sydney:20210606T090000
DTEND;TZID=Australia/Sydney:20210606T120000
DTSTAMP:20260422T041719
CREATED:20210531T092321Z
LAST-MODIFIED:20210601T014843Z
UID:3941-1622970000-1622980800@www.tvsc.com.au
SUMMARY:Juniors Sailing
DESCRIPTION:We’re holding a small Juniors sailing day most Sunday’s in Winter until June. \nRegistration is here. \nNon members must also buy a sail pass for the day. \nPlease remind your child to help with both the set up and pack up for the day.
URL:https://www.tvsc.com.au/event/juniors-sailing-8-copy-copy-copy-copy-2/
LOCATION:Tweed Valley Sailing Club\, Boat Park opposite the Sheaok Cafe\, Fingal Road\, Fingal Heads\, NSW\, 2487\, Australia
CATEGORIES:Juniors Sailing
END:VEVENT
BEGIN:VEVENT
DTSTART;TZID=Australia/Sydney:20210603T090000
DTEND;TZID=Australia/Sydney:20210603T123000
DTSTAMP:20260422T041719
CREATED:20210531T092300Z
LAST-MODIFIED:20210531T092300Z
UID:3939-1622710800-1622723400@www.tvsc.com.au
SUMMARY:Working Bee
DESCRIPTION:
URL:https://www.tvsc.com.au/event/working-bee/
LOCATION:Tweed Valley Sailing Club\, Boat Park opposite the Sheaok Cafe\, Fingal Road\, Fingal Heads\, NSW\, 2487\, Australia
END:VEVENT
BEGIN:VEVENT
DTSTART;TZID=Australia/Sydney:20210530T120000
DTEND;TZID=Australia/Sydney:20210530T150000
DTSTAMP:20260422T041719
CREATED:20210405T003805Z
LAST-MODIFIED:20210516T234503Z
UID:3801-1622376000-1622386800@www.tvsc.com.au
SUMMARY:Winter 2021 - Day 4
DESCRIPTION:Two short races. \nSkipper Registration Here. \n\nBriefing at Midday\nRace Start at 1pm
URL:https://www.tvsc.com.au/event/winter-2021-day-4/
LOCATION:Tweed Valley Sailing Club\, Boat Park opposite the Sheaok Cafe\, Fingal Road\, Fingal Heads\, NSW\, 2487\, Australia
CATEGORIES:Race
END:VEVENT
BEGIN:VEVENT
DTSTART;TZID=Australia/Sydney:20210530T090000
DTEND;TZID=Australia/Sydney:20210530T120000
DTSTAMP:20260422T041719
CREATED:20210516T234624Z
LAST-MODIFIED:20210516T234635Z
UID:3914-1622365200-1622376000@www.tvsc.com.au
SUMMARY:Juniors Sailing
DESCRIPTION:We’re holding a small juniors sailing day most Sunday’s in Winter until June. \nPlease register here \nNon members must also buy a sail pass for the day. \nPlease remind your child to help with both the set up and pack up for the day.
URL:https://www.tvsc.com.au/event/juniors-sailing-8-copy-copy-copy-copy/
LOCATION:Tweed Valley Sailing Club\, Boat Park opposite the Sheaok Cafe\, Fingal Road\, Fingal Heads\, NSW\, 2487\, Australia
CATEGORIES:Juniors Sailing
END:VEVENT
BEGIN:VEVENT
DTSTART;TZID=Australia/Sydney:20210529T100000
DTEND;TZID=Australia/Sydney:20210529T120000
DTSTAMP:20260422T041719
CREATED:20210525T100605Z
LAST-MODIFIED:20210525T224925Z
UID:3931-1622282400-1622289600@www.tvsc.com.au
SUMMARY:Committee Meeting
DESCRIPTION:Committee Meeting at the Sheaoak Cafe at 9am. \nAll are welcome to attend.
URL:https://www.tvsc.com.au/event/committee-meeting/
END:VEVENT
BEGIN:VEVENT
DTSTART;TZID=Australia/Sydney:20210523T090000
DTEND;TZID=Australia/Sydney:20210523T120000
DTSTAMP:20260422T041719
CREATED:20210516T234523Z
LAST-MODIFIED:20210516T234644Z
UID:3912-1621760400-1621771200@www.tvsc.com.au
SUMMARY:Juniors Sailing
DESCRIPTION:We’re holding a small juniors sailing day most Sunday’s in Winter until June. \nPlease register here \nNon members must also buy a sail pass for the day. \nPlease remind your child to help with both the set up and pack up for the day.
URL:https://www.tvsc.com.au/event/juniors-sailing-8-copy-copy-copy/
LOCATION:Tweed Valley Sailing Club\, Boat Park opposite the Sheaok Cafe\, Fingal Road\, Fingal Heads\, NSW\, 2487\, Australia
CATEGORIES:Juniors Sailing
END:VEVENT
BEGIN:VEVENT
DTSTART;TZID=Australia/Sydney:20210522T120000
DTEND;TZID=Australia/Sydney:20210522T160000
DTSTAMP:20260422T041719
CREATED:20210501T013913Z
LAST-MODIFIED:20210501T013954Z
UID:3842-1621684800-1621699200@www.tvsc.com.au
SUMMARY:"SheSails" May Event
DESCRIPTION:“SheSails” Saturday Sailing\, 22nd May 2021 \nFor all female club members and past participants of  SheSails Beginners courses held at TVSC. \nRigging commencing at 12 pm\, come and spend an afternoon enjoying the sport you love with other “like minded” women. \nChoose from a pacer\, X3 or laser to sail. \nCost is $5 per head.
URL:https://www.tvsc.com.au/event/shesails-may-event/
LOCATION:Tweed Valley Sailing Club\, Boat Park opposite the Sheaok Cafe\, Fingal Road\, Fingal Heads\, NSW\, 2487\, Australia
END:VEVENT
BEGIN:VEVENT
DTSTART;TZID=Australia/Sydney:20210516T120000
DTEND;TZID=Australia/Sydney:20210516T150000
DTSTAMP:20260422T041719
CREATED:20210405T003619Z
LAST-MODIFIED:20210503T235914Z
UID:3799-1621166400-1621177200@www.tvsc.com.au
SUMMARY:Winter 2021 - Day 3
DESCRIPTION:Probably two short races. \n\nBriefing at Midday\nRace Start at 1pm\n\nSkippers Registration here.
URL:https://www.tvsc.com.au/event/winter-2021-day-3/
LOCATION:Tweed Valley Sailing Club\, Boat Park opposite the Sheaok Cafe\, Fingal Road\, Fingal Heads\, NSW\, 2487\, Australia
CATEGORIES:Race
END:VEVENT
BEGIN:VEVENT
DTSTART;TZID=Australia/Sydney:20210509T090000
DTEND;TZID=Australia/Sydney:20210509T120000
DTSTAMP:20260422T041719
CREATED:20210503T235424Z
LAST-MODIFIED:20210503T235515Z
UID:3846-1620550800-1620561600@www.tvsc.com.au
SUMMARY:Juniors Sailing
DESCRIPTION:We’re holding a small juniors sailing day most Sunday’s in Winter until June. \nPlease register here \nNon members must also buy a sail pass for the day. \nPlease remind your child to help with both the set up and pack up for the day.
URL:https://www.tvsc.com.au/event/juniors-sailing-8-copy-copy/
LOCATION:Tweed Valley Sailing Club\, Boat Park opposite the Sheaok Cafe\, Fingal Road\, Fingal Heads\, NSW\, 2487\, Australia
CATEGORIES:Juniors Sailing
END:VEVENT
BEGIN:VEVENT
DTSTART;TZID=Australia/Sydney:20210502T120000
DTEND;TZID=Australia/Sydney:20210502T150000
DTSTAMP:20260422T041719
CREATED:20210405T003554Z
LAST-MODIFIED:20210426T001803Z
UID:3797-1619956800-1619967600@www.tvsc.com.au
SUMMARY:Winter 2021 - Day 2
DESCRIPTION:Day Two of our Winter Season is this coming Sunday. \nBriefing at Midday \nSkippers\, please register here. \nIf you’d like to crew and do not have a spot\, then please put your name onto our available crew list.  If you come down on the day\, you might be able to get a last minute ride too. \nSkippers\, you can look at the list of available crew here to make arrangements. \nWe have two Pacers available to be booked for the day.  You must be a member to book and the cost is $15 per booking.  Please book here.  (Please note that approval must be given by our Commodore too.) \nOur membership fees are now half price for the rest of this season. \nSee you Sunday!
URL:https://www.tvsc.com.au/event/winter-2021-day-2/
LOCATION:Tweed Valley Sailing Club\, Boat Park opposite the Sheaok Cafe\, Fingal Road\, Fingal Heads\, NSW\, 2487\, Australia
CATEGORIES:Race
END:VEVENT
BEGIN:VEVENT
DTSTART;TZID=Australia/Sydney:20210502T090000
DTEND;TZID=Australia/Sydney:20210502T120000
DTSTAMP:20260422T041719
CREATED:20210427T045103Z
LAST-MODIFIED:20210427T045537Z
UID:3835-1619946000-1619956800@www.tvsc.com.au
SUMMARY:Juniors Sailing
DESCRIPTION:We’re holding a small juniors sailing day most Sunday’s in Winter until June. \nPlease register here \nNon members must also buy a sail pass for the day. \nPlease remind your child to help with both the set up and pack up for the day.
URL:https://www.tvsc.com.au/event/juniors-sailing-8-copy/
LOCATION:Tweed Valley Sailing Club\, Boat Park opposite the Sheaok Cafe\, Fingal Road\, Fingal Heads\, NSW\, 2487\, Australia
CATEGORIES:Juniors Sailing
END:VEVENT
BEGIN:VEVENT
DTSTART;TZID=Australia/Sydney:20210425T090000
DTEND;TZID=Australia/Sydney:20210425T120000
DTSTAMP:20260422T041719
CREATED:20210421T010720Z
LAST-MODIFIED:20210421T010720Z
UID:3827-1619341200-1619352000@www.tvsc.com.au
SUMMARY:Juniors Sailing
DESCRIPTION:We’re holding a small juniors sailing day most Sunday’s in Winter until June. \nPlease register here \nNon members must also buy a sail pass for the day. \nPlease remind your child to help with both the set up and pack up for the day.
URL:https://www.tvsc.com.au/event/juniors-sailing-8/
LOCATION:Tweed Valley Sailing Club\, Boat Park opposite the Sheaok Cafe\, Fingal Road\, Fingal Heads\, NSW\, 2487\, Australia
CATEGORIES:Juniors Sailing
END:VEVENT
BEGIN:VEVENT
DTSTART;TZID=Australia/Sydney:20210418T120000
DTEND;TZID=Australia/Sydney:20210418T150000
DTSTAMP:20260422T041719
CREATED:20210405T000948Z
LAST-MODIFIED:20210412T050142Z
UID:3794-1618747200-1618758000@www.tvsc.com.au
SUMMARY:Winter 2021 - Day 1
DESCRIPTION:Day One of our Winter Season is this coming Sunday. \nBriefing at Midday \nSkippers\, please register here. \nIf you’d like to crew and do not have a spot\, then please put your name onto our available crew list.  If you come down on the day\, you might be able to get a last minute ride too. \nSkippers\, you can look at the list of available crew here to make arrangements. \nWe have two Pacers available to be booked for the day.  You must be a member to book and the cost is $15 per booking.  Please book here.  (Please note that approval must be given by our Commodore too.) \nOur membership fees are now half price for the rest of this season. \nOne of our club NS14’s is available for the winter season.  Please call Bill on 0411 123 405 if you’d like to use it. \nSee you Sunday! \nAll times are NSW time\, which are now the same as Qld time…again.
URL:https://www.tvsc.com.au/event/winter-2021-day-1/
LOCATION:Tweed Valley Sailing Club\, Boat Park opposite the Sheaok Cafe\, Fingal Road\, Fingal Heads\, NSW\, 2487\, Australia
CATEGORIES:Race
END:VEVENT
BEGIN:VEVENT
DTSTART;TZID=Australia/Sydney:20210328T120000
DTEND;TZID=Australia/Sydney:20210328T170000
DTSTAMP:20260422T041719
CREATED:20200928T050754Z
LAST-MODIFIED:20210322T004836Z
UID:3522-1616932800-1616950800@www.tvsc.com.au
SUMMARY:Class Championships Day 3 Cancelled
DESCRIPTION:This event has been cancelled due to bad weather. \nA long race format Class Championships for all classes except NS14s. \n\nBriefing at Midday (NSW Time)\nRace Start one hour later.\n\nAll Skippers Please Register and pay your entry fee here. \nSkippers\, if you need crew\, then please fill in your details here or look at this list of potential crew looking for spots. \nCrew\, if you’re looking for a spot\, then please look at the list of skippers needing crew here.
URL:https://www.tvsc.com.au/event/class-championships-day-3/
LOCATION:Tweed Valley Sailing Club\, Boat Park opposite the Sheaok Cafe\, Fingal Road\, Fingal Heads\, NSW\, 2487\, Australia
CATEGORIES:Race
END:VEVENT
BEGIN:VEVENT
DTSTART;TZID=Australia/Sydney:20210321T120000
DTEND;TZID=Australia/Sydney:20210321T170000
DTSTAMP:20260422T041719
CREATED:20200928T054830Z
LAST-MODIFIED:20210322T004916Z
UID:3530-1616328000-1616346000@www.tvsc.com.au
SUMMARY:Class Championships Day 5 - Cancelled
DESCRIPTION:Cancelled due to bad weather and dangerous river conditions. \nA long race format Class Champsionships for all classes except NS14s \nThe NS14’s will be holding two races for their Championships during this time too. \nSkippers (including Junior Skippers) Registration: https://www.revolutionise.com.au/tweedvalleysc/events/94763/ \nSkippers\, if you need crew\, then please fill in your details here or look at this list of potential crew looking for spots. \nCrew\, if you’re looking for a spot\, then please look at the list of skippers needing crew here.
URL:https://www.tvsc.com.au/event/class-championships-day-5/
LOCATION:Tweed Valley Sailing Club\, Boat Park opposite the Sheaok Cafe\, Fingal Road\, Fingal Heads\, NSW\, 2487\, Australia
CATEGORIES:Race
END:VEVENT
BEGIN:VEVENT
DTSTART;TZID=Australia/Sydney:20210321T080000
DTEND;TZID=Australia/Sydney:20210321T170000
DTSTAMP:20260422T041719
CREATED:20200928T054911Z
LAST-MODIFIED:20210322T004937Z
UID:3532-1616313600-1616346000@www.tvsc.com.au
SUMMARY:All Handicap Point Score and NS14 Class Championships Day 5 (Combined with All Classes Day 5)
DESCRIPTION:Cancelled due to weather and dangerous river conditions. \nTwo short races. Class Championships for the NS14 fleet.  \nThis will be run during the Class Champs for the other classes.  (Was previously scheduled for the Easter Long weekend\, but there’s now no sailing on that long weekend.) \nSkippers Registration: https://www.revolutionise.com.au/tweedvalleysc/events/94763/
URL:https://www.tvsc.com.au/event/all-handicap-point-score-and-ns14-class-championships-day-5/
LOCATION:Tweed Valley Sailing Club\, Boat Park opposite the Sheaok Cafe\, Fingal Road\, Fingal Heads\, NSW\, 2487\, Australia
CATEGORIES:Race
END:VEVENT
BEGIN:VEVENT
DTSTART;VALUE=DATE:20210320
DTEND;VALUE=DATE:20210321
DTSTAMP:20260422T041719
CREATED:20210204T230132Z
LAST-MODIFIED:20210204T230150Z
UID:3729-1616198400-1616284799@www.tvsc.com.au
SUMMARY:She Sails - Learn to Sail Course Session 3
DESCRIPTION:Hi All\, \nCommencing on Saturday 20th February 2021\, we are holding our first 2021 “SheSails Sailing 1” (learn to sail) course. \nIt comprises of  3 x 4 hour sessions over 3 Saturdays –  20.2.21\, 27.2.21 and 20.3.21.  \nI am asking any competent sailor if they could assist for all or any of the 3 afternoons.  There is a need for safety boat drivers and volunteers to assist the ladies sailing the club boats (X3s\, pacers and maybe sabots\, dependent on how many participants we get for the course).   \nIt’s a fun\, bonding experience for us all\, and we’re doing what we love\, being on the waters at Fingal\, and sharing our knowledge of sailing.   \nPlease note:  None of us get paid and the proceeds go back into the club. We have recently purchased 3 pacers for the club\, so the registration from the participants is to help pay for those pacers.   \nSo\, if you have a spare Saturday\, 2 Saturdays or 3 Saturdays\, could you please let Monique know at email address:  swell.lady16@gmail.com  \nAlso\, if you know of any females who are keen to learn to sail\, please send this email on to them. \nLink to register for the event – https://www.revolutionise.com.au/tweedvalleysc/events/89970/ \nIf you have any enquiries\, please don’t hesitate to email me or phone me on 0409 761908.  
URL:https://www.tvsc.com.au/event/she-sails-learn-to-sail-course-session-1-copy-copy/
LOCATION:Tweed Valley Sailing Club\, Boat Park opposite the Sheaok Cafe\, Fingal Road\, Fingal Heads\, NSW\, 2487\, Australia
END:VEVENT
BEGIN:VEVENT
DTSTART;VALUE=DATE:20210306
DTEND;VALUE=DATE:20210308
DTSTAMP:20260422T041719
CREATED:20200720T080934Z
LAST-MODIFIED:20200720T080934Z
UID:3385-1614988800-1615161599@www.tvsc.com.au
SUMMARY:Big River Annual Regatta
DESCRIPTION:Racing and Camping on the Clarence River at Harwood.
URL:https://www.tvsc.com.au/event/big-river-annual-regatta/
LOCATION:Big River Sailing Club\, 2 Careys Lane\, Harwood\, NSW\, 2465\, Australia
CATEGORIES:Away Event
ORGANIZER;CN="Big River Sailing Club":MAILTO:bigriversailingclub@gmail.com
END:VEVENT
END:VCALENDAR