BEGIN:VCALENDAR
VERSION:2.0
PRODID:-//Tweed Valley Sailing Club - ECPv6.15.17//NONSGML v1.0//EN
CALSCALE:GREGORIAN
METHOD:PUBLISH
X-WR-CALNAME:Tweed Valley Sailing Club
X-ORIGINAL-URL:https://www.tvsc.com.au
X-WR-CALDESC:Events for Tweed Valley Sailing Club
REFRESH-INTERVAL;VALUE=DURATION:PT1H
X-Robots-Tag:noindex
X-PUBLISHED-TTL:PT1H
BEGIN:VTIMEZONE
TZID:Australia/Sydney
BEGIN:STANDARD
TZOFFSETFROM:+1100
TZOFFSETTO:+1000
TZNAME:AEST
DTSTART:20180331T160000
END:STANDARD
BEGIN:DAYLIGHT
TZOFFSETFROM:+1000
TZOFFSETTO:+1100
TZNAME:AEDT
DTSTART:20181006T160000
END:DAYLIGHT
BEGIN:STANDARD
TZOFFSETFROM:+1100
TZOFFSETTO:+1000
TZNAME:AEST
DTSTART:20190406T160000
END:STANDARD
BEGIN:DAYLIGHT
TZOFFSETFROM:+1000
TZOFFSETTO:+1100
TZNAME:AEDT
DTSTART:20191005T160000
END:DAYLIGHT
BEGIN:STANDARD
TZOFFSETFROM:+1100
TZOFFSETTO:+1000
TZNAME:AEST
DTSTART:20200404T160000
END:STANDARD
BEGIN:DAYLIGHT
TZOFFSETFROM:+1000
TZOFFSETTO:+1100
TZNAME:AEDT
DTSTART:20201003T160000
END:DAYLIGHT
END:VTIMEZONE
BEGIN:VTIMEZONE
TZID:Australia/Brisbane
BEGIN:STANDARD
TZOFFSETFROM:+1000
TZOFFSETTO:+1000
TZNAME:AEST
DTSTART:20180101T000000
END:STANDARD
END:VTIMEZONE
BEGIN:VEVENT
DTSTART;TZID=Australia/Sydney:20191013T080000
DTEND;TZID=Australia/Sydney:20191013T110000
DTSTAMP:20260422T071524
CREATED:20191009T004401Z
LAST-MODIFIED:20191009T004401Z
UID:3225-1570953600-1570964400@www.tvsc.com.au
SUMMARY:Juniors Sailing
DESCRIPTION:From 8am (NSW Time) \nBookings Essential – https://forms.gle/wRyzqmaHBr8EGXq27
URL:https://www.tvsc.com.au/event/juniors-sailing-7/
LOCATION:Tweed Valley Sailing Club\, Boat Park opposite the Sheaok Cafe\, Fingal Road\, Fingal Heads\, NSW\, 2487\, Australia
CATEGORIES:Juniors Sailing
END:VEVENT
BEGIN:VEVENT
DTSTART;TZID=Australia/Brisbane:20191006T103000
DTEND;TZID=Australia/Brisbane:20191006T140000
DTSTAMP:20260422T071524
CREATED:20190907T070959Z
LAST-MODIFIED:20190927T220159Z
UID:3147-1570357800-1570370400@www.tvsc.com.au
SUMMARY:Laser Training
DESCRIPTION:at RQ
URL:https://www.tvsc.com.au/event/laser-training-5/
LOCATION:Royal Queensland Yacht Squadron\, 578 Royal Esplanade\, Manly\, Qld\, 4179\, Australia
CATEGORIES:Away Event
END:VEVENT
BEGIN:VEVENT
DTSTART;TZID=Australia/Sydney:20191004T093000
DTEND;TZID=Australia/Sydney:20191004T120000
DTSTAMP:20260422T071524
CREATED:20190929T212913Z
LAST-MODIFIED:20190929T212913Z
UID:3221-1570181400-1570190400@www.tvsc.com.au
SUMMARY:Juniors School Holiday Sailing
DESCRIPTION:Cost $5 per person sailing\nUse this link to book https://forms.gle/P2bHip9KjvX96Px69 \nCo-ordinators Alison Blatcher 0434 982 922 / Tony Lochead 0416 016 950 \nINFO FOR NEWCOMERS\n· Please register via our membership link on www.tvsc.com.au before your first sail. You don’t need to pay yet and can cancel if you decide not to continue.\n· Complete Parents Consent Form : Parent’s consent form \nWHAT TO BRING:\n· Ideal sailing gear: old pair shorts (not denim) and long sleeve top\n· Change of clothes.\n· Footwear you can get wet (not thongs) – footwear is compulsory on and off water.\n· Sun protection: hat (tied on)\, long sleeved top\n· Cooler weather: Wind proof jacket\, a 100% wool jumper or a wet suit (OP shops are a good source)\n· Water bottle\, snack \nPROVIDED by TVSC\n· Life jackets\,\n· Booties for borrowing (mainly kids sizes)\,\n· Sailing boats\n· Support boat (RIB) and qualified safety boat drivers \nWANT TO JOIN TVSC?\n· you can have 3 “try before you buy” sails before membership is required.\n· Please register via our membership link on www.tvsc.com.au before your first sail. You don’t need to pay yet and can cancel if you decide not to continue\n· The membership year starts 1 October but is open from July. \nPARENTS\n· For ages 7-12\, and for all ages of newcomers\, this is not a drop and run session.\n· Please help out where you are able eg. supervising sign on\, crewing on safety boats\, setting up sign on tent\, pack up.\n· Want to sail? Depending on numbers there may also be an opportunity for parents to sail. \nFACILITIES \nWe do not yet have a club house (Discussions have been ongoing with Crown lands since before 2017). The container is for boat and equipment storage.\nJuniors are not permitted to enter the container unless putting boats and equipment away. \nThere are public toilets and an outdoor shower close by. \nRefreshments – the club has soft drinks \, limited snacks and sometimes bbq hot dogs/veggie burgers for sale (if someone volunteers to organise). The Sheoak Shack cafe is opposite the boat ramp car park and there is another shop/cafe a short distance further down Fingal Rd. \nCalendar & Parent’s consent form can be found on our website. \nIMPORTANT REMINDERS to Junior Sailors \n· Juniors sailing on Sabots or X3s must not leave the beach before the safety boat is at the harbour entrance.\n· Capsizing may be fun but can and has caused damage to the boats you use. Many of our boats are loaned to us by club members\,\n· Please respect the boats and equipment we are lucky enough to have available. Carry boats – never drag them.
URL:https://www.tvsc.com.au/event/juniors-school-holiday-sailing-2/
LOCATION:Tweed Valley Sailing Club\, Boat Park opposite the Sheaok Cafe\, Fingal Road\, Fingal Heads\, NSW\, 2487\, Australia
CATEGORIES:Juniors Sailing
END:VEVENT
BEGIN:VEVENT
DTSTART;TZID=Australia/Sydney:20191002T093000
DTEND;TZID=Australia/Sydney:20191002T120000
DTSTAMP:20260422T071524
CREATED:20190929T212757Z
LAST-MODIFIED:20190929T212757Z
UID:3219-1570008600-1570017600@www.tvsc.com.au
SUMMARY:Juniors School Holiday Sailing
DESCRIPTION:Cost $5 per person sailing\nUse this link to book https://forms.gle/P2bHip9KjvX96Px69 \nCo-ordinators Alison Blatcher 0434 982 922 / Tony Lochead 0416 016 950 \nINFO FOR NEWCOMERS\n· Please register via our membership link on www.tvsc.com.au before your first sail. You don’t need to pay yet and can cancel if you decide not to continue.\n· Complete Parents Consent Form : Parent’s consent form \nWHAT TO BRING:\n· Ideal sailing gear: old pair shorts (not denim) and long sleeve top\n· Change of clothes.\n· Footwear you can get wet (not thongs) – footwear is compulsory on and off water.\n· Sun protection: hat (tied on)\, long sleeved top\n· Cooler weather: Wind proof jacket\, a 100% wool jumper or a wet suit (OP shops are a good source)\n· Water bottle\, snack \nPROVIDED by TVSC\n· Life jackets\,\n· Booties for borrowing (mainly kids sizes)\,\n· Sailing boats\n· Support boat (RIB) and qualified safety boat drivers \nWANT TO JOIN TVSC?\n· you can have 3 “try before you buy” sails before membership is required.\n· Please register via our membership link on www.tvsc.com.au before your first sail. You don’t need to pay yet and can cancel if you decide not to continue\n· The membership year starts 1 October but is open from July. \nPARENTS\n· For ages 7-12\, and for all ages of newcomers\, this is not a drop and run session.\n· Please help out where you are able eg. supervising sign on\, crewing on safety boats\, setting up sign on tent\, pack up.\n· Want to sail? Depending on numbers there may also be an opportunity for parents to sail. \nFACILITIES \nWe do not yet have a club house (Discussions have been ongoing with Crown lands since before 2017). The container is for boat and equipment storage.\nJuniors are not permitted to enter the container unless putting boats and equipment away. \nThere are public toilets and an outdoor shower close by. \nRefreshments – the club has soft drinks \, limited snacks and sometimes bbq hot dogs/veggie burgers for sale (if someone volunteers to organise). The Sheoak Shack cafe is opposite the boat ramp car park and there is another shop/cafe a short distance further down Fingal Rd. \nCalendar & Parent’s consent form can be found on our website. \nIMPORTANT REMINDERS to Junior Sailors \n· Juniors sailing on Sabots or X3s must not leave the beach before the safety boat is at the harbour entrance.\n· Capsizing may be fun but can and has caused damage to the boats you use. Many of our boats are loaned to us by club members\,\n· Please respect the boats and equipment we are lucky enough to have available. Carry boats – never drag them.
URL:https://www.tvsc.com.au/event/juniors-school-holiday-sailing/
LOCATION:Tweed Valley Sailing Club\, Boat Park opposite the Sheaok Cafe\, Fingal Road\, Fingal Heads\, NSW\, 2487\, Australia
CATEGORIES:Juniors Sailing
END:VEVENT
BEGIN:VEVENT
DTSTART;TZID=Australia/Brisbane:20190929T103000
DTEND;TZID=Australia/Brisbane:20190929T140000
DTSTAMP:20260422T071524
CREATED:20190907T070958Z
LAST-MODIFIED:20190907T071339Z
UID:3146-1569753000-1569765600@www.tvsc.com.au
SUMMARY:Laser Training
DESCRIPTION:at RQ
URL:https://www.tvsc.com.au/event/laser-training-4/
LOCATION:Royal Queensland Yacht Squadron\, 578 Royal Esplanade\, Manly\, Qld\, 4179\, Australia
CATEGORIES:Away Event
END:VEVENT
BEGIN:VEVENT
DTSTART;TZID=Australia/Sydney:20190928T130000
DTEND;TZID=Australia/Sydney:20190928T153000
DTSTAMP:20260422T071524
CREATED:20190907T070958Z
LAST-MODIFIED:20190907T071312Z
UID:3145-1569675600-1569684600@www.tvsc.com.au
SUMMARY:Riverfire Regatta
DESCRIPTION:at the SBSC.
URL:https://www.tvsc.com.au/event/riverfire-regatta-sbsc-2/
LOCATION:Tweed Valley Sailing Club\, Boat Park opposite the Sheaok Cafe\, Fingal Road\, Fingal Heads\, NSW\, 2487\, Australia
CATEGORIES:Away Event
END:VEVENT
BEGIN:VEVENT
DTSTART;TZID=Australia/Sydney:20190922T130000
DTEND;TZID=Australia/Sydney:20190922T153000
DTSTAMP:20260422T071524
CREATED:20190907T070958Z
LAST-MODIFIED:20190907T071232Z
UID:3142-1569157200-1569166200@www.tvsc.com.au
SUMMARY:Warm Up Race
DESCRIPTION:Try Sailing Too!
URL:https://www.tvsc.com.au/event/warm-up-race-2/
LOCATION:Tweed Valley Sailing Club\, Boat Park opposite the Sheaok Cafe\, Fingal Road\, Fingal Heads\, NSW\, 2487\, Australia
END:VEVENT
BEGIN:VEVENT
DTSTART;TZID=Australia/Sydney:20190922T083000
DTEND;TZID=Australia/Sydney:20190922T153000
DTSTAMP:20260422T071524
CREATED:20190907T070958Z
LAST-MODIFIED:20190907T071232Z
UID:3144-1569141000-1569166200@www.tvsc.com.au
SUMMARY:NS14 Training Camp
DESCRIPTION:
URL:https://www.tvsc.com.au/event/ns14-training-camp-2/
LOCATION:Tweed Valley Sailing Club\, Boat Park opposite the Sheaok Cafe\, Fingal Road\, Fingal Heads\, NSW\, 2487\, Australia
CATEGORIES:Away Event
END:VEVENT
BEGIN:VEVENT
DTSTART;TZID=Australia/Sydney:20190922T083000
DTEND;TZID=Australia/Sydney:20190922T110000
DTSTAMP:20260422T071524
CREATED:20190430T014448Z
LAST-MODIFIED:20190430T014448Z
UID:2995-1569141000-1569150000@www.tvsc.com.au
SUMMARY:Juniors - TBC
DESCRIPTION:Juniors – Please register beforehand by email.
URL:https://www.tvsc.com.au/event/juniors-tbc-8/
LOCATION:Tweed Valley Sailing Club\, Boat Park opposite the Sheaok Cafe\, Fingal Road\, Fingal Heads\, NSW\, 2487\, Australia
CATEGORIES:Juniors Sailing
END:VEVENT
BEGIN:VEVENT
DTSTART;TZID=Australia/Sydney:20190915T160000
DTEND;TZID=Australia/Sydney:20190915T170000
DTSTAMP:20260422T071524
CREATED:20190430T014448Z
LAST-MODIFIED:20190430T014448Z
UID:2994-1568563200-1568566800@www.tvsc.com.au
SUMMARY:AGM
DESCRIPTION:AGM – Venue and time TBC
URL:https://www.tvsc.com.au/event/agm/
LOCATION:Tweed Valley Sailing Club\, Boat Park opposite the Sheaok Cafe\, Fingal Road\, Fingal Heads\, NSW\, 2487\, Australia
END:VEVENT
BEGIN:VEVENT
DTSTART;TZID=Australia/Sydney:20190907T103000
DTEND;TZID=Australia/Sydney:20190908T153000
DTSTAMP:20260422T071524
CREATED:20190430T014448Z
LAST-MODIFIED:20190430T014448Z
UID:2993-1567852200-1567956600@www.tvsc.com.au
SUMMARY:Youth Training Camp at BRSC
DESCRIPTION:Youth Training Camp at the BRSC
URL:https://www.tvsc.com.au/event/youth-training-camp-at-brsc/
LOCATION:Big River Sailing Club\, 2 Careys Lane\, Harwood\, NSW\, 2465\, Australia
ORGANIZER;CN="Big River Sailing Club":MAILTO:bigriversailingclub@gmail.com
END:VEVENT
BEGIN:VEVENT
DTSTART;VALUE=DATE:20190831
DTEND;VALUE=DATE:20190901
DTSTAMP:20260422T071524
CREATED:20190430T061420Z
LAST-MODIFIED:20230306T001846Z
UID:3005-1567209600-1567295999@www.tvsc.com.au
SUMMARY:2019 Tumbulgum Passage Race
DESCRIPTION:The 6th year of our annual race – Condong to Fingal.
URL:https://www.tvsc.com.au/event/2019-tumbulgum-passage-race/
LOCATION:Tweed Valley Sailing Club\, Boat Park opposite the Sheaok Cafe\, Fingal Road\, Fingal Heads\, NSW\, 2487\, Australia
CATEGORIES:Race
END:VEVENT
BEGIN:VEVENT
DTSTART;TZID=Australia/Sydney:20190825T130000
DTEND;TZID=Australia/Sydney:20190825T153000
DTSTAMP:20260422T071524
CREATED:20190430T014448Z
LAST-MODIFIED:20190430T014448Z
UID:2992-1566738000-1566747000@www.tvsc.com.au
SUMMARY:Race SPRINTS
DESCRIPTION:Three Short Races \n\nRace Briefing at 12pm NSW Time.\nRace start not before 1pm NSW Time.
URL:https://www.tvsc.com.au/event/race-sprints-3/
LOCATION:Tweed Valley Sailing Club\, Boat Park opposite the Sheaok Cafe\, Fingal Road\, Fingal Heads\, NSW\, 2487\, Australia
CATEGORIES:Race
END:VEVENT
BEGIN:VEVENT
DTSTART;TZID=Australia/Sydney:20190812T130000
DTEND;TZID=Australia/Sydney:20190812T153000
DTSTAMP:20260422T071524
CREATED:20190907T070325Z
LAST-MODIFIED:20190907T070325Z
UID:3125-1565614800-1565623800@www.tvsc.com.au
SUMMARY:PS Race 5 + Class Champ B
DESCRIPTION:Pointscore Race 5 and Race three for Class Champs Class B
URL:https://www.tvsc.com.au/event/ps-race-5-class-champ-b/
LOCATION:Tweed Valley Sailing Club\, Boat Park opposite the Sheaok Cafe\, Fingal Road\, Fingal Heads\, NSW\, 2487\, Australia
CATEGORIES:Race
END:VEVENT
BEGIN:VEVENT
DTSTART;TZID=Australia/Sydney:20190811T130000
DTEND;TZID=Australia/Sydney:20190811T153000
DTSTAMP:20260422T071524
CREATED:20190430T014447Z
LAST-MODIFIED:20190430T014447Z
UID:2991-1565528400-1565537400@www.tvsc.com.au
SUMMARY:Race 4 Winter Series - TBC
DESCRIPTION:Race Briefing at 12pm NSW Time.\nRace start not before 1pm NSW Time.
URL:https://www.tvsc.com.au/event/race-4-winter-series-tbc/
LOCATION:Tweed Valley Sailing Club\, Boat Park opposite the Sheaok Cafe\, Fingal Road\, Fingal Heads\, NSW\, 2487\, Australia
CATEGORIES:Race
END:VEVENT
BEGIN:VEVENT
DTSTART;TZID=Australia/Sydney:20190803T103000
DTEND;TZID=Australia/Sydney:20190803T153000
DTSTAMP:20260422T071524
CREATED:20190430T014446Z
LAST-MODIFIED:20190629T225944Z
UID:2990-1564828200-1564846200@www.tvsc.com.au
SUMMARY:Chinderah Lunch Cruise
DESCRIPTION:Chinderah Lunch Cruise
URL:https://www.tvsc.com.au/event/chinderah-lunch-cruise-2/
LOCATION:Tweed Valley Sailing Club\, Boat Park opposite the Sheaok Cafe\, Fingal Road\, Fingal Heads\, NSW\, 2487\, Australia
END:VEVENT
BEGIN:VEVENT
DTSTART;TZID=Australia/Sydney:20190728T083000
DTEND;TZID=Australia/Sydney:20190728T110000
DTSTAMP:20260422T071524
CREATED:20190430T014446Z
LAST-MODIFIED:20190430T014446Z
UID:2989-1564302600-1564311600@www.tvsc.com.au
SUMMARY:Juniors - TBC
DESCRIPTION:Juniors – Please register beforehand by email.
URL:https://www.tvsc.com.au/event/juniors-tbc-7/
LOCATION:Tweed Valley Sailing Club\, Boat Park opposite the Sheaok Cafe\, Fingal Road\, Fingal Heads\, NSW\, 2487\, Australia
CATEGORIES:Juniors Sailing
END:VEVENT
BEGIN:VEVENT
DTSTART;TZID=Australia/Sydney:20190721T170000
DTEND;TZID=Australia/Sydney:20190721T210000
DTSTAMP:20260422T071524
CREATED:20190430T014443Z
LAST-MODIFIED:20190603T222420Z
UID:2983-1563728400-1563742800@www.tvsc.com.au
SUMMARY:Annual Dinner
DESCRIPTION:TVSC Annual Dinner at the Kingscliff Bowls Club.
URL:https://www.tvsc.com.au/event/annual-dinner-tbc/
LOCATION:NSW
END:VEVENT
BEGIN:VEVENT
DTSTART;TZID=Australia/Sydney:20190721T083000
DTEND;TZID=Australia/Sydney:20190721T110000
DTSTAMP:20260422T071524
CREATED:20190430T014446Z
LAST-MODIFIED:20190430T014446Z
UID:2988-1563697800-1563706800@www.tvsc.com.au
SUMMARY:Juniors - TBC
DESCRIPTION:Juniors – Please register beforehand by email.
URL:https://www.tvsc.com.au/event/juniors-tbc-6/
LOCATION:Tweed Valley Sailing Club\, Boat Park opposite the Sheaok Cafe\, Fingal Road\, Fingal Heads\, NSW\, 2487\, Australia
CATEGORIES:Juniors Sailing
END:VEVENT
BEGIN:VEVENT
DTSTART;TZID=Australia/Sydney:20190714T130000
DTEND;TZID=Australia/Sydney:20190714T153000
DTSTAMP:20260422T071524
CREATED:20190430T014445Z
LAST-MODIFIED:20190430T014445Z
UID:2987-1563109200-1563118200@www.tvsc.com.au
SUMMARY:Race 3 Winter Series - TBC
DESCRIPTION:Race Briefing at 12pm NSW Time.\nRace start not before 1pm NSW Time.
URL:https://www.tvsc.com.au/event/race-3-winter-series-tbc/
LOCATION:Tweed Valley Sailing Club\, Boat Park opposite the Sheaok Cafe\, Fingal Road\, Fingal Heads\, NSW\, 2487\, Australia
CATEGORIES:Race
END:VEVENT
BEGIN:VEVENT
DTSTART;TZID=Australia/Sydney:20190707T083000
DTEND;TZID=Australia/Sydney:20190707T110000
DTSTAMP:20260422T071524
CREATED:20190430T014445Z
LAST-MODIFIED:20190430T014445Z
UID:2986-1562488200-1562497200@www.tvsc.com.au
SUMMARY:Juniors - TBC
DESCRIPTION:Juniors – Please register beforehand by email.
URL:https://www.tvsc.com.au/event/juniors-tbc-5/
LOCATION:Tweed Valley Sailing Club\, Boat Park opposite the Sheaok Cafe\, Fingal Road\, Fingal Heads\, NSW\, 2487\, Australia
CATEGORIES:Juniors Sailing
END:VEVENT
BEGIN:VEVENT
DTSTART;TZID=Australia/Sydney:20190630T130000
DTEND;TZID=Australia/Sydney:20190630T153000
DTSTAMP:20260422T071524
CREATED:20190430T014443Z
LAST-MODIFIED:20190430T014443Z
UID:2984-1561899600-1561908600@www.tvsc.com.au
SUMMARY:Race SPRINTS
DESCRIPTION:Three Short Races \n\nRace Briefing at 12pm NSW Time.\nRace start not before 1pm NSW Time.
URL:https://www.tvsc.com.au/event/race-sprints-2/
LOCATION:Tweed Valley Sailing Club\, Boat Park opposite the Sheaok Cafe\, Fingal Road\, Fingal Heads\, NSW\, 2487\, Australia
CATEGORIES:Race
END:VEVENT
BEGIN:VEVENT
DTSTART;TZID=Australia/Sydney:20190630T083000
DTEND;TZID=Australia/Sydney:20190630T110000
DTSTAMP:20260422T071524
CREATED:20190430T014443Z
LAST-MODIFIED:20190430T014443Z
UID:2985-1561883400-1561892400@www.tvsc.com.au
SUMMARY:Juniors - TBC
DESCRIPTION:Juniors – Please register beforehand by email.
URL:https://www.tvsc.com.au/event/juniors-tbc-4/
LOCATION:Tweed Valley Sailing Club\, Boat Park opposite the Sheaok Cafe\, Fingal Road\, Fingal Heads\, NSW\, 2487\, Australia
CATEGORIES:Juniors Sailing
END:VEVENT
BEGIN:VEVENT
DTSTART;TZID=Australia/Sydney:20190623T090000
DTEND;TZID=Australia/Sydney:20190623T120000
DTSTAMP:20260422T071524
CREATED:20190614T205915Z
LAST-MODIFIED:20190614T205915Z
UID:3037-1561280400-1561291200@www.tvsc.com.au
SUMMARY:Try Sailing!
DESCRIPTION:We’re having a try sailing day today.  \nPlease book with this link.  You must book in advance. \nEvent Contact: Alison Blatcher 0434 982 922  E: tvscmail@gmail.com\n \nThe Try Sailing event is for adults and teenagers only. It is suitable for complete beginners and also those who have sailed with us already.\n \nCost  $10 non-members; (TVSC members $5)\n \nSunday 23 June – Fingal Head Boat Ramp\nRigging from 9am – let us know if you would like to help rig a boat.\nSailing sessions in Corsairs – approx 45 mins:\n10am\n11am\n \nFor those who have sailed previously – the club X3’s & the Laser will also be available subject to approval. If you are sailing an X3/Laser come at 9 to rig. \n \nWhat to Bring/Wear\n\nFootwear you don’t mind getting wet (not thongs) – water/beach shoes ideal.\nHat  – tied on. Water.\nShorts\, long sleeve top and wind proof jacket – or wetsuit. \nA change of clothes.\n100% wool jumper is the warmest thing to wear – wool keeps you warm even when wet.\nLife jackets will be provided .\nPlease remove jewellery – especially earrings and necklaces and tie long hair up
URL:https://www.tvsc.com.au/event/try-sailing/
LOCATION:Tweed Valley Sailing Club\, Boat Park opposite the Sheaok Cafe\, Fingal Road\, Fingal Heads\, NSW\, 2487\, Australia
END:VEVENT
BEGIN:VEVENT
DTSTART;TZID=Australia/Sydney:20190610T103000
DTEND;TZID=Australia/Sydney:20190610T140000
DTSTAMP:20260422T071524
CREATED:20190907T070324Z
LAST-MODIFIED:20190907T070324Z
UID:3112-1560162600-1560175200@www.tvsc.com.au
SUMMARY:Laser Training
DESCRIPTION:
URL:https://www.tvsc.com.au/event/laser-training-2/
LOCATION:Royal Queensland Yacht Squadron\, 578 Royal Esplanade\, Manly\, Qld\, 4179\, Australia
CATEGORIES:Away Event
END:VEVENT
BEGIN:VEVENT
DTSTART;TZID=Australia/Sydney:20190602T130000
DTEND;TZID=Australia/Sydney:20190602T153000
DTSTAMP:20260422T071524
CREATED:20190430T014442Z
LAST-MODIFIED:20190430T014442Z
UID:2981-1559480400-1559489400@www.tvsc.com.au
SUMMARY:Race 2 Winter Series
DESCRIPTION:Race Briefing at 12pm NSW Time.\nRace start not before 1pm NSW Time.
URL:https://www.tvsc.com.au/event/race-2-winter-series/
LOCATION:Tweed Valley Sailing Club\, Boat Park opposite the Sheaok Cafe\, Fingal Road\, Fingal Heads\, NSW\, 2487\, Australia
CATEGORIES:Race
END:VEVENT
BEGIN:VEVENT
DTSTART;TZID=Australia/Sydney:20190602T090000
DTEND;TZID=Australia/Sydney:20190602T110000
DTSTAMP:20260422T071524
CREATED:20190430T014442Z
LAST-MODIFIED:20190527T045846Z
UID:2982-1559466000-1559473200@www.tvsc.com.au
SUMMARY:Juniors - Please Book
DESCRIPTION:Juniors – Please register your interest with this form.
URL:https://www.tvsc.com.au/event/juniors-tbc-3/
LOCATION:Tweed Valley Sailing Club\, Boat Park opposite the Sheaok Cafe\, Fingal Road\, Fingal Heads\, NSW\, 2487\, Australia
CATEGORIES:Juniors Sailing
END:VEVENT
BEGIN:VEVENT
DTSTART;TZID=Australia/Sydney:20190526T130000
DTEND;TZID=Australia/Sydney:20190526T153000
DTSTAMP:20260422T071524
CREATED:20190430T014439Z
LAST-MODIFIED:20190430T014439Z
UID:2979-1558875600-1558884600@www.tvsc.com.au
SUMMARY:Race SPRINTS
DESCRIPTION:Three Short Races \n\nRace Briefing at 12pm NSW Time.\nRace start not before 1pm NSW Time.
URL:https://www.tvsc.com.au/event/race-sprints/
LOCATION:Tweed Valley Sailing Club\, Boat Park opposite the Sheaok Cafe\, Fingal Road\, Fingal Heads\, NSW\, 2487\, Australia
CATEGORIES:Race
END:VEVENT
BEGIN:VEVENT
DTSTART;TZID=Australia/Sydney:20190526T090000
DTEND;TZID=Australia/Sydney:20190526T110000
DTSTAMP:20260422T071524
CREATED:20190430T014440Z
LAST-MODIFIED:20190521T062117Z
UID:2980-1558861200-1558868400@www.tvsc.com.au
SUMMARY:Juniors
DESCRIPTION:Juniors – Please register beforehand by email.
URL:https://www.tvsc.com.au/event/juniors-tbc-2/
LOCATION:Tweed Valley Sailing Club\, Boat Park opposite the Sheaok Cafe\, Fingal Road\, Fingal Heads\, NSW\, 2487\, Australia
CATEGORIES:Juniors Sailing
END:VEVENT
BEGIN:VEVENT
DTSTART;TZID=Australia/Sydney:20190519T083000
DTEND;TZID=Australia/Sydney:20190519T110000
DTSTAMP:20260422T071524
CREATED:20190430T014439Z
LAST-MODIFIED:20190513T005847Z
UID:2978-1558254600-1558263600@www.tvsc.com.au
SUMMARY:Juniors
DESCRIPTION:Juniors – Please register beforehand by email.
URL:https://www.tvsc.com.au/event/juniors-tbc/
LOCATION:Tweed Valley Sailing Club\, Boat Park opposite the Sheaok Cafe\, Fingal Road\, Fingal Heads\, NSW\, 2487\, Australia
CATEGORIES:Juniors Sailing
END:VEVENT
END:VCALENDAR