BEGIN:VCALENDAR
VERSION:2.0
PRODID:-//Tweed Valley Sailing Club - ECPv6.15.17//NONSGML v1.0//EN
CALSCALE:GREGORIAN
METHOD:PUBLISH
X-WR-CALNAME:Tweed Valley Sailing Club
X-ORIGINAL-URL:https://www.tvsc.com.au
X-WR-CALDESC:Events for Tweed Valley Sailing Club
REFRESH-INTERVAL;VALUE=DURATION:PT1H
X-Robots-Tag:noindex
X-PUBLISHED-TTL:PT1H
BEGIN:VTIMEZONE
TZID:Australia/Sydney
BEGIN:STANDARD
TZOFFSETFROM:+1100
TZOFFSETTO:+1000
TZNAME:AEST
DTSTART:20180331T160000
END:STANDARD
BEGIN:DAYLIGHT
TZOFFSETFROM:+1000
TZOFFSETTO:+1100
TZNAME:AEDT
DTSTART:20181006T160000
END:DAYLIGHT
BEGIN:STANDARD
TZOFFSETFROM:+1100
TZOFFSETTO:+1000
TZNAME:AEST
DTSTART:20190406T160000
END:STANDARD
BEGIN:DAYLIGHT
TZOFFSETFROM:+1000
TZOFFSETTO:+1100
TZNAME:AEDT
DTSTART:20191005T160000
END:DAYLIGHT
BEGIN:STANDARD
TZOFFSETFROM:+1100
TZOFFSETTO:+1000
TZNAME:AEST
DTSTART:20200404T160000
END:STANDARD
BEGIN:DAYLIGHT
TZOFFSETFROM:+1000
TZOFFSETTO:+1100
TZNAME:AEDT
DTSTART:20201003T160000
END:DAYLIGHT
BEGIN:STANDARD
TZOFFSETFROM:+1100
TZOFFSETTO:+1000
TZNAME:AEST
DTSTART:20210403T160000
END:STANDARD
BEGIN:DAYLIGHT
TZOFFSETFROM:+1000
TZOFFSETTO:+1100
TZNAME:AEDT
DTSTART:20211002T160000
END:DAYLIGHT
END:VTIMEZONE
BEGIN:VTIMEZONE
TZID:Australia/Brisbane
BEGIN:STANDARD
TZOFFSETFROM:+1000
TZOFFSETTO:+1000
TZNAME:AEST
DTSTART:20180101T000000
END:STANDARD
END:VTIMEZONE
BEGIN:VEVENT
DTSTART;TZID=Australia/Sydney:20200112T103000
DTEND;TZID=Australia/Sydney:20200112T153000
DTSTAMP:20260422T081102
CREATED:20190907T071001Z
LAST-MODIFIED:20190907T071235Z
UID:3162-1578825000-1578843000@www.tvsc.com.au
SUMMARY:Chinderah Lunch Cruise
DESCRIPTION:Chinderah Lunch Cruise
URL:https://www.tvsc.com.au/event/chinderah-lunch-cruise-4/
LOCATION:Tweed Valley Sailing Club\, Boat Park opposite the Sheaok Cafe\, Fingal Road\, Fingal Heads\, NSW\, 2487\, Australia
END:VEVENT
BEGIN:VEVENT
DTSTART;TZID=Australia/Sydney:20200105T080000
DTEND;TZID=Australia/Sydney:20200105T170000
DTSTAMP:20260422T081102
CREATED:20191209T060551Z
LAST-MODIFIED:20191209T060704Z
UID:3293-1578211200-1578243600@www.tvsc.com.au
SUMMARY:Bunnings BBQ
DESCRIPTION:All help appreciated on the day.
URL:https://www.tvsc.com.au/event/bunnings-bbq-3/
LOCATION:NSW
CATEGORIES:Away Event
END:VEVENT
BEGIN:VEVENT
DTSTART;VALUE=DATE:20191227
DTEND;VALUE=DATE:20191231
DTSTAMP:20260422T081102
CREATED:20190927T220118Z
LAST-MODIFIED:20190927T220118Z
UID:3215-1577404800-1577750399@www.tvsc.com.au
SUMMARY:MJ Aussie Champs
DESCRIPTION:51st Manly Junior Australian Championships
URL:https://www.tvsc.com.au/event/mj-aussie-champs/
LOCATION:Middle Harbour 16ft Skiff Club\, 237 Spit Road\, Mosman\, NSW\, Australia
CATEGORIES:Away Event
ORGANIZER;CN="NSW Manly Junior Sailing Association":MAILTO:manly.junior@gmail.com
END:VEVENT
BEGIN:VEVENT
DTSTART;TZID=Australia/Sydney:20191215T130000
DTEND;TZID=Australia/Sydney:20191215T160000
DTSTAMP:20260422T081102
CREATED:20191111T080346Z
LAST-MODIFIED:20191111T080346Z
UID:3253-1576414800-1576425600@www.tvsc.com.au
SUMMARY:Winter Series Trophy Presentation and Picnic
DESCRIPTION:Christmas Picnic and Winter Series Trophy Presentation
URL:https://www.tvsc.com.au/event/winter-series-trophy-presentation-and-picnic/
LOCATION:Tweed Valley Sailing Club\, Boat Park opposite the Sheaok Cafe\, Fingal Road\, Fingal Heads\, NSW\, 2487\, Australia
END:VEVENT
BEGIN:VEVENT
DTSTART;TZID=Australia/Sydney:20191215T110000
DTEND;TZID=Australia/Sydney:20191215T153000
DTSTAMP:20260422T081102
CREATED:20190907T071001Z
LAST-MODIFIED:20191209T060513Z
UID:3161-1576407600-1576423800@www.tvsc.com.au
SUMMARY:Sprint Series
DESCRIPTION:3 x 1 Laps (Briefing at 10am – No Juniors before hand but Juniors can race with us!)
URL:https://www.tvsc.com.au/event/sprint-series-3/
LOCATION:Tweed Valley Sailing Club\, Boat Park opposite the Sheaok Cafe\, Fingal Road\, Fingal Heads\, NSW\, 2487\, Australia
CATEGORIES:Race
END:VEVENT
BEGIN:VEVENT
DTSTART;TZID=Australia/Sydney:20191208T130000
DTEND;TZID=Australia/Sydney:20191208T153000
DTSTAMP:20260422T081102
CREATED:20190907T071001Z
LAST-MODIFIED:20190907T071234Z
UID:3160-1575810000-1575819000@www.tvsc.com.au
SUMMARY:PS Race 5 + Class Champ B
DESCRIPTION:Pointscore Race 5 and Race three for Class Champs Class B
URL:https://www.tvsc.com.au/event/ps-race-5-class-champ-b-2/
LOCATION:Tweed Valley Sailing Club\, Boat Park opposite the Sheaok Cafe\, Fingal Road\, Fingal Heads\, NSW\, 2487\, Australia
CATEGORIES:Race
END:VEVENT
BEGIN:VEVENT
DTSTART;TZID=Australia/Sydney:20191208T083000
DTEND;TZID=Australia/Sydney:20191208T103000
DTSTAMP:20260422T081102
CREATED:20191111T081148Z
LAST-MODIFIED:20191205T205138Z
UID:3259-1575793800-1575801000@www.tvsc.com.au
SUMMARY:Advanced Juniors Course
DESCRIPTION:Session for Juniors with their own boats who are racing.
URL:https://www.tvsc.com.au/event/juniors-tbc-9/
LOCATION:Tweed Valley Sailing Club\, Boat Park opposite the Sheaok Cafe\, Fingal Road\, Fingal Heads\, NSW\, 2487\, Australia
CATEGORIES:Juniors Sailing
END:VEVENT
BEGIN:VEVENT
DTSTART;TZID=Australia/Sydney:20191201T130000
DTEND;TZID=Australia/Sydney:20191201T153000
DTSTAMP:20260422T081102
CREATED:20190907T071001Z
LAST-MODIFIED:20190907T071234Z
UID:3159-1575205200-1575214200@www.tvsc.com.au
SUMMARY:PS Race 4 + Class Champ A
DESCRIPTION:Pointscore Race 4 and Race two for Class Champs Class A
URL:https://www.tvsc.com.au/event/ps-race-4-class-champ-a-2/
LOCATION:Tweed Valley Sailing Club\, Boat Park opposite the Sheaok Cafe\, Fingal Road\, Fingal Heads\, NSW\, 2487\, Australia
CATEGORIES:Race
END:VEVENT
BEGIN:VEVENT
DTSTART;TZID=Australia/Sydney:20191201T083000
DTEND;TZID=Australia/Sydney:20191201T103000
DTSTAMP:20260422T081102
CREATED:20191111T081101Z
LAST-MODIFIED:20191111T081101Z
UID:3257-1575189000-1575196200@www.tvsc.com.au
SUMMARY:Juniors
DESCRIPTION:Please register with the link provided by email.
URL:https://www.tvsc.com.au/event/juniors-3/
LOCATION:Tweed Valley Sailing Club\, Boat Park opposite the Sheaok Cafe\, Fingal Road\, Fingal Heads\, NSW\, 2487\, Australia
CATEGORIES:Juniors Sailing
END:VEVENT
BEGIN:VEVENT
DTSTART;VALUE=DATE:20191123
DTEND;VALUE=DATE:20191125
DTSTAMP:20260422T081102
CREATED:20190907T071001Z
LAST-MODIFIED:20190907T071234Z
UID:3158-1574467200-1574639999@www.tvsc.com.au
SUMMARY:BRSC Regatta
DESCRIPTION:Bridge to Breakers Regatta
URL:https://www.tvsc.com.au/event/brsc-regatta-3/
LOCATION:Big River Sailing Club\, 2 Careys Lane\, Harwood\, NSW\, 2465\, Australia
CATEGORIES:Away Event
ORGANIZER;CN="Big River Sailing Club":MAILTO:bigriversailingclub@gmail.com
END:VEVENT
BEGIN:VEVENT
DTSTART;TZID=Australia/Sydney:20191117T130000
DTEND;TZID=Australia/Sydney:20191117T153000
DTSTAMP:20260422T081102
CREATED:20190907T071000Z
LAST-MODIFIED:20190907T071234Z
UID:3156-1573995600-1574004600@www.tvsc.com.au
SUMMARY:PS Race 3 + Class Champ B
DESCRIPTION:Pointscore Race 3 and Race two for Class Champs Class B
URL:https://www.tvsc.com.au/event/ps-race-3-class-champ-b-2/
LOCATION:Tweed Valley Sailing Club\, Boat Park opposite the Sheaok Cafe\, Fingal Road\, Fingal Heads\, NSW\, 2487\, Australia
CATEGORIES:Race
END:VEVENT
BEGIN:VEVENT
DTSTART;TZID=Australia/Sydney:20191117T083000
DTEND;TZID=Australia/Sydney:20191117T100000
DTSTAMP:20260422T081102
CREATED:20191111T080501Z
LAST-MODIFIED:20191111T080501Z
UID:3255-1573979400-1573984800@www.tvsc.com.au
SUMMARY:Juniors
DESCRIPTION:Please register using the email link
URL:https://www.tvsc.com.au/event/juniors-2/
LOCATION:Tweed Valley Sailing Club\, Boat Park opposite the Sheaok Cafe\, Fingal Road\, Fingal Heads\, NSW\, 2487\, Australia
CATEGORIES:Juniors Sailing
END:VEVENT
BEGIN:VEVENT
DTSTART;VALUE=DATE:20191116
DTEND;VALUE=DATE:20191118
DTSTAMP:20260422T081102
CREATED:20190907T070326Z
LAST-MODIFIED:20190907T071234Z
UID:3130-1573862400-1574035199@www.tvsc.com.au
SUMMARY:Laser States
DESCRIPTION:at Hervey Bay
URL:https://www.tvsc.com.au/event/laser-states-2/
LOCATION:Royal Queensland Yacht Squadron\, 578 Royal Esplanade\, Manly\, Qld\, 4179\, Australia
CATEGORIES:Away Event
END:VEVENT
BEGIN:VEVENT
DTSTART;TZID=Australia/Sydney:20191110T110000
DTEND;TZID=Australia/Sydney:20191110T153000
DTSTAMP:20260422T081102
CREATED:20190907T071000Z
LAST-MODIFIED:20190907T071234Z
UID:3155-1573383600-1573399800@www.tvsc.com.au
SUMMARY:PS Race 2 + Class Champ A
DESCRIPTION:Pointscore Race 2 and Race one for Class Champs Class A (Briefing at 10am)
URL:https://www.tvsc.com.au/event/ps-race-2-class-champ-a-2/
LOCATION:Tweed Valley Sailing Club\, Boat Park opposite the Sheaok Cafe\, Fingal Road\, Fingal Heads\, NSW\, 2487\, Australia
CATEGORIES:Race
END:VEVENT
BEGIN:VEVENT
DTSTART;TZID=Australia/Sydney:20191109T110000
DTEND;TZID=Australia/Sydney:20191109T150000
DTSTAMP:20260422T081102
CREATED:20191017T225315Z
LAST-MODIFIED:20191017T225315Z
UID:3231-1573297200-1573311600@www.tvsc.com.au
SUMMARY:She Sails -
DESCRIPTION:We’re running an all female event. \nPlease see the email for more details.
URL:https://www.tvsc.com.au/event/she-sails/
LOCATION:Tweed Valley Sailing Club\, Boat Park opposite the Sheaok Cafe\, Fingal Road\, Fingal Heads\, NSW\, 2487\, Australia
END:VEVENT
BEGIN:VEVENT
DTSTART;TZID=Australia/Sydney:20191103T130000
DTEND;TZID=Australia/Sydney:20191103T153000
DTSTAMP:20260422T081102
CREATED:20190907T071000Z
LAST-MODIFIED:20191029T050752Z
UID:3152-1572786000-1572795000@www.tvsc.com.au
SUMMARY:To Be Confirmed - Sprints/Group A
DESCRIPTION:Maybe Swapped with 10 November
URL:https://www.tvsc.com.au/event/tbc-sprints-group-a-2/
LOCATION:Tweed Valley Sailing Club\, Boat Park opposite the Sheaok Cafe\, Fingal Road\, Fingal Heads\, NSW\, 2487\, Australia
CATEGORIES:Race
END:VEVENT
BEGIN:VEVENT
DTSTART;TZID=Australia/Brisbane:20191103T130000
DTEND;TZID=Australia/Brisbane:20191103T153000
DTSTAMP:20260422T081102
CREATED:20190907T071000Z
LAST-MODIFIED:20190907T071234Z
UID:3153-1572786000-1572795000@www.tvsc.com.au
SUMMARY:LCSC Cat Challenge
DESCRIPTION:
URL:https://www.tvsc.com.au/event/lcsc-cat-challenge-2/
LOCATION:Lake Cootharaba Sailing Club\, 24 Boreen Parade\, Boreen Point\, Qld\, 4565\, Australia
CATEGORIES:Away Event
END:VEVENT
BEGIN:VEVENT
DTSTART;TZID=Australia/Brisbane:20191103T103000
DTEND;TZID=Australia/Brisbane:20191103T103000
DTSTAMP:20260422T081102
CREATED:20190907T071000Z
LAST-MODIFIED:20190907T071234Z
UID:3154-1572777000-1572777000@www.tvsc.com.au
SUMMARY:Laser Training
DESCRIPTION:
URL:https://www.tvsc.com.au/event/laser-training-6/
LOCATION:Royal Queensland Yacht Squadron\, 578 Royal Esplanade\, Manly\, Qld\, 4179\, Australia
CATEGORIES:Away Event
END:VEVENT
BEGIN:VEVENT
DTSTART;TZID=Australia/Sydney:20191102T100000
DTEND;TZID=Australia/Sydney:20191102T153000
DTSTAMP:20260422T081102
CREATED:20190907T071000Z
LAST-MODIFIED:20190907T071234Z
UID:3151-1572688800-1572708600@www.tvsc.com.au
SUMMARY:RRSRC Regatta Ballina
DESCRIPTION:
URL:https://www.tvsc.com.au/event/rrsrc-regatta-ballina-2/
LOCATION:NSW
CATEGORIES:Away Event
END:VEVENT
BEGIN:VEVENT
DTSTART;TZID=Australia/Sydney:20191020T130000
DTEND;TZID=Australia/Sydney:20191020T153000
DTSTAMP:20260422T081102
CREATED:20190907T071000Z
LAST-MODIFIED:20190907T071233Z
UID:3149-1571576400-1571585400@www.tvsc.com.au
SUMMARY:PS Race 1 + Class Champ B
DESCRIPTION:Pointscore Race 1 and Race one for Class Champs Class B
URL:https://www.tvsc.com.au/event/ps-race-1-class-champ-b-2/
LOCATION:Tweed Valley Sailing Club\, Boat Park opposite the Sheaok Cafe\, Fingal Road\, Fingal Heads\, NSW\, 2487\, Australia
CATEGORIES:Race
END:VEVENT
BEGIN:VEVENT
DTSTART;VALUE=DATE:20191019
DTEND;VALUE=DATE:20191021
DTSTAMP:20260422T081102
CREATED:20190907T071000Z
LAST-MODIFIED:20190907T071233Z
UID:3150-1571443200-1571615999@www.tvsc.com.au
SUMMARY:BRSC Singlehanders Regatta
DESCRIPTION:
URL:https://www.tvsc.com.au/event/brsc-singlehanders-regatta-3/
LOCATION:Big River Sailing Club\, 2 Careys Lane\, Harwood\, NSW\, 2465\, Australia
CATEGORIES:Away Event
ORGANIZER;CN="Big River Sailing Club":MAILTO:bigriversailingclub@gmail.com
END:VEVENT
BEGIN:VEVENT
DTSTART;TZID=Australia/Sydney:20191013T130000
DTEND;TZID=Australia/Sydney:20191013T153000
DTSTAMP:20260422T081102
CREATED:20190907T070959Z
LAST-MODIFIED:20190907T071233Z
UID:3148-1570971600-1570980600@www.tvsc.com.au
SUMMARY:Sprint Series
DESCRIPTION:3 x 1 Laps
URL:https://www.tvsc.com.au/event/sprint-series-2/
LOCATION:Tweed Valley Sailing Club\, Boat Park opposite the Sheaok Cafe\, Fingal Road\, Fingal Heads\, NSW\, 2487\, Australia
CATEGORIES:Race
END:VEVENT
BEGIN:VEVENT
DTSTART;TZID=Australia/Sydney:20191013T080000
DTEND;TZID=Australia/Sydney:20191013T110000
DTSTAMP:20260422T081102
CREATED:20191009T004401Z
LAST-MODIFIED:20191009T004401Z
UID:3225-1570953600-1570964400@www.tvsc.com.au
SUMMARY:Juniors Sailing
DESCRIPTION:From 8am (NSW Time) \nBookings Essential – https://forms.gle/wRyzqmaHBr8EGXq27
URL:https://www.tvsc.com.au/event/juniors-sailing-7/
LOCATION:Tweed Valley Sailing Club\, Boat Park opposite the Sheaok Cafe\, Fingal Road\, Fingal Heads\, NSW\, 2487\, Australia
CATEGORIES:Juniors Sailing
END:VEVENT
BEGIN:VEVENT
DTSTART;TZID=Australia/Brisbane:20191006T103000
DTEND;TZID=Australia/Brisbane:20191006T140000
DTSTAMP:20260422T081102
CREATED:20190907T070959Z
LAST-MODIFIED:20190927T220159Z
UID:3147-1570357800-1570370400@www.tvsc.com.au
SUMMARY:Laser Training
DESCRIPTION:at RQ
URL:https://www.tvsc.com.au/event/laser-training-5/
LOCATION:Royal Queensland Yacht Squadron\, 578 Royal Esplanade\, Manly\, Qld\, 4179\, Australia
CATEGORIES:Away Event
END:VEVENT
BEGIN:VEVENT
DTSTART;TZID=Australia/Sydney:20191004T093000
DTEND;TZID=Australia/Sydney:20191004T120000
DTSTAMP:20260422T081102
CREATED:20190929T212913Z
LAST-MODIFIED:20190929T212913Z
UID:3221-1570181400-1570190400@www.tvsc.com.au
SUMMARY:Juniors School Holiday Sailing
DESCRIPTION:Cost $5 per person sailing\nUse this link to book https://forms.gle/P2bHip9KjvX96Px69 \nCo-ordinators Alison Blatcher 0434 982 922 / Tony Lochead 0416 016 950 \nINFO FOR NEWCOMERS\n· Please register via our membership link on www.tvsc.com.au before your first sail. You don’t need to pay yet and can cancel if you decide not to continue.\n· Complete Parents Consent Form : Parent’s consent form \nWHAT TO BRING:\n· Ideal sailing gear: old pair shorts (not denim) and long sleeve top\n· Change of clothes.\n· Footwear you can get wet (not thongs) – footwear is compulsory on and off water.\n· Sun protection: hat (tied on)\, long sleeved top\n· Cooler weather: Wind proof jacket\, a 100% wool jumper or a wet suit (OP shops are a good source)\n· Water bottle\, snack \nPROVIDED by TVSC\n· Life jackets\,\n· Booties for borrowing (mainly kids sizes)\,\n· Sailing boats\n· Support boat (RIB) and qualified safety boat drivers \nWANT TO JOIN TVSC?\n· you can have 3 “try before you buy” sails before membership is required.\n· Please register via our membership link on www.tvsc.com.au before your first sail. You don’t need to pay yet and can cancel if you decide not to continue\n· The membership year starts 1 October but is open from July. \nPARENTS\n· For ages 7-12\, and for all ages of newcomers\, this is not a drop and run session.\n· Please help out where you are able eg. supervising sign on\, crewing on safety boats\, setting up sign on tent\, pack up.\n· Want to sail? Depending on numbers there may also be an opportunity for parents to sail. \nFACILITIES \nWe do not yet have a club house (Discussions have been ongoing with Crown lands since before 2017). The container is for boat and equipment storage.\nJuniors are not permitted to enter the container unless putting boats and equipment away. \nThere are public toilets and an outdoor shower close by. \nRefreshments – the club has soft drinks \, limited snacks and sometimes bbq hot dogs/veggie burgers for sale (if someone volunteers to organise). The Sheoak Shack cafe is opposite the boat ramp car park and there is another shop/cafe a short distance further down Fingal Rd. \nCalendar & Parent’s consent form can be found on our website. \nIMPORTANT REMINDERS to Junior Sailors \n· Juniors sailing on Sabots or X3s must not leave the beach before the safety boat is at the harbour entrance.\n· Capsizing may be fun but can and has caused damage to the boats you use. Many of our boats are loaned to us by club members\,\n· Please respect the boats and equipment we are lucky enough to have available. Carry boats – never drag them.
URL:https://www.tvsc.com.au/event/juniors-school-holiday-sailing-2/
LOCATION:Tweed Valley Sailing Club\, Boat Park opposite the Sheaok Cafe\, Fingal Road\, Fingal Heads\, NSW\, 2487\, Australia
CATEGORIES:Juniors Sailing
END:VEVENT
BEGIN:VEVENT
DTSTART;TZID=Australia/Sydney:20191002T093000
DTEND;TZID=Australia/Sydney:20191002T120000
DTSTAMP:20260422T081102
CREATED:20190929T212757Z
LAST-MODIFIED:20190929T212757Z
UID:3219-1570008600-1570017600@www.tvsc.com.au
SUMMARY:Juniors School Holiday Sailing
DESCRIPTION:Cost $5 per person sailing\nUse this link to book https://forms.gle/P2bHip9KjvX96Px69 \nCo-ordinators Alison Blatcher 0434 982 922 / Tony Lochead 0416 016 950 \nINFO FOR NEWCOMERS\n· Please register via our membership link on www.tvsc.com.au before your first sail. You don’t need to pay yet and can cancel if you decide not to continue.\n· Complete Parents Consent Form : Parent’s consent form \nWHAT TO BRING:\n· Ideal sailing gear: old pair shorts (not denim) and long sleeve top\n· Change of clothes.\n· Footwear you can get wet (not thongs) – footwear is compulsory on and off water.\n· Sun protection: hat (tied on)\, long sleeved top\n· Cooler weather: Wind proof jacket\, a 100% wool jumper or a wet suit (OP shops are a good source)\n· Water bottle\, snack \nPROVIDED by TVSC\n· Life jackets\,\n· Booties for borrowing (mainly kids sizes)\,\n· Sailing boats\n· Support boat (RIB) and qualified safety boat drivers \nWANT TO JOIN TVSC?\n· you can have 3 “try before you buy” sails before membership is required.\n· Please register via our membership link on www.tvsc.com.au before your first sail. You don’t need to pay yet and can cancel if you decide not to continue\n· The membership year starts 1 October but is open from July. \nPARENTS\n· For ages 7-12\, and for all ages of newcomers\, this is not a drop and run session.\n· Please help out where you are able eg. supervising sign on\, crewing on safety boats\, setting up sign on tent\, pack up.\n· Want to sail? Depending on numbers there may also be an opportunity for parents to sail. \nFACILITIES \nWe do not yet have a club house (Discussions have been ongoing with Crown lands since before 2017). The container is for boat and equipment storage.\nJuniors are not permitted to enter the container unless putting boats and equipment away. \nThere are public toilets and an outdoor shower close by. \nRefreshments – the club has soft drinks \, limited snacks and sometimes bbq hot dogs/veggie burgers for sale (if someone volunteers to organise). The Sheoak Shack cafe is opposite the boat ramp car park and there is another shop/cafe a short distance further down Fingal Rd. \nCalendar & Parent’s consent form can be found on our website. \nIMPORTANT REMINDERS to Junior Sailors \n· Juniors sailing on Sabots or X3s must not leave the beach before the safety boat is at the harbour entrance.\n· Capsizing may be fun but can and has caused damage to the boats you use. Many of our boats are loaned to us by club members\,\n· Please respect the boats and equipment we are lucky enough to have available. Carry boats – never drag them.
URL:https://www.tvsc.com.au/event/juniors-school-holiday-sailing/
LOCATION:Tweed Valley Sailing Club\, Boat Park opposite the Sheaok Cafe\, Fingal Road\, Fingal Heads\, NSW\, 2487\, Australia
CATEGORIES:Juniors Sailing
END:VEVENT
BEGIN:VEVENT
DTSTART;TZID=Australia/Brisbane:20190929T103000
DTEND;TZID=Australia/Brisbane:20190929T140000
DTSTAMP:20260422T081102
CREATED:20190907T070958Z
LAST-MODIFIED:20190907T071339Z
UID:3146-1569753000-1569765600@www.tvsc.com.au
SUMMARY:Laser Training
DESCRIPTION:at RQ
URL:https://www.tvsc.com.au/event/laser-training-4/
LOCATION:Royal Queensland Yacht Squadron\, 578 Royal Esplanade\, Manly\, Qld\, 4179\, Australia
CATEGORIES:Away Event
END:VEVENT
BEGIN:VEVENT
DTSTART;TZID=Australia/Sydney:20190928T130000
DTEND;TZID=Australia/Sydney:20190928T153000
DTSTAMP:20260422T081102
CREATED:20190907T070958Z
LAST-MODIFIED:20190907T071312Z
UID:3145-1569675600-1569684600@www.tvsc.com.au
SUMMARY:Riverfire Regatta
DESCRIPTION:at the SBSC.
URL:https://www.tvsc.com.au/event/riverfire-regatta-sbsc-2/
LOCATION:Tweed Valley Sailing Club\, Boat Park opposite the Sheaok Cafe\, Fingal Road\, Fingal Heads\, NSW\, 2487\, Australia
CATEGORIES:Away Event
END:VEVENT
BEGIN:VEVENT
DTSTART;TZID=Australia/Sydney:20190922T130000
DTEND;TZID=Australia/Sydney:20190922T153000
DTSTAMP:20260422T081102
CREATED:20190907T070958Z
LAST-MODIFIED:20190907T071232Z
UID:3142-1569157200-1569166200@www.tvsc.com.au
SUMMARY:Warm Up Race
DESCRIPTION:Try Sailing Too!
URL:https://www.tvsc.com.au/event/warm-up-race-2/
LOCATION:Tweed Valley Sailing Club\, Boat Park opposite the Sheaok Cafe\, Fingal Road\, Fingal Heads\, NSW\, 2487\, Australia
END:VEVENT
BEGIN:VEVENT
DTSTART;TZID=Australia/Sydney:20190922T083000
DTEND;TZID=Australia/Sydney:20190922T153000
DTSTAMP:20260422T081102
CREATED:20190907T070958Z
LAST-MODIFIED:20190907T071232Z
UID:3144-1569141000-1569166200@www.tvsc.com.au
SUMMARY:NS14 Training Camp
DESCRIPTION:
URL:https://www.tvsc.com.au/event/ns14-training-camp-2/
LOCATION:Tweed Valley Sailing Club\, Boat Park opposite the Sheaok Cafe\, Fingal Road\, Fingal Heads\, NSW\, 2487\, Australia
CATEGORIES:Away Event
END:VEVENT
END:VCALENDAR