BEGIN:VCALENDAR
VERSION:2.0
PRODID:-//Tweed Valley Sailing Club - ECPv6.15.17//NONSGML v1.0//EN
CALSCALE:GREGORIAN
METHOD:PUBLISH
X-ORIGINAL-URL:https://www.tvsc.com.au
X-WR-CALDESC:Events for Tweed Valley Sailing Club
REFRESH-INTERVAL;VALUE=DURATION:PT1H
X-Robots-Tag:noindex
X-PUBLISHED-TTL:PT1H
BEGIN:VTIMEZONE
TZID:Australia/Sydney
BEGIN:STANDARD
TZOFFSETFROM:+1100
TZOFFSETTO:+1000
TZNAME:AEST
DTSTART:20190406T160000
END:STANDARD
BEGIN:DAYLIGHT
TZOFFSETFROM:+1000
TZOFFSETTO:+1100
TZNAME:AEDT
DTSTART:20191005T160000
END:DAYLIGHT
BEGIN:STANDARD
TZOFFSETFROM:+1100
TZOFFSETTO:+1000
TZNAME:AEST
DTSTART:20200404T160000
END:STANDARD
BEGIN:DAYLIGHT
TZOFFSETFROM:+1000
TZOFFSETTO:+1100
TZNAME:AEDT
DTSTART:20201003T160000
END:DAYLIGHT
BEGIN:STANDARD
TZOFFSETFROM:+1100
TZOFFSETTO:+1000
TZNAME:AEST
DTSTART:20210403T160000
END:STANDARD
BEGIN:DAYLIGHT
TZOFFSETFROM:+1000
TZOFFSETTO:+1100
TZNAME:AEDT
DTSTART:20211002T160000
END:DAYLIGHT
END:VTIMEZONE
BEGIN:VEVENT
DTSTART;TZID=Australia/Sydney:20200301T130000
DTEND;TZID=Australia/Sydney:20200301T153000
DTSTAMP:20260426T140203
CREATED:20190907T070326Z
LAST-MODIFIED:20190907T071235Z
UID:3132-1583067600-1583076600@www.tvsc.com.au
SUMMARY:PS Race 9 + Class Champ B
DESCRIPTION:Pointscore Race 9 and Race five for Class Champs Class B
URL:https://www.tvsc.com.au/event/ps-race-9-class-champ-b/
LOCATION:Tweed Valley Sailing Club\, Boat Park opposite the Sheaok Cafe\, Fingal Road\, Fingal Heads\, NSW\, 2487\, Australia
CATEGORIES:Race
END:VEVENT
BEGIN:VEVENT
DTSTART;VALUE=DATE:20200307
DTEND;VALUE=DATE:20200309
DTSTAMP:20260426T140203
CREATED:20190907T071002Z
LAST-MODIFIED:20190907T071235Z
UID:3168-1583539200-1583711999@www.tvsc.com.au
SUMMARY:BRSC Annual Regatta
DESCRIPTION:Great Camping!
URL:https://www.tvsc.com.au/event/brsc-annual-regatta-3/
LOCATION:Big River Sailing Club\, 2 Careys Lane\, Harwood\, NSW\, 2465\, Australia
CATEGORIES:Away Event
ORGANIZER;CN="Big River Sailing Club":MAILTO:bigriversailingclub@gmail.com
END:VEVENT
BEGIN:VEVENT
DTSTART;TZID=Australia/Sydney:20200315T130000
DTEND;TZID=Australia/Sydney:20200315T153000
DTSTAMP:20260426T140203
CREATED:20190907T071002Z
LAST-MODIFIED:20190907T071235Z
UID:3167-1584277200-1584286200@www.tvsc.com.au
SUMMARY:PS Race 10 + Class Champ A
DESCRIPTION:Pointscore Race 10 and Race five for Class Champs Class A
URL:https://www.tvsc.com.au/event/ps-race-10-class-champ-a-2/
LOCATION:Tweed Valley Sailing Club\, Boat Park opposite the Sheaok Cafe\, Fingal Road\, Fingal Heads\, NSW\, 2487\, Australia
CATEGORIES:Race
END:VEVENT
BEGIN:VEVENT
DTSTART;TZID=Australia/Sydney:20200329T120000
DTEND;TZID=Australia/Sydney:20200329T153000
DTSTAMP:20260426T140203
CREATED:20190907T071002Z
LAST-MODIFIED:20200326T063845Z
UID:3169-1585483200-1585495800@www.tvsc.com.au
SUMMARY:Rescheduled Corsair Class Champ - Postponed.  Date to be advised.
DESCRIPTION:Was the Chindy Challenge\, now rescheduled Corsair Class Champs
URL:https://www.tvsc.com.au/event/chinderah-challenge-race-2/
LOCATION:Tweed Valley Sailing Club\, Boat Park opposite the Sheaok Cafe\, Fingal Road\, Fingal Heads\, NSW\, 2487\, Australia
CATEGORIES:Race
END:VEVENT
END:VCALENDAR