BEGIN:VCALENDAR
VERSION:2.0
PRODID:-//Tweed Valley Sailing Club - ECPv6.15.17//NONSGML v1.0//EN
CALSCALE:GREGORIAN
METHOD:PUBLISH
X-ORIGINAL-URL:https://www.tvsc.com.au
X-WR-CALDESC:Events for Tweed Valley Sailing Club
REFRESH-INTERVAL;VALUE=DURATION:PT1H
X-Robots-Tag:noindex
X-PUBLISHED-TTL:PT1H
BEGIN:VTIMEZONE
TZID:Australia/Sydney
BEGIN:STANDARD
TZOFFSETFROM:+1100
TZOFFSETTO:+1000
TZNAME:AEST
DTSTART:20190406T160000
END:STANDARD
BEGIN:DAYLIGHT
TZOFFSETFROM:+1000
TZOFFSETTO:+1100
TZNAME:AEDT
DTSTART:20191005T160000
END:DAYLIGHT
BEGIN:STANDARD
TZOFFSETFROM:+1100
TZOFFSETTO:+1000
TZNAME:AEST
DTSTART:20200404T160000
END:STANDARD
BEGIN:DAYLIGHT
TZOFFSETFROM:+1000
TZOFFSETTO:+1100
TZNAME:AEDT
DTSTART:20201003T160000
END:DAYLIGHT
BEGIN:STANDARD
TZOFFSETFROM:+1100
TZOFFSETTO:+1000
TZNAME:AEST
DTSTART:20210403T160000
END:STANDARD
BEGIN:DAYLIGHT
TZOFFSETFROM:+1000
TZOFFSETTO:+1100
TZNAME:AEDT
DTSTART:20211002T160000
END:DAYLIGHT
END:VTIMEZONE
BEGIN:VEVENT
DTSTART;TZID=Australia/Sydney:20200712T110000
DTEND;TZID=Australia/Sydney:20200712T150000
DTSTAMP:20260426T084421
CREATED:20200713T223449Z
LAST-MODIFIED:20200713T223449Z
UID:3362-1594551600-1594566000@www.tvsc.com.au
SUMMARY:Covid Race Day
DESCRIPTION:A covid edition race day.  Briefing at 11am\, race start at midday. \nEveryone attending must register online and abide by the rules set by Australian Sailing for NSW racing and NSW goverment.
URL:https://www.tvsc.com.au/event/covid-race-day/
LOCATION:Tweed Valley Sailing Club\, Boat Park opposite the Sheaok Cafe\, Fingal Road\, Fingal Heads\, NSW\, 2487\, Australia
CATEGORIES:Race
END:VEVENT
BEGIN:VEVENT
DTSTART;TZID=Australia/Sydney:20200726T110000
DTEND;TZID=Australia/Sydney:20200726T150000
DTSTAMP:20260426T084421
CREATED:20200713T223723Z
LAST-MODIFIED:20200720T014027Z
UID:3364-1595761200-1595775600@www.tvsc.com.au
SUMMARY:Covid Race Day 2
DESCRIPTION:A covid edition race day.  Briefing at 11am\, race start at midday.  \nBe there earlier to rig your boats. \nNo official time keeping or results. \nEveryone attending must register online and abide by the rules set by Australian Sailing for NSW racing and NSW goverment. \nRegistration Linke: https://www.revolutionise.com.au/tweedvalleysc/events/70461/
URL:https://www.tvsc.com.au/event/covid-race-day-2/
LOCATION:Tweed Valley Sailing Club\, Boat Park opposite the Sheaok Cafe\, Fingal Road\, Fingal Heads\, NSW\, 2487\, Australia
CATEGORIES:Race
END:VEVENT
END:VCALENDAR