BEGIN:VCALENDAR
VERSION:2.0
PRODID:-//Tweed Valley Sailing Club - ECPv6.15.17//NONSGML v1.0//EN
CALSCALE:GREGORIAN
METHOD:PUBLISH
X-WR-CALNAME:Tweed Valley Sailing Club
X-ORIGINAL-URL:https://www.tvsc.com.au
X-WR-CALDESC:Events for Tweed Valley Sailing Club
REFRESH-INTERVAL;VALUE=DURATION:PT1H
X-Robots-Tag:noindex
X-PUBLISHED-TTL:PT1H
BEGIN:VTIMEZONE
TZID:Australia/Sydney
BEGIN:STANDARD
TZOFFSETFROM:+1100
TZOFFSETTO:+1000
TZNAME:AEST
DTSTART:20190406T160000
END:STANDARD
BEGIN:DAYLIGHT
TZOFFSETFROM:+1000
TZOFFSETTO:+1100
TZNAME:AEDT
DTSTART:20191005T160000
END:DAYLIGHT
BEGIN:STANDARD
TZOFFSETFROM:+1100
TZOFFSETTO:+1000
TZNAME:AEST
DTSTART:20200404T160000
END:STANDARD
BEGIN:DAYLIGHT
TZOFFSETFROM:+1000
TZOFFSETTO:+1100
TZNAME:AEDT
DTSTART:20201003T160000
END:DAYLIGHT
BEGIN:STANDARD
TZOFFSETFROM:+1100
TZOFFSETTO:+1000
TZNAME:AEST
DTSTART:20210403T160000
END:STANDARD
BEGIN:DAYLIGHT
TZOFFSETFROM:+1000
TZOFFSETTO:+1100
TZNAME:AEDT
DTSTART:20211002T160000
END:DAYLIGHT
END:VTIMEZONE
BEGIN:VEVENT
DTSTART;TZID=Australia/Sydney:20200809T100000
DTEND;TZID=Australia/Sydney:20200809T150000
DTSTAMP:20260426T072630
CREATED:20200803T030533Z
LAST-MODIFIED:20200803T030533Z
UID:3391-1596967200-1596985200@www.tvsc.com.au
SUMMARY:Covid Race Day 3
DESCRIPTION:A covid edition race day. Briefing at 11am\, race start at midday. \nBe there earlier to rig your boats. \nNo official time keeping or results. \nEveryone attending must register online and abide by the rules set by Australian Sailing for NSW racing and NSW Goverment. \nRegistration Link: https://www.revolutionise.com.au/tweedvalleysc/events/71586/
URL:https://www.tvsc.com.au/event/covid-race-day-3/
LOCATION:Tweed Valley Sailing Club\, Boat Park opposite the Sheaok Cafe\, Fingal Road\, Fingal Heads\, NSW\, 2487\, Australia
CATEGORIES:Race
END:VEVENT
BEGIN:VEVENT
DTSTART;TZID=Australia/Sydney:20200823T090000
DTEND;TZID=Australia/Sydney:20200823T130000
DTSTAMP:20260426T072630
CREATED:20200809T220822Z
LAST-MODIFIED:20200809T220822Z
UID:3399-1598173200-1598187600@www.tvsc.com.au
SUMMARY:Race Day
DESCRIPTION:Possibly an earlier start\, due to the tide.
URL:https://www.tvsc.com.au/event/race-day/
LOCATION:Tweed Valley Sailing Club\, Boat Park opposite the Sheaok Cafe\, Fingal Road\, Fingal Heads\, NSW\, 2487\, Australia
CATEGORIES:Race
END:VEVENT
BEGIN:VEVENT
DTSTART;TZID=Australia/Sydney:20200830T100000
DTEND;TZID=Australia/Sydney:20200830T140000
DTSTAMP:20260426T072630
CREATED:20200824T014019Z
LAST-MODIFIED:20200824T014019Z
UID:3404-1598781600-1598796000@www.tvsc.com.au
SUMMARY:Adult Sail Training Day
DESCRIPTION:Bookings Essential. \nWe’re holding sail training sessions for adults who are new to sailing. \nhttps://www.revolutionise.com.au/tweedvalleysc/events/list/
URL:https://www.tvsc.com.au/event/adult-sail-training-day/
LOCATION:Tweed Valley Sailing Club\, Boat Park opposite the Sheaok Cafe\, Fingal Road\, Fingal Heads\, NSW\, 2487\, Australia
END:VEVENT
BEGIN:VEVENT
DTSTART;TZID=Australia/Sydney:20200830T100000
DTEND;TZID=Australia/Sydney:20200830T150000
DTSTAMP:20260426T072630
CREATED:20200825T030331Z
LAST-MODIFIED:20200825T030520Z
UID:3413-1598781600-1598799600@www.tvsc.com.au
SUMMARY:Covid Race Day 5
DESCRIPTION:A covid edition race day. Briefing at 11am\, race start at midday. \nBe there earlier to rig your boats. \nNo official time keeping or results. \nEveryone attending must register online and abide by the rules set by Australian Sailing for NSW racing and NSW Goverment. \nRegistration Link: https://www.revolutionise.com.au/tweedvalleysc/events/71586/
URL:https://www.tvsc.com.au/event/covid-race-day-3-copy/
LOCATION:Tweed Valley Sailing Club\, Boat Park opposite the Sheaok Cafe\, Fingal Road\, Fingal Heads\, NSW\, 2487\, Australia
CATEGORIES:Race
END:VEVENT
END:VCALENDAR