BEGIN:VCALENDAR
VERSION:2.0
PRODID:-//Tweed Valley Sailing Club - ECPv6.15.17//NONSGML v1.0//EN
CALSCALE:GREGORIAN
METHOD:PUBLISH
X-WR-CALNAME:Tweed Valley Sailing Club
X-ORIGINAL-URL:https://www.tvsc.com.au
X-WR-CALDESC:Events for Tweed Valley Sailing Club
REFRESH-INTERVAL;VALUE=DURATION:PT1H
X-Robots-Tag:noindex
X-PUBLISHED-TTL:PT1H
BEGIN:VTIMEZONE
TZID:Australia/Sydney
BEGIN:STANDARD
TZOFFSETFROM:+1100
TZOFFSETTO:+1000
TZNAME:AEST
DTSTART:20190406T160000
END:STANDARD
BEGIN:DAYLIGHT
TZOFFSETFROM:+1000
TZOFFSETTO:+1100
TZNAME:AEDT
DTSTART:20191005T160000
END:DAYLIGHT
BEGIN:STANDARD
TZOFFSETFROM:+1100
TZOFFSETTO:+1000
TZNAME:AEST
DTSTART:20200404T160000
END:STANDARD
BEGIN:DAYLIGHT
TZOFFSETFROM:+1000
TZOFFSETTO:+1100
TZNAME:AEDT
DTSTART:20201003T160000
END:DAYLIGHT
BEGIN:STANDARD
TZOFFSETFROM:+1100
TZOFFSETTO:+1000
TZNAME:AEST
DTSTART:20210403T160000
END:STANDARD
BEGIN:DAYLIGHT
TZOFFSETFROM:+1000
TZOFFSETTO:+1100
TZNAME:AEDT
DTSTART:20211002T160000
END:DAYLIGHT
END:VTIMEZONE
BEGIN:VEVENT
DTSTART;TZID=Australia/Sydney:20200913T100000
DTEND;TZID=Australia/Sydney:20200913T150000
DTSTAMP:20260426T060038
CREATED:20200907T081833Z
LAST-MODIFIED:20200907T081925Z
UID:3462-1599991200-1600009200@www.tvsc.com.au
SUMMARY:Covid Race Day 6
DESCRIPTION:A covid edition race day. Briefing at 10am\, race start at 11. \nBe there earlier to rig your boats. \nNo official time keeping or results. \nEveryone attending must register online and abide by the rules set by Australian Sailing for NSW racing and NSW Goverment. \nRegistration Link: here
URL:https://www.tvsc.com.au/event/covid-race-day-3-copy-copy/
LOCATION:Tweed Valley Sailing Club\, Boat Park opposite the Sheaok Cafe\, Fingal Road\, Fingal Heads\, NSW\, 2487\, Australia
CATEGORIES:Race
END:VEVENT
BEGIN:VEVENT
DTSTART;TZID=Australia/Sydney:20200913T190000
DTEND;TZID=Australia/Sydney:20200913T200000
DTSTAMP:20260426T060038
CREATED:20200829T010436Z
LAST-MODIFIED:20200913T064254Z
UID:3425-1600023600-1600027200@www.tvsc.com.au
SUMMARY:Annual General Meeting - 2020
DESCRIPTION:Our AGM will be held at 7pm on Sunday the 13th of September 2020 over Zoom. \nZoom meeting ID: 721 5220 9736 (Join here with your browser or use the Zoom Application Meeting Link below.) \nPasscode: sailing \nZoom Meeting Link \nTVSC AGM AGENDA 13 SEP 2020 \nTVSC AGM Minutes15 SEP 2019 \nTVSC Nomination Form \nTVSC Nomination Form Part 2 \nSecretaryReport \nTVSC Membership Report September 2020 \nTreasurer’s Report 2020 \nTVSC Balance Sheet FY1920 \nTVSC Profit and Loss FY1920
URL:https://www.tvsc.com.au/event/annual-general-meeting/
LOCATION:NSW
END:VEVENT
BEGIN:VEVENT
DTSTART;VALUE=DATE:20200920
DTEND;VALUE=DATE:20200921
DTSTAMP:20260426T060038
CREATED:20200802T234011Z
LAST-MODIFIED:20230306T001853Z
UID:3389-1600560000-1600646399@www.tvsc.com.au
SUMMARY:Tumbulgum 2020
DESCRIPTION:Our Annual River Passage Race\n\nWe’re planning to have our annual river race on this day in September.\n\nSkipper Registration here.\n\nCovid Registration here.
URL:https://www.tvsc.com.au/event/tumbulgum-2020/
LOCATION:Tweed Valley Sailing Club\, Boat Park opposite the Sheaok Cafe\, Fingal Road\, Fingal Heads\, NSW\, 2487\, Australia
CATEGORIES:Race
END:VEVENT
BEGIN:VEVENT
DTSTART;TZID=Australia/Sydney:20200926T120000
DTEND;TZID=Australia/Sydney:20200926T160000
DTSTAMP:20260426T060038
CREATED:20200831T220625Z
LAST-MODIFIED:20200901T002335Z
UID:3438-1601121600-1601136000@www.tvsc.com.au
SUMMARY:She Sails - Start Sailing Day 1
DESCRIPTION:On Saturday 26 September and the following 2 Saturdays\, I am running a Start Sailing 1 – Introduction to Sailing Course at Fingal Boat Harbour from 12 pm to 4 pm.\n \nRegister Here.\n \nIf you would like to go back to basics with sailing\, and would like to become more confidant on the water\, this is the course for you.    \n \nIntro to sailing:  By the end of this course you will be confidant in:\n\nPreparing to go on the water:  clothing to suit the conditions\, use of safety equipment and the need for protection from environmental elements.\nBe able to rig a boat with assistance and identify the commonly used parts of the boat.\nTie a figure of 8 knot and  a bowline\nPerform a capsize recovery in shallow water and participate in single boat towing.\nBe able to launch and recover a boat with assistance; correctly tack and stop the boat; successfully sail a windward/broad reach course;  paddle boat around a marked course.\nUnderstand the meaning of port and starboard;  windward and leeward;  and overtaking vessels.\nIdentify the wind direction;  able to source weather forecasts. \n\nThere will be no official certificate issued\, but I am running the course along the guidelines of Discover Sailing syllabus.  There are future courses following this\, Start Sailing 2\, Better Sailing\, Start Racing and Better Racing\, which will follow in the subsequent months.\n \nThere will be a safety boat and driver as a duty of care.  Our club boats are the 5 X3s which we will be utilising\, and possibly the club laser.  \n \nIf you require further information\, please don’t hesitate to email me back or phone me\, details below.  \n \n \nKind regards\n \nMonique\nSheSails Rep\nTVSC\ne:  swell.lady16@gmail.com\nPh:  0409 761 908
URL:https://www.tvsc.com.au/event/she-sails-start-sailing-day-1/
LOCATION:Tweed Valley Sailing Club\, Boat Park opposite the Sheaok Cafe\, Fingal Road\, Fingal Heads\, NSW\, 2487\, Australia
END:VEVENT
BEGIN:VEVENT
DTSTART;TZID=Australia/Sydney:20200927T120000
DTEND;TZID=Australia/Sydney:20200927T170000
DTSTAMP:20260426T060038
CREATED:20200921T050252Z
LAST-MODIFIED:20200921T050252Z
UID:3494-1601208000-1601226000@www.tvsc.com.au
SUMMARY:Summer 2020 - Day 1 - Invitational Race
DESCRIPTION:Our Summer 2020/2021 begins today! \nSkipper’s must register\, please use this link. ($5 registration fee per boat) \nSkippers\, if you need crew\, please add your name and phone number to this list. \nIf you’re looking to crew\, then please look at this list of skippers and contact them to secure a spot. \nEveryone must complete the Covid Registration for us to comply with our covid safe plan. \nBriefing at midday NSW time. \nRace start at 1pm NSW time.
URL:https://www.tvsc.com.au/event/summer-2020-day-1-invitational-race/
LOCATION:Tweed Valley Sailing Club\, Boat Park opposite the Sheaok Cafe\, Fingal Road\, Fingal Heads\, NSW\, 2487\, Australia
CATEGORIES:Race
END:VEVENT
END:VCALENDAR