BEGIN:VCALENDAR
VERSION:2.0
PRODID:-//Tweed Valley Sailing Club - ECPv6.15.17//NONSGML v1.0//EN
CALSCALE:GREGORIAN
METHOD:PUBLISH
X-WR-CALNAME:Tweed Valley Sailing Club
X-ORIGINAL-URL:https://www.tvsc.com.au
X-WR-CALDESC:Events for Tweed Valley Sailing Club
REFRESH-INTERVAL;VALUE=DURATION:PT1H
X-Robots-Tag:noindex
X-PUBLISHED-TTL:PT1H
BEGIN:VTIMEZONE
TZID:Australia/Sydney
BEGIN:STANDARD
TZOFFSETFROM:+1100
TZOFFSETTO:+1000
TZNAME:AEST
DTSTART:20190406T160000
END:STANDARD
BEGIN:DAYLIGHT
TZOFFSETFROM:+1000
TZOFFSETTO:+1100
TZNAME:AEDT
DTSTART:20191005T160000
END:DAYLIGHT
BEGIN:STANDARD
TZOFFSETFROM:+1100
TZOFFSETTO:+1000
TZNAME:AEST
DTSTART:20200404T160000
END:STANDARD
BEGIN:DAYLIGHT
TZOFFSETFROM:+1000
TZOFFSETTO:+1100
TZNAME:AEDT
DTSTART:20201003T160000
END:DAYLIGHT
BEGIN:STANDARD
TZOFFSETFROM:+1100
TZOFFSETTO:+1000
TZNAME:AEST
DTSTART:20210403T160000
END:STANDARD
BEGIN:DAYLIGHT
TZOFFSETFROM:+1000
TZOFFSETTO:+1100
TZNAME:AEDT
DTSTART:20211002T160000
END:DAYLIGHT
END:VTIMEZONE
BEGIN:VEVENT
DTSTART;TZID=Australia/Sydney:20201003T120000
DTEND;TZID=Australia/Sydney:20201003T160000
DTSTAMP:20260426T042720
CREATED:20200831T220652Z
LAST-MODIFIED:20200831T220711Z
UID:3440-1601726400-1601740800@www.tvsc.com.au
SUMMARY:She Sails - Start Sailing Day 2
DESCRIPTION:On Saturday 26 September and the following 2 Saturdays\, I am running a Start Sailing 1 – Introduction to Sailing Course at Fingal Boat Harbour from 12 pm to 4 pm.\n \nRegister Here.\n \nIf you would like to go back to basics with sailing\, and would like to become more confidant on the water\, this is the course for you.    \n \nIntro to sailing:  By the end of this course you will be confidant in:\n\nPreparing to go on the water:  clothing to suit the conditions\, use of safety equipment and the need for protection from environmental elements.\nBe able to rig a boat with assistance and identify the commonly used parts of the boat.\nTie a figure of 8 knot and  a bowline\nPerform a capsize recovery in shallow water and participate in single boat towing.\nBe able to launch and recover a boat with assistance; correctly tack and stop the boat; successfully sail a windward/broad reach course;  paddle boat around a marked course.\nUnderstand the meaning of port and starboard;  windward and leeward;  and overtaking vessels.\nIdentify the wind direction;  able to source weather forecasts. \n\nThere will be no official certificate issued\, but I am running the course along the guidelines of Discover Sailing syllabus.  There are future courses following this\, Start Sailing 2\, Better Sailing\, Start Racing and Better Racing\, which will follow in the subsequent months.\n \nThere will be a safety boat and driver as a duty of care.  Our club boats are the 5 X3s which we will be utilising\, and possibly the club laser.  \n \nIf you require further information\, please don’t hesitate to email me back or phone me\, details below.  \n \nI have 2 takers so far\, being Tara and Gail.  \n \nSee you Sunday.\n \nKind regards\n \nMonique\nSheSails Rep\nTVSC\ne:  swell.lady16@gmail.com\nPh:  0409 761 908
URL:https://www.tvsc.com.au/event/she-sails-start-sailing-day-1-copy/
LOCATION:Tweed Valley Sailing Club\, Boat Park opposite the Sheaok Cafe\, Fingal Road\, Fingal Heads\, NSW\, 2487\, Australia
END:VEVENT
BEGIN:VEVENT
DTSTART;TZID=Australia/Sydney:20201010T120000
DTEND;TZID=Australia/Sydney:20201010T160000
DTSTAMP:20260426T042720
CREATED:20200831T220719Z
LAST-MODIFIED:20200831T220732Z
UID:3442-1602331200-1602345600@www.tvsc.com.au
SUMMARY:She Sails - Start Sailing Day 3
DESCRIPTION:On Saturday 26 September and the following 2 Saturdays\, I am running a Start Sailing 1 – Introduction to Sailing Course at Fingal Boat Harbour from 12 pm to 4 pm.\n \nRegister Here.\n \nIf you would like to go back to basics with sailing\, and would like to become more confidant on the water\, this is the course for you.    \n \nIntro to sailing:  By the end of this course you will be confidant in:\n\nPreparing to go on the water:  clothing to suit the conditions\, use of safety equipment and the need for protection from environmental elements.\nBe able to rig a boat with assistance and identify the commonly used parts of the boat.\nTie a figure of 8 knot and  a bowline\nPerform a capsize recovery in shallow water and participate in single boat towing.\nBe able to launch and recover a boat with assistance; correctly tack and stop the boat; successfully sail a windward/broad reach course;  paddle boat around a marked course.\nUnderstand the meaning of port and starboard;  windward and leeward;  and overtaking vessels.\nIdentify the wind direction;  able to source weather forecasts. \n\nThere will be no official certificate issued\, but I am running the course along the guidelines of Discover Sailing syllabus.  There are future courses following this\, Start Sailing 2\, Better Sailing\, Start Racing and Better Racing\, which will follow in the subsequent months.\n \nThere will be a safety boat and driver as a duty of care.  Our club boats are the 5 X3s which we will be utilising\, and possibly the club laser.  \n \nIf you require further information\, please don’t hesitate to email me back or phone me\, details below.  \n \nI have 2 takers so far\, being Tara and Gail.  \n \nSee you Sunday.\n \nKind regards\n \nMonique\nSheSails Rep\nTVSC\ne:  swell.lady16@gmail.com\nPh:  0409 761 908
URL:https://www.tvsc.com.au/event/she-sails-start-sailing-day-1-copy-copy/
LOCATION:Tweed Valley Sailing Club\, Boat Park opposite the Sheaok Cafe\, Fingal Road\, Fingal Heads\, NSW\, 2487\, Australia
END:VEVENT
BEGIN:VEVENT
DTSTART;TZID=Australia/Sydney:20201011T120000
DTEND;TZID=Australia/Sydney:20201011T170000
DTSTAMP:20260426T042720
CREATED:20200928T042646Z
LAST-MODIFIED:20201006T095207Z
UID:3511-1602417600-1602435600@www.tvsc.com.au
SUMMARY:Class Championships Day 1
DESCRIPTION:Briefing at Midday (NSW Time) \nRace Start: 1pm (NSW Time) \nA long race format Class Champsionships for all classes except NS14s. \nSkipper/Boat Registration here. \nAll Attendee Covid Registration Here. \nSkippers\, if you need crew\, please fill in this form. \nIf you’re wanting to crew\, then please contact these skippers to secure a spot.
URL:https://www.tvsc.com.au/event/class-championships-day-1/
LOCATION:Tweed Valley Sailing Club\, Boat Park opposite the Sheaok Cafe\, Fingal Road\, Fingal Heads\, NSW\, 2487\, Australia
CATEGORIES:Race
END:VEVENT
BEGIN:VEVENT
DTSTART;VALUE=DATE:20201024
DTEND;VALUE=DATE:20201026
DTSTAMP:20260426T042720
CREATED:20200720T080823Z
LAST-MODIFIED:20201006T233838Z
UID:3383-1603497600-1603670399@www.tvsc.com.au
SUMMARY:BRSC - Single Handed Regatta
DESCRIPTION:For those Laser and Impulse Dinghy Sailors amongst us. \nhttps://www.revolutionise.com.au/brsailingclub/events/77684/
URL:https://www.tvsc.com.au/event/brsc-single-handed-regatta/
LOCATION:Big River Sailing Club\, 2 Careys Lane\, Harwood\, NSW\, 2465\, Australia
CATEGORIES:Away Event
ORGANIZER;CN="Big River Sailing Club":MAILTO:bigriversailingclub@gmail.com
END:VEVENT
BEGIN:VEVENT
DTSTART;TZID=Australia/Sydney:20201025T120000
DTEND;TZID=Australia/Sydney:20201025T170000
DTSTAMP:20260426T042720
CREATED:20200928T043623Z
LAST-MODIFIED:20201024T095037Z
UID:3515-1603627200-1603645200@www.tvsc.com.au
SUMMARY:All Handicap Point Score and NS14 Class Championships Day 1
DESCRIPTION:Three short races.  Class Championships for the NS14 fleet. \nHandicap starts for everyone but NS14s.  Handicap start times will be handed out before briefing. \nBriefing at Midday\, Race start at 1pm. \nThere are no paper based registration forms nor registration desk.  Please do all registrations online. \nBoat/Skipper Registration is here.  The charge is $5 per boat. \nAll attendees must fill in the covid registration form here. \nSkippers\, if you are needing crew on the day\, then please fill in this form. \nPeople wanting to crew\, if you are looking for spot\, then please contact the skippers on this list. \n 
URL:https://www.tvsc.com.au/event/all-handicap-point-score-and-ns14-class-championships-day-1/
LOCATION:Tweed Valley Sailing Club\, Boat Park opposite the Sheaok Cafe\, Fingal Road\, Fingal Heads\, NSW\, 2487\, Australia
CATEGORIES:Race
END:VEVENT
END:VCALENDAR