BEGIN:VCALENDAR
VERSION:2.0
PRODID:-//Tweed Valley Sailing Club - ECPv6.15.17//NONSGML v1.0//EN
CALSCALE:GREGORIAN
METHOD:PUBLISH
X-WR-CALNAME:Tweed Valley Sailing Club
X-ORIGINAL-URL:https://www.tvsc.com.au
X-WR-CALDESC:Events for Tweed Valley Sailing Club
REFRESH-INTERVAL;VALUE=DURATION:PT1H
X-Robots-Tag:noindex
X-PUBLISHED-TTL:PT1H
BEGIN:VTIMEZONE
TZID:Australia/Sydney
BEGIN:STANDARD
TZOFFSETFROM:+1100
TZOFFSETTO:+1000
TZNAME:AEST
DTSTART:20190406T160000
END:STANDARD
BEGIN:DAYLIGHT
TZOFFSETFROM:+1000
TZOFFSETTO:+1100
TZNAME:AEDT
DTSTART:20191005T160000
END:DAYLIGHT
BEGIN:STANDARD
TZOFFSETFROM:+1100
TZOFFSETTO:+1000
TZNAME:AEST
DTSTART:20200404T160000
END:STANDARD
BEGIN:DAYLIGHT
TZOFFSETFROM:+1000
TZOFFSETTO:+1100
TZNAME:AEDT
DTSTART:20201003T160000
END:DAYLIGHT
BEGIN:STANDARD
TZOFFSETFROM:+1100
TZOFFSETTO:+1000
TZNAME:AEST
DTSTART:20210403T160000
END:STANDARD
BEGIN:DAYLIGHT
TZOFFSETFROM:+1000
TZOFFSETTO:+1100
TZNAME:AEDT
DTSTART:20211002T160000
END:DAYLIGHT
END:VTIMEZONE
BEGIN:VEVENT
DTSTART;VALUE=DATE:20201107
DTEND;VALUE=DATE:20201109
DTSTAMP:20260426T025353
CREATED:20200928T043421Z
LAST-MODIFIED:20201102T024105Z
UID:3513-1604707200-1604879999@www.tvsc.com.au
SUMMARY:Ballina RRSRC Regatta
DESCRIPTION:Two days of racing at Ballina.  Saturday being the long race day. \nA number of Corsairs will be heading down for the Saturday race. \nRegistration must be done online.
URL:https://www.tvsc.com.au/event/ballina-rrsrc-regatta/
LOCATION:Richmond River Sailing & Rowing Club\, 2 River Street\, Ballina\, NSW\, 2478\, Australia
CATEGORIES:Away Event
ORGANIZER;CN="Richmond River Sailing & Rowing Club":MAILTO:contact.rrsrc@gmail.com
END:VEVENT
BEGIN:VEVENT
DTSTART;TZID=Australia/Sydney:20201108T110000
DTEND;TZID=Australia/Sydney:20201108T170000
DTSTAMP:20260426T025353
CREATED:20200928T050555Z
LAST-MODIFIED:20201102T032238Z
UID:3518-1604833200-1604854800@www.tvsc.com.au
SUMMARY:Class Championships Day 2
DESCRIPTION:A long race format Class Champsionships race for all classes except NS14s. \nBriefing at midday NSW time. \nRace Start at 1pm. \nSingle race. \nAll boat/skipper registrations must be done here with $5 entry fee payable online. \nEveryone attending must fill in the covid registration form here. \nSkippers\, if you need crew\, then please fill in your details here or look at this list of potential crew looking for spots. \nCrew\, if you’re looking for a spot\, then please look at the list of skippers needing crew here.
URL:https://www.tvsc.com.au/event/class-championships-day-2/
LOCATION:Tweed Valley Sailing Club\, Boat Park opposite the Sheaok Cafe\, Fingal Road\, Fingal Heads\, NSW\, 2487\, Australia
CATEGORIES:Race
END:VEVENT
BEGIN:VEVENT
DTSTART;VALUE=DATE:20201121
DTEND;VALUE=DATE:20201123
DTSTAMP:20260426T025353
CREATED:20200720T080739Z
LAST-MODIFIED:20201109T222226Z
UID:3381-1605916800-1606089599@www.tvsc.com.au
SUMMARY:Big River (Harwood) Sailing Club - Bridge to Breakers Regatta
DESCRIPTION:Two days of Camping and Racing on the Clarence River. \nSee the link for Notice of Race\, Sailing Instructions\, Contactless Covid Registration etc etc. \nSaturday: \nNo mass briefings will be held. Ensure you have time to check the notice boards and note the courses set for the day.  Race secretary will be on hand to answer individual questions. \n  \nNSW Daylight saving time.  Race start 1.30 pm. \nLong course race start and finish at BRSC \nSunday: Two or three races. First start not before 10am \nApprox. 4 pm Prize presentation.
URL:https://www.tvsc.com.au/event/big-river-harwood-sailing-club-bridge-to-breakers-regatta/
LOCATION:Big River Sailing Club\, 2 Careys Lane\, Harwood\, NSW\, 2465\, Australia
CATEGORIES:Away Event
ORGANIZER;CN="Big River Sailing Club":MAILTO:bigriversailingclub@gmail.com
END:VEVENT
END:VCALENDAR