BEGIN:VCALENDAR
VERSION:2.0
PRODID:-//Tweed Valley Sailing Club - ECPv6.15.17//NONSGML v1.0//EN
CALSCALE:GREGORIAN
METHOD:PUBLISH
X-WR-CALNAME:Tweed Valley Sailing Club
X-ORIGINAL-URL:https://www.tvsc.com.au
X-WR-CALDESC:Events for Tweed Valley Sailing Club
REFRESH-INTERVAL;VALUE=DURATION:PT1H
X-Robots-Tag:noindex
X-PUBLISHED-TTL:PT1H
BEGIN:VTIMEZONE
TZID:Australia/Sydney
BEGIN:STANDARD
TZOFFSETFROM:+1100
TZOFFSETTO:+1000
TZNAME:AEST
DTSTART:20190406T160000
END:STANDARD
BEGIN:DAYLIGHT
TZOFFSETFROM:+1000
TZOFFSETTO:+1100
TZNAME:AEDT
DTSTART:20191005T160000
END:DAYLIGHT
BEGIN:STANDARD
TZOFFSETFROM:+1100
TZOFFSETTO:+1000
TZNAME:AEST
DTSTART:20200404T160000
END:STANDARD
BEGIN:DAYLIGHT
TZOFFSETFROM:+1000
TZOFFSETTO:+1100
TZNAME:AEDT
DTSTART:20201003T160000
END:DAYLIGHT
BEGIN:STANDARD
TZOFFSETFROM:+1100
TZOFFSETTO:+1000
TZNAME:AEST
DTSTART:20210403T160000
END:STANDARD
BEGIN:DAYLIGHT
TZOFFSETFROM:+1000
TZOFFSETTO:+1100
TZNAME:AEDT
DTSTART:20211002T160000
END:DAYLIGHT
END:VTIMEZONE
BEGIN:VEVENT
DTSTART;VALUE=DATE:20201205
DTEND;VALUE=DATE:20201207
DTSTAMP:20260426T012700
CREATED:20200809T220431Z
LAST-MODIFIED:20200809T220431Z
UID:3397-1607126400-1607299199@www.tvsc.com.au
SUMMARY:Monomasters at Lake Cootharaba
DESCRIPTION:Possible Qld Corsair States \nMore details available closer to the date.
URL:https://www.tvsc.com.au/event/monomasters-at-lake-cootharaba/
LOCATION:Lake Cootharaba Sailing Club\, 24 Boreen Parade\, Boreen Point\, Qld\, 4565\, Australia
CATEGORIES:Away Event
END:VEVENT
BEGIN:VEVENT
DTSTART;TZID=Australia/Sydney:20201206T120000
DTEND;TZID=Australia/Sydney:20201206T170000
DTSTAMP:20260426T012700
CREATED:20200928T050707Z
LAST-MODIFIED:20201130T061631Z
UID:3520-1607256000-1607274000@www.tvsc.com.au
SUMMARY:All Handicap Point Score and NS14 Class Championships Day 2
DESCRIPTION:Three short races. Class Championships for the NS14 fleet. \nSkippers\, please register your boat here. \nCovid Registration is now done on the day\, using the ‘Check In’ option on the menu on our website. \nSkippers\, if you need crew for the day and haven’t made arrangements\, then you can leave your details here.  You can also look at the list of people wanting to crew for the season and give them a call. \nIf you’re wanting to sail as crew and do not have a spot\, then you can leave your details here.
URL:https://www.tvsc.com.au/event/all-handicap-point-score-and-ns14-class-championships-day-2/
LOCATION:Tweed Valley Sailing Club\, Boat Park opposite the Sheaok Cafe\, Fingal Road\, Fingal Heads\, NSW\, 2487\, Australia
CATEGORIES:Race
END:VEVENT
BEGIN:VEVENT
DTSTART;TZID=Australia/Sydney:20201213T120000
DTEND;TZID=Australia/Sydney:20201213T170000
DTSTAMP:20260426T012700
CREATED:20201208T200854Z
LAST-MODIFIED:20201208T200953Z
UID:3660-1607860800-1607878800@www.tvsc.com.au
SUMMARY:All Handicap Point Score and NS14 Class Championships Day 2  - Rescheduled
DESCRIPTION:This is the new race day for the postponed 6/12/2020 race day. \nThree short races. Class Championships for the NS14 fleet. \nSkippers\, please register your boat here. \nCovid Registration is now done on the day\, using the ‘Check In’ option on the menu on our website. \nSkippers\, if you need crew for the day and haven’t made arrangements\, then you can leave your details here.  You can also look at the list of people wanting to crew for the season and give them a call. \nIf you’re wanting to sail as crew and do not have a spot\, then you can leave your details here.
URL:https://www.tvsc.com.au/event/all-handicap-point-score-and-ns14-class-championships-day-2-copy/
LOCATION:Tweed Valley Sailing Club\, Boat Park opposite the Sheaok Cafe\, Fingal Road\, Fingal Heads\, NSW\, 2487\, Australia
CATEGORIES:Race
END:VEVENT
BEGIN:VEVENT
DTSTART;TZID=Australia/Sydney:20201220T120000
DTEND;TZID=Australia/Sydney:20201220T170000
DTSTAMP:20260426T012700
CREATED:20210207T215148Z
LAST-MODIFIED:20210207T215148Z
UID:3733-1608465600-1608483600@www.tvsc.com.au
SUMMARY:Class Championships Day 3  Copy
DESCRIPTION:A long race format Class Champsionships for all classes except NS14s.
URL:https://www.tvsc.com.au/event/class-championships-day-3-copy/
LOCATION:Tweed Valley Sailing Club\, Boat Park opposite the Sheaok Cafe\, Fingal Road\, Fingal Heads\, NSW\, 2487\, Australia
CATEGORIES:Race
END:VEVENT
END:VCALENDAR