BEGIN:VCALENDAR
VERSION:2.0
PRODID:-//Tweed Valley Sailing Club - ECPv6.15.17//NONSGML v1.0//EN
CALSCALE:GREGORIAN
METHOD:PUBLISH
X-ORIGINAL-URL:https://www.tvsc.com.au
X-WR-CALDESC:Events for Tweed Valley Sailing Club
REFRESH-INTERVAL;VALUE=DURATION:PT1H
X-Robots-Tag:noindex
X-PUBLISHED-TTL:PT1H
BEGIN:VTIMEZONE
TZID:Australia/Sydney
BEGIN:STANDARD
TZOFFSETFROM:+1100
TZOFFSETTO:+1000
TZNAME:AEST
DTSTART:20200404T160000
END:STANDARD
BEGIN:DAYLIGHT
TZOFFSETFROM:+1000
TZOFFSETTO:+1100
TZNAME:AEDT
DTSTART:20201003T160000
END:DAYLIGHT
BEGIN:STANDARD
TZOFFSETFROM:+1100
TZOFFSETTO:+1000
TZNAME:AEST
DTSTART:20210403T160000
END:STANDARD
BEGIN:DAYLIGHT
TZOFFSETFROM:+1000
TZOFFSETTO:+1100
TZNAME:AEDT
DTSTART:20211002T160000
END:DAYLIGHT
BEGIN:STANDARD
TZOFFSETFROM:+1100
TZOFFSETTO:+1000
TZNAME:AEST
DTSTART:20220402T160000
END:STANDARD
BEGIN:DAYLIGHT
TZOFFSETFROM:+1000
TZOFFSETTO:+1100
TZNAME:AEDT
DTSTART:20221001T160000
END:DAYLIGHT
END:VTIMEZONE
BEGIN:VEVENT
DTSTART;TZID=Australia/Sydney:20210106T110000
DTEND;TZID=Australia/Sydney:20210106T160000
DTSTAMP:20260426T000904
CREATED:20201231T062740Z
LAST-MODIFIED:20201231T062746Z
UID:3669-1609930800-1609948800@www.tvsc.com.au
SUMMARY:Juniors School Holiday Sailing Camp Day 1
DESCRIPTION:We’re running six days of juniors sailing training spread over two weeks in January.  For eight to eighteen year olds. \nThis is serious training suitable for first timers to experienced sailors. \nEach person attending must be a Member or use a Sail Pass for each session.  (You will need to register as a member first\, before booking sessions.) \nEach day is $20 or $100 for all six sessions. \nBook sessions here.  (Because of the links to membership or sail passes\, you must log in as the person attending first\, to be able to book the session.  For example a parent cannot use their own login\, to book in for a juniors.) \nThe club provides life jackets – you just need to bring\, a hat (tied on)\, long sleeved top\, water\, a change of clothes and footwear you don’t mind getting wet (not thongs) – wetsuit boots ideal\, but old runners are fine too. If its cold\, an old 100% wool jumper with a wind proof jacket is the best sailing outfit. No need to buy any special gear. \nFood will not be provided by the club\, during covid regulations. \nEveryone must check in\, every day\,  using our online covid registration. \nParents are encouraged to stay and help setup and put away boats and equipment.  We are all volunteers using a combination of our own boats and club boats.
URL:https://www.tvsc.com.au/event/juniors-school-holiday-sailing-camp-day-1/
LOCATION:Tweed Valley Sailing Club\, Boat Park opposite the Sheaok Cafe\, Fingal Road\, Fingal Heads\, NSW\, 2487\, Australia
CATEGORIES:Juniors Sailing
END:VEVENT
BEGIN:VEVENT
DTSTART;TZID=Australia/Sydney:20210107T110000
DTEND;TZID=Australia/Sydney:20210107T160000
DTSTAMP:20260426T000904
CREATED:20201231T062809Z
LAST-MODIFIED:20201231T062824Z
UID:3671-1610017200-1610035200@www.tvsc.com.au
SUMMARY:Juniors School Holiday Sailing Camp Day 2
DESCRIPTION:We’re running six days of juniors sailing training spread over two weeks in January.  For eight to eighteen year olds. \nThis is serious training suitable for first timers to experienced sailors. \nEach person attending must be a Member or use a Sail Pass for each session.  (You will need to register as a member first\, before booking sessions.) \nEach day is $20 or $100 for all six sessions. \nBook sessions here.  (Because of the links to membership or sail passes\, you must log in as the person attending first\, to be able to book the session.  For example a parent cannot use their own login\, to book in for a juniors.) \nThe club provides life jackets – you just need to bring\, a hat (tied on)\, long sleeved top\, water\, a change of clothes and footwear you don’t mind getting wet (not thongs) – wetsuit boots ideal\, but old runners are fine too. If its cold\, an old 100% wool jumper with a wind proof jacket is the best sailing outfit. No need to buy any special gear. \nFood will not be provided by the club\, during covid regulations. \nEveryone must check in\, every day\,  using our online covid registration. \nParents are encouraged to stay and help setup and put away boats and equipment.  We are all volunteers using a combination of our own boats and club boats.
URL:https://www.tvsc.com.au/event/juniors-school-holiday-sailing-camp-day-1-copy/
LOCATION:Tweed Valley Sailing Club\, Boat Park opposite the Sheaok Cafe\, Fingal Road\, Fingal Heads\, NSW\, 2487\, Australia
CATEGORIES:Juniors Sailing
END:VEVENT
BEGIN:VEVENT
DTSTART;TZID=Australia/Sydney:20210108T110000
DTEND;TZID=Australia/Sydney:20210108T160000
DTSTAMP:20260426T000904
CREATED:20201231T062847Z
LAST-MODIFIED:20201231T062901Z
UID:3673-1610103600-1610121600@www.tvsc.com.au
SUMMARY:Juniors School Holiday Sailing Camp Day 3
DESCRIPTION:We’re running six days of juniors sailing training spread over two weeks in January.  For eight to eighteen year olds. \nThis is serious training suitable for first timers to experienced sailors. \nEach person attending must be a Member or use a Sail Pass for each session.  (You will need to register as a member first\, before booking sessions.) \nEach day is $20 or $100 for all six sessions. \nBook sessions here.  (Because of the links to membership or sail passes\, you must log in as the person attending first\, to be able to book the session.  For example a parent cannot use their own login\, to book in for a juniors.) \nThe club provides life jackets – you just need to bring\, a hat (tied on)\, long sleeved top\, water\, a change of clothes and footwear you don’t mind getting wet (not thongs) – wetsuit boots ideal\, but old runners are fine too. If its cold\, an old 100% wool jumper with a wind proof jacket is the best sailing outfit. No need to buy any special gear. \nFood will not be provided by the club\, during covid regulations. \nEveryone must check in\, every day\,  using our online covid registration. \nParents are encouraged to stay and help setup and put away boats and equipment.  We are all volunteers using a combination of our own boats and club boats.
URL:https://www.tvsc.com.au/event/juniors-school-holiday-sailing-camp-day-1-copy-2/
LOCATION:Tweed Valley Sailing Club\, Boat Park opposite the Sheaok Cafe\, Fingal Road\, Fingal Heads\, NSW\, 2487\, Australia
CATEGORIES:Juniors Sailing
END:VEVENT
BEGIN:VEVENT
DTSTART;TZID=Australia/Sydney:20210110T120000
DTEND;TZID=Australia/Sydney:20210110T170000
DTSTAMP:20260426T000904
CREATED:20200928T054619Z
LAST-MODIFIED:20210104T103948Z
UID:3524-1610280000-1610298000@www.tvsc.com.au
SUMMARY:All Handicap Point Score and NS14 Class Championships Day 3
DESCRIPTION:Three short races. Class Championships for the NS14 fleet. \nSkipper Registration here. \nCovid Registration is now done on the day\, using the ‘Check In’ option on the menu on our website or QR code shown at the club. \nSkippers\, if you need crew for the day and haven’t made arrangements\, then   please look at the list of people wanting to crew for the season and give some a call. \nIf you’re wanting to sail as crew and do not have a spot\, then you can leave your details here.
URL:https://www.tvsc.com.au/event/all-handicap-point-score-and-ns14-class-championships-day-3/
LOCATION:Tweed Valley Sailing Club\, Boat Park opposite the Sheaok Cafe\, Fingal Road\, Fingal Heads\, NSW\, 2487\, Australia
CATEGORIES:Race
END:VEVENT
BEGIN:VEVENT
DTSTART;TZID=Australia/Sydney:20210113T110000
DTEND;TZID=Australia/Sydney:20210113T160000
DTSTAMP:20260426T000904
CREATED:20201231T063149Z
LAST-MODIFIED:20201231T063226Z
UID:3681-1610535600-1610553600@www.tvsc.com.au
SUMMARY:Juniors School Holiday Sailing Camp Day 4
DESCRIPTION:We’re running six days of juniors sailing training spread over two weeks in January.  For eight to eighteen year olds. \nThis is serious training suitable for first timers to experienced sailors. \nEach person attending must be a Member or use a Sail Pass for each session.  (You will need to register as a member first\, before booking sessions.) \nEach day is $20 or $100 for all six sessions. \nBook sessions here.  (Because of the links to membership or sail passes\, you must log in as the person attending first\, to be able to book the session.  For example a parent cannot use their own login\, to book in for a juniors.) \nThe club provides life jackets – you just need to bring\, a hat (tied on)\, long sleeved top\, water\, a change of clothes and footwear you don’t mind getting wet (not thongs) – wetsuit boots ideal\, but old runners are fine too. If its cold\, an old 100% wool jumper with a wind proof jacket is the best sailing outfit. No need to buy any special gear. \nFood will not be provided by the club\, during covid regulations. \nEveryone must check in\, every day\,  using our online covid registration. \nParents are encouraged to stay and help setup and put away boats and equipment.  We are all volunteers using a combination of our own boats and club boats.
URL:https://www.tvsc.com.au/event/juniors-school-holiday-sailing-camp-day-1-copy-3-copy/
LOCATION:Tweed Valley Sailing Club\, Boat Park opposite the Sheaok Cafe\, Fingal Road\, Fingal Heads\, NSW\, 2487\, Australia
CATEGORIES:Juniors Sailing
END:VEVENT
BEGIN:VEVENT
DTSTART;TZID=Australia/Sydney:20210114T110000
DTEND;TZID=Australia/Sydney:20210114T160000
DTSTAMP:20260426T000904
CREATED:20201231T062911Z
LAST-MODIFIED:20201231T063134Z
UID:3676-1610622000-1610640000@www.tvsc.com.au
SUMMARY:Juniors School Holiday Sailing Camp Day 5
DESCRIPTION:We’re running six days of juniors sailing training spread over two weeks in January.  For eight to eighteen year olds. \nThis is serious training suitable for first timers to experienced sailors. \nEach person attending must be a Member or use a Sail Pass for each session.  (You will need to register as a member first\, before booking sessions.) \nEach day is $20 or $100 for all six sessions. \nBook sessions here.  (Because of the links to membership or sail passes\, you must log in as the person attending first\, to be able to book the session.  For example a parent cannot use their own login\, to book in for a juniors.) \nThe club provides life jackets – you just need to bring\, a hat (tied on)\, long sleeved top\, water\, a change of clothes and footwear you don’t mind getting wet (not thongs) – wetsuit boots ideal\, but old runners are fine too. If its cold\, an old 100% wool jumper with a wind proof jacket is the best sailing outfit. No need to buy any special gear. \nFood will not be provided by the club\, during covid regulations. \nEveryone must check in\, every day\,  using our online covid registration. \nParents are encouraged to stay and help setup and put away boats and equipment.  We are all volunteers using a combination of our own boats and club boats.
URL:https://www.tvsc.com.au/event/juniors-school-holiday-sailing-camp-day-1-copy-3/
LOCATION:Tweed Valley Sailing Club\, Boat Park opposite the Sheaok Cafe\, Fingal Road\, Fingal Heads\, NSW\, 2487\, Australia
CATEGORIES:Juniors Sailing
END:VEVENT
BEGIN:VEVENT
DTSTART;TZID=Australia/Sydney:20210115T110000
DTEND;TZID=Australia/Sydney:20210115T160000
DTSTAMP:20260426T000904
CREATED:20201231T063304Z
LAST-MODIFIED:20201231T063319Z
UID:3685-1610708400-1610726400@www.tvsc.com.au
SUMMARY:Juniors School Holiday Sailing Camp Day 6
DESCRIPTION:We’re running six days of juniors sailing training spread over two weeks in January.  For eight to eighteen year olds. \nThis is serious training suitable for first timers to experienced sailors. \nEach person attending must be a Member or use a Sail Pass for each session.  (You will need to register as a member first\, before booking sessions.) \nEach day is $20 or $100 for all six sessions. \nBook sessions here.  (Because of the links to membership or sail passes\, you must log in as the person attending first\, to be able to book the session.  For example a parent cannot use their own login\, to book in for a juniors.) \nThe club provides life jackets – you just need to bring\, a hat (tied on)\, long sleeved top\, water\, a change of clothes and footwear you don’t mind getting wet (not thongs) – wetsuit boots ideal\, but old runners are fine too. If its cold\, an old 100% wool jumper with a wind proof jacket is the best sailing outfit. No need to buy any special gear. \nFood will not be provided by the club\, during covid regulations. \nEveryone must check in\, every day\,  using our online covid registration. \nParents are encouraged to stay and help setup and put away boats and equipment.  We are all volunteers using a combination of our own boats and club boats.
URL:https://www.tvsc.com.au/event/juniors-school-holiday-sailing-camp-day-1-copy-3-copy-2/
LOCATION:Tweed Valley Sailing Club\, Boat Park opposite the Sheaok Cafe\, Fingal Road\, Fingal Heads\, NSW\, 2487\, Australia
CATEGORIES:Juniors Sailing
END:VEVENT
BEGIN:VEVENT
DTSTART;TZID=Australia/Sydney:20210117T120000
DTEND;TZID=Australia/Sydney:20210117T170000
DTSTAMP:20260426T000904
CREATED:20210110T214706Z
LAST-MODIFIED:20210110T214751Z
UID:3695-1610884800-1610902800@www.tvsc.com.au
SUMMARY:All Handicap Point Score and NS14 Class Championships Day 2  - Rescheduled
DESCRIPTION:This is the new race day for the postponed 6/12/2020 race day. \nThree short races. Class Championships for the NS14 fleet. \nSkippers\, please register your boat here. \nCovid Registration is now done on the day\, using the ‘Check In’ option on the menu on our website or QR code at the club. \nSkippers\, if you need crew for the day and haven’t made arrangements\, then you can leave your details here.  You can also look at the list of people wanting to crew for the season and give them a call. \nIf you’re wanting to sail as crew and do not have a spot\, then you can leave your details here.
URL:https://www.tvsc.com.au/event/all-handicap-point-score-and-ns14-class-championships-day-2-copy-copy/
LOCATION:Tweed Valley Sailing Club\, Boat Park opposite the Sheaok Cafe\, Fingal Road\, Fingal Heads\, NSW\, 2487\, Australia
CATEGORIES:Race
END:VEVENT
END:VCALENDAR