BEGIN:VCALENDAR
VERSION:2.0
PRODID:-//Tweed Valley Sailing Club - ECPv6.15.17//NONSGML v1.0//EN
CALSCALE:GREGORIAN
METHOD:PUBLISH
X-WR-CALNAME:Tweed Valley Sailing Club
X-ORIGINAL-URL:https://www.tvsc.com.au
X-WR-CALDESC:Events for Tweed Valley Sailing Club
REFRESH-INTERVAL;VALUE=DURATION:PT1H
X-Robots-Tag:noindex
X-PUBLISHED-TTL:PT1H
BEGIN:VTIMEZONE
TZID:Australia/Sydney
BEGIN:STANDARD
TZOFFSETFROM:+1100
TZOFFSETTO:+1000
TZNAME:AEST
DTSTART:20200404T160000
END:STANDARD
BEGIN:DAYLIGHT
TZOFFSETFROM:+1000
TZOFFSETTO:+1100
TZNAME:AEDT
DTSTART:20201003T160000
END:DAYLIGHT
BEGIN:STANDARD
TZOFFSETFROM:+1100
TZOFFSETTO:+1000
TZNAME:AEST
DTSTART:20210403T160000
END:STANDARD
BEGIN:DAYLIGHT
TZOFFSETFROM:+1000
TZOFFSETTO:+1100
TZNAME:AEDT
DTSTART:20211002T160000
END:DAYLIGHT
BEGIN:STANDARD
TZOFFSETFROM:+1100
TZOFFSETTO:+1000
TZNAME:AEST
DTSTART:20220402T160000
END:STANDARD
BEGIN:DAYLIGHT
TZOFFSETFROM:+1000
TZOFFSETTO:+1100
TZNAME:AEDT
DTSTART:20221001T160000
END:DAYLIGHT
END:VTIMEZONE
BEGIN:VEVENT
DTSTART;TZID=Australia/Sydney:20210207T080000
DTEND;TZID=Australia/Sydney:20210207T170000
DTSTAMP:20260425T223255
CREATED:20210202T021919Z
LAST-MODIFIED:20210202T021919Z
UID:3723-1612684800-1612717200@www.tvsc.com.au
SUMMARY:Qld Laser River Titles (BSS 100 year centenary)
DESCRIPTION:The Queensland Laser River Championships are on this weekend at the Brisbane Sailing Squadron.  \nSee the Qld Lasers website for NOR etc.
URL:https://www.tvsc.com.au/event/qld-laser-river-titles-bss-100-year-centenary/
LOCATION:NSW
CATEGORIES:Away Event
END:VEVENT
BEGIN:VEVENT
DTSTART;TZID=Australia/Sydney:20210207T120000
DTEND;TZID=Australia/Sydney:20210207T170000
DTSTAMP:20260425T223255
CREATED:20200928T054659Z
LAST-MODIFIED:20210201T022913Z
UID:3526-1612699200-1612717200@www.tvsc.com.au
SUMMARY:Class Championships Day 4
DESCRIPTION:A long race format Class Championships for all classes except NS14s. \n\nBriefing at Midday (NSW Time)\nRace Start one hour later.\n\nAll Skippers Please Register and pay your entry fee here. \nSkippers\, if you need crew\, then please fill in your details here or look at this list of potential crew looking for spots. \nCrew\, if you’re looking for a spot\, then please look at the list of skippers needing crew here.
URL:https://www.tvsc.com.au/event/class-championships-day-4/
LOCATION:Tweed Valley Sailing Club\, Boat Park opposite the Sheaok Cafe\, Fingal Road\, Fingal Heads\, NSW\, 2487\, Australia
CATEGORIES:Race
END:VEVENT
BEGIN:VEVENT
DTSTART;TZID=Australia/Sydney:20210214T120000
DTEND;TZID=Australia/Sydney:20210214T170000
DTSTAMP:20260425T223255
CREATED:20210224T012206Z
LAST-MODIFIED:20210224T012206Z
UID:3770-1613304000-1613322000@www.tvsc.com.au
SUMMARY:Class Championships Day 3 - Rescheduled - (Was Postponed again)  Copy
DESCRIPTION:A long race format Class Championships for all classes except NS14s. \n\nBriefing at Midday (NSW Time)\nRace Start one hour later.\n\nAll Skippers Please Register and pay your entry fee here. \nSkippers\, if you need crew\, then please fill in your details here or look at this list of potential crew looking for spots. \nCrew\, if you’re looking for a spot\, then please look at the list of skippers needing crew here.
URL:https://www.tvsc.com.au/event/class-championships-day-3-copy-2/
LOCATION:Tweed Valley Sailing Club\, Boat Park opposite the Sheaok Cafe\, Fingal Road\, Fingal Heads\, NSW\, 2487\, Australia
CATEGORIES:Race
END:VEVENT
BEGIN:VEVENT
DTSTART;VALUE=DATE:20210220
DTEND;VALUE=DATE:20210221
DTSTAMP:20260425T223255
CREATED:20210204T230047Z
LAST-MODIFIED:20210204T230047Z
UID:3725-1613779200-1613865599@www.tvsc.com.au
SUMMARY:She Sails - Learn to Sail Course Session 1
DESCRIPTION:Hi All\, \nCommencing on Saturday 20th February 2021\, we are holding our first 2021 “SheSails Sailing 1” (learn to sail) course. \nIt comprises of  3 x 4 hour sessions over 3 Saturdays –  20.2.21\, 27.2.21 and 20.3.21.  \nI am asking any competent sailor if they could assist for all or any of the 3 afternoons.  There is a need for safety boat drivers and volunteers to assist the ladies sailing the club boats (X3s\, pacers and maybe sabots\, dependent on how many participants we get for the course).   \nIt’s a fun\, bonding experience for us all\, and we’re doing what we love\, being on the waters at Fingal\, and sharing our knowledge of sailing.   \nPlease note:  None of us get paid and the proceeds go back into the club. We have recently purchased 3 pacers for the club\, so the registration from the participants is to help pay for those pacers.   \nSo\, if you have a spare Saturday\, 2 Saturdays or 3 Saturdays\, could you please let Monique know at email address:  swell.lady16@gmail.com  \nAlso\, if you know of any females who are keen to learn to sail\, please send this email on to them. \nLink to register for the event – https://www.revolutionise.com.au/tweedvalleysc/events/89970/ \nIf you have any enquiries\, please don’t hesitate to email me or phone me on 0409 761908.  
URL:https://www.tvsc.com.au/event/she-sails-learn-to-sail-course-session-1/
LOCATION:Tweed Valley Sailing Club\, Boat Park opposite the Sheaok Cafe\, Fingal Road\, Fingal Heads\, NSW\, 2487\, Australia
END:VEVENT
BEGIN:VEVENT
DTSTART;TZID=Australia/Sydney:20210221T120000
DTEND;TZID=Australia/Sydney:20210221T170000
DTSTAMP:20260425T223255
CREATED:20200928T054747Z
LAST-MODIFIED:20210216T011759Z
UID:3528-1613908800-1613926800@www.tvsc.com.au
SUMMARY:All Handicap Point Score and NS14 Class Championships Day 4
DESCRIPTION:Three short races. Class Championships for the NS14 fleet. \nSkippers\, please register your boat here. \nCovid Registration is now done on the day\, using the ‘Check In’ option on the menu on our website or scanning the QR code on site. \nSkippers\, if you need crew for the day and haven’t made arrangements\, then you can leave your details here.  You can also look at the list of people wanting to crew for the season and give them a call. \nIf you’re wanting to sail as crew and do not have a spot\, then you can leave your details here.
URL:https://www.tvsc.com.au/event/all-handicap-point-score-and-ns14-class-championships-day-4/
LOCATION:Tweed Valley Sailing Club\, Boat Park opposite the Sheaok Cafe\, Fingal Road\, Fingal Heads\, NSW\, 2487\, Australia
CATEGORIES:Race
END:VEVENT
BEGIN:VEVENT
DTSTART;VALUE=DATE:20210227
DTEND;VALUE=DATE:20210228
DTSTAMP:20260425T223255
CREATED:20210204T230105Z
LAST-MODIFIED:20210204T230123Z
UID:3727-1614384000-1614470399@www.tvsc.com.au
SUMMARY:She Sails - Learn to Sail Course Session 2
DESCRIPTION:Hi All\, \nCommencing on Saturday 20th February 2021\, we are holding our first 2021 “SheSails Sailing 1” (learn to sail) course. \nIt comprises of  3 x 4 hour sessions over 3 Saturdays –  20.2.21\, 27.2.21 and 20.3.21.  \nI am asking any competent sailor if they could assist for all or any of the 3 afternoons.  There is a need for safety boat drivers and volunteers to assist the ladies sailing the club boats (X3s\, pacers and maybe sabots\, dependent on how many participants we get for the course).   \nIt’s a fun\, bonding experience for us all\, and we’re doing what we love\, being on the waters at Fingal\, and sharing our knowledge of sailing.   \nPlease note:  None of us get paid and the proceeds go back into the club. We have recently purchased 3 pacers for the club\, so the registration from the participants is to help pay for those pacers.   \nSo\, if you have a spare Saturday\, 2 Saturdays or 3 Saturdays\, could you please let Monique know at email address:  swell.lady16@gmail.com  \nAlso\, if you know of any females who are keen to learn to sail\, please send this email on to them. \nLink to register for the event – https://www.revolutionise.com.au/tweedvalleysc/events/89970/ \nIf you have any enquiries\, please don’t hesitate to email me or phone me on 0409 761908.  
URL:https://www.tvsc.com.au/event/she-sails-learn-to-sail-course-session-1-copy/
LOCATION:Tweed Valley Sailing Club\, Boat Park opposite the Sheaok Cafe\, Fingal Road\, Fingal Heads\, NSW\, 2487\, Australia
END:VEVENT
END:VCALENDAR