BEGIN:VCALENDAR
VERSION:2.0
PRODID:-//Tweed Valley Sailing Club - ECPv6.15.17//NONSGML v1.0//EN
CALSCALE:GREGORIAN
METHOD:PUBLISH
X-ORIGINAL-URL:https://www.tvsc.com.au
X-WR-CALDESC:Events for Tweed Valley Sailing Club
REFRESH-INTERVAL;VALUE=DURATION:PT1H
X-Robots-Tag:noindex
X-PUBLISHED-TTL:PT1H
BEGIN:VTIMEZONE
TZID:Australia/Sydney
BEGIN:STANDARD
TZOFFSETFROM:+1100
TZOFFSETTO:+1000
TZNAME:AEST
DTSTART:20200404T160000
END:STANDARD
BEGIN:DAYLIGHT
TZOFFSETFROM:+1000
TZOFFSETTO:+1100
TZNAME:AEDT
DTSTART:20201003T160000
END:DAYLIGHT
BEGIN:STANDARD
TZOFFSETFROM:+1100
TZOFFSETTO:+1000
TZNAME:AEST
DTSTART:20210403T160000
END:STANDARD
BEGIN:DAYLIGHT
TZOFFSETFROM:+1000
TZOFFSETTO:+1100
TZNAME:AEDT
DTSTART:20211002T160000
END:DAYLIGHT
BEGIN:STANDARD
TZOFFSETFROM:+1100
TZOFFSETTO:+1000
TZNAME:AEST
DTSTART:20220402T160000
END:STANDARD
BEGIN:DAYLIGHT
TZOFFSETFROM:+1000
TZOFFSETTO:+1100
TZNAME:AEDT
DTSTART:20221001T160000
END:DAYLIGHT
END:VTIMEZONE
BEGIN:VEVENT
DTSTART;VALUE=DATE:20210731
DTEND;VALUE=DATE:20210802
DTSTAMP:20260425T124758
CREATED:20210215T013112Z
LAST-MODIFIED:20210617T222555Z
UID:3760-1627689600-1627862399@www.tvsc.com.au
SUMMARY:Nev Wilson Memorial Ski Race
DESCRIPTION:We’re unable to sail this weekend\, as the Tweed River Water Ski Club will be using the river for their annual Nev Wilson Memorial Ski Race.
URL:https://www.tvsc.com.au/event/nev-wilson-memorial-ski-race/
LOCATION:NSW
END:VEVENT
BEGIN:VEVENT
DTSTART;TZID=Australia/Sydney:20210801T090000
DTEND;TZID=Australia/Sydney:20210801T113000
DTSTAMP:20260425T124758
CREATED:20210728T052526Z
LAST-MODIFIED:20210728T052654Z
UID:4110-1627808400-1627817400@www.tvsc.com.au
SUMMARY:Juniors Sailing
DESCRIPTION:Starts at 9 am.  Please register here.
URL:https://www.tvsc.com.au/event/juniors-sailing-11-copy/
LOCATION:Tweed Valley Sailing Club\, Boat Park opposite the Sheaok Cafe\, Fingal Road\, Fingal Heads\, NSW\, 2487\, Australia
CATEGORIES:Juniors Sailing
END:VEVENT
BEGIN:VEVENT
DTSTART;TZID=Australia/Sydney:20210808T090000
DTEND;TZID=Australia/Sydney:20210808T113000
DTSTAMP:20260425T124758
CREATED:20210802T004208Z
LAST-MODIFIED:20210802T004400Z
UID:4134-1628413200-1628422200@www.tvsc.com.au
SUMMARY:Juniors Sailing
DESCRIPTION:Starts at 9 am.  Please register here.
URL:https://www.tvsc.com.au/event/juniors-sailing-11-copy-copy/
LOCATION:Tweed Valley Sailing Club\, Boat Park opposite the Sheaok Cafe\, Fingal Road\, Fingal Heads\, NSW\, 2487\, Australia
CATEGORIES:Juniors Sailing
END:VEVENT
BEGIN:VEVENT
DTSTART;TZID=Australia/Sydney:20210808T120000
DTEND;TZID=Australia/Sydney:20210808T150000
DTSTAMP:20260425T124758
CREATED:20210617T222644Z
LAST-MODIFIED:20210802T004340Z
UID:4007-1628424000-1628434800@www.tvsc.com.au
SUMMARY:Winter 2021 - Covid Race Day
DESCRIPTION:A different race day to normal…probably \n\nBriefing at Midday\nRace Start at 1pm\n\nBoat Registration here.
URL:https://www.tvsc.com.au/event/winter-2021-day-8-copy-2/
LOCATION:Tweed Valley Sailing Club\, Boat Park opposite the Sheaok Cafe\, Fingal Road\, Fingal Heads\, NSW\, 2487\, Australia
CATEGORIES:Race
END:VEVENT
BEGIN:VEVENT
DTSTART;TZID=Australia/Sydney:20210815T090000
DTEND;TZID=Australia/Sydney:20210815T113000
DTSTAMP:20260425T124758
CREATED:20210810T232635Z
LAST-MODIFIED:20210810T232658Z
UID:4144-1629018000-1629027000@www.tvsc.com.au
SUMMARY:Juniors Sailing
DESCRIPTION:Starts at 9 am.  Please register here.
URL:https://www.tvsc.com.au/event/juniors-sailing-11-copy-copy-copy/
LOCATION:Tweed Valley Sailing Club\, Boat Park opposite the Sheaok Cafe\, Fingal Road\, Fingal Heads\, NSW\, 2487\, Australia
CATEGORIES:Juniors Sailing
END:VEVENT
BEGIN:VEVENT
DTSTART;TZID=Australia/Sydney:20210822T120000
DTEND;TZID=Australia/Sydney:20210822T150000
DTSTAMP:20260425T124758
CREATED:20210405T004212Z
LAST-MODIFIED:20210819T225132Z
UID:3809-1629633600-1629644400@www.tvsc.com.au
SUMMARY:Winter 2021 - Day 8 - Cancelled
DESCRIPTION:Probably two short races. \n\nBriefing at Midday\nRace Start at 1pm\n\nCancelled due to lockdown in NSW.
URL:https://www.tvsc.com.au/event/winter-2021-day-8/
LOCATION:Tweed Valley Sailing Club\, Boat Park opposite the Sheaok Cafe\, Fingal Road\, Fingal Heads\, NSW\, 2487\, Australia
CATEGORIES:Race
END:VEVENT
END:VCALENDAR