BEGIN:VCALENDAR
VERSION:2.0
PRODID:-//Tweed Valley Sailing Club - ECPv6.15.17//NONSGML v1.0//EN
CALSCALE:GREGORIAN
METHOD:PUBLISH
X-WR-CALNAME:Tweed Valley Sailing Club
X-ORIGINAL-URL:https://www.tvsc.com.au
X-WR-CALDESC:Events for Tweed Valley Sailing Club
REFRESH-INTERVAL;VALUE=DURATION:PT1H
X-Robots-Tag:noindex
X-PUBLISHED-TTL:PT1H
BEGIN:VTIMEZONE
TZID:Australia/Sydney
BEGIN:STANDARD
TZOFFSETFROM:+1100
TZOFFSETTO:+1000
TZNAME:AEST
DTSTART:20200404T160000
END:STANDARD
BEGIN:DAYLIGHT
TZOFFSETFROM:+1000
TZOFFSETTO:+1100
TZNAME:AEDT
DTSTART:20201003T160000
END:DAYLIGHT
BEGIN:STANDARD
TZOFFSETFROM:+1100
TZOFFSETTO:+1000
TZNAME:AEST
DTSTART:20210403T160000
END:STANDARD
BEGIN:DAYLIGHT
TZOFFSETFROM:+1000
TZOFFSETTO:+1100
TZNAME:AEDT
DTSTART:20211002T160000
END:DAYLIGHT
BEGIN:STANDARD
TZOFFSETFROM:+1100
TZOFFSETTO:+1000
TZNAME:AEST
DTSTART:20220402T160000
END:STANDARD
BEGIN:DAYLIGHT
TZOFFSETFROM:+1000
TZOFFSETTO:+1100
TZNAME:AEDT
DTSTART:20221001T160000
END:DAYLIGHT
END:VTIMEZONE
BEGIN:VEVENT
DTSTART;TZID=Australia/Sydney:20210905T120000
DTEND;TZID=Australia/Sydney:20210905T150000
DTSTAMP:20260425T111803
CREATED:20210405T004340Z
LAST-MODIFIED:20210405T004401Z
UID:3811-1630843200-1630854000@www.tvsc.com.au
SUMMARY:Winter 2021 - Day 9
DESCRIPTION:Probably two short races. \n\nBriefing at Midday\nRace Start at 1pm
URL:https://www.tvsc.com.au/event/winter-2021-day-8-copy/
LOCATION:Tweed Valley Sailing Club\, Boat Park opposite the Sheaok Cafe\, Fingal Road\, Fingal Heads\, NSW\, 2487\, Australia
CATEGORIES:Race
END:VEVENT
BEGIN:VEVENT
DTSTART;VALUE=DATE:20210920
DTEND;VALUE=DATE:20210923
DTSTAMP:20260425T111803
CREATED:20210704T064704Z
LAST-MODIFIED:20210820T001856Z
UID:4051-1632096000-1632355199@www.tvsc.com.au
SUMMARY:September Juniors School Holiday Program - Week 1
DESCRIPTION:We’ll be holding a three-day sailing program for juniors\, during the September school holidays. \nRegistration here
URL:https://www.tvsc.com.au/event/september-juniors-school-holiday-program-week-1/
LOCATION:Tweed Valley Sailing Club\, Boat Park opposite the Sheaok Cafe\, Fingal Road\, Fingal Heads\, NSW\, 2487\, Australia
CATEGORIES:Juniors Sailing
END:VEVENT
BEGIN:VEVENT
DTSTART;VALUE=DATE:20210927
DTEND;VALUE=DATE:20210930
DTSTAMP:20260425T111803
CREATED:20210704T064711Z
LAST-MODIFIED:20210820T001917Z
UID:4053-1632700800-1632959999@www.tvsc.com.au
SUMMARY:September Juniors School Holiday Program - Week 2
DESCRIPTION:We’ll be holding a three-day sailing program for juniors\, during the September school holidays. \nRegistration here.
URL:https://www.tvsc.com.au/event/september-juniors-school-holiday-program-week-1-copy/
LOCATION:Tweed Valley Sailing Club\, Boat Park opposite the Sheaok Cafe\, Fingal Road\, Fingal Heads\, NSW\, 2487\, Australia
CATEGORIES:Juniors Sailing
END:VEVENT
END:VCALENDAR