BEGIN:VCALENDAR
VERSION:2.0
PRODID:-//Tweed Valley Sailing Club - ECPv6.15.17//NONSGML v1.0//EN
CALSCALE:GREGORIAN
METHOD:PUBLISH
X-ORIGINAL-URL:https://www.tvsc.com.au
X-WR-CALDESC:Events for Tweed Valley Sailing Club
REFRESH-INTERVAL;VALUE=DURATION:PT1H
X-Robots-Tag:noindex
X-PUBLISHED-TTL:PT1H
BEGIN:VTIMEZONE
TZID:Australia/Sydney
BEGIN:STANDARD
TZOFFSETFROM:+1100
TZOFFSETTO:+1000
TZNAME:AEST
DTSTART:20210403T160000
END:STANDARD
BEGIN:DAYLIGHT
TZOFFSETFROM:+1000
TZOFFSETTO:+1100
TZNAME:AEDT
DTSTART:20211002T160000
END:DAYLIGHT
BEGIN:STANDARD
TZOFFSETFROM:+1100
TZOFFSETTO:+1000
TZNAME:AEST
DTSTART:20220402T160000
END:STANDARD
BEGIN:DAYLIGHT
TZOFFSETFROM:+1000
TZOFFSETTO:+1100
TZNAME:AEDT
DTSTART:20221001T160000
END:DAYLIGHT
BEGIN:STANDARD
TZOFFSETFROM:+1100
TZOFFSETTO:+1000
TZNAME:AEST
DTSTART:20230401T160000
END:STANDARD
BEGIN:DAYLIGHT
TZOFFSETFROM:+1000
TZOFFSETTO:+1100
TZNAME:AEDT
DTSTART:20230930T160000
END:DAYLIGHT
END:VTIMEZONE
BEGIN:VEVENT
DTSTART;TZID=Australia/Sydney:20220206T120000
DTEND;TZID=Australia/Sydney:20220206T150000
DTSTAMP:20260425T042143
CREATED:20211207T060956Z
LAST-MODIFIED:20220201T004627Z
UID:4321-1644148800-1644159600@www.tvsc.com.au
SUMMARY:Summer 21/22 Day 3
DESCRIPTION:Day 3 of our short summer series. \nSkipper’s registration here.
URL:https://www.tvsc.com.au/event/summer-21-22-day-3/
LOCATION:Tweed Valley Sailing Club\, Boat Park opposite the Sheaok Cafe\, Fingal Road\, Fingal Heads\, NSW\, 2487\, Australia
CATEGORIES:Race
END:VEVENT
BEGIN:VEVENT
DTSTART;TZID=Australia/Sydney:20220212T120000
DTEND;TZID=Australia/Sydney:20220212T170000
DTSTAMP:20260425T042143
CREATED:20220103T010356Z
LAST-MODIFIED:20220202T063037Z
UID:4348-1644667200-1644685200@www.tvsc.com.au
SUMMARY:SheSails Learn to Sail - 2 Day Course - 12th and 19th February 2022 COURSE FULL
DESCRIPTION:Tweed Valley Sailing Club is holding it’s first SheSails Learn to Dinghy Sail course for 2022.  Held over 2 Saturdays\, Day 1\, 12th February\, and Day 2\, 19th February and open to only 8 “wannabe” sailors.   Please click on the link below to register and pay $150 which includes club membership. \nhttps://www.revolutionise.com.au/tweedvalleysc/events/126199/
URL:https://www.tvsc.com.au/event/shesails-learn-to-sail-2-day-course-february-2022/
LOCATION:Tweed Valley Sailing Club\, Boat Park opposite the Sheaok Cafe\, Fingal Road\, Fingal Heads\, NSW\, 2487\, Australia
ATTACH;FMTTYPE=image/jpeg:https://www.tvsc.com.au/wp-content/uploads/2021/05/184698649_1171888693279898_8759851249133326141_n-scaled.jpg
END:VEVENT
BEGIN:VEVENT
DTSTART;TZID=Australia/Sydney:20220220T120000
DTEND;TZID=Australia/Sydney:20220220T150000
DTSTAMP:20260425T042143
CREATED:20211213T002722Z
LAST-MODIFIED:20220214T062113Z
UID:4329-1645358400-1645369200@www.tvsc.com.au
SUMMARY:Summer 21/22 Day 4
DESCRIPTION:Day 4 of our short summer series. \nSkipper Registration here.
URL:https://www.tvsc.com.au/event/summer-21-22-day-3-copy/
LOCATION:Tweed Valley Sailing Club\, Boat Park opposite the Sheaok Cafe\, Fingal Road\, Fingal Heads\, NSW\, 2487\, Australia
CATEGORIES:Race
END:VEVENT
BEGIN:VEVENT
DTSTART;VALUE=DATE:20220226
DTEND;VALUE=DATE:20220228
DTSTAMP:20260425T042143
CREATED:20211004T084641Z
LAST-MODIFIED:20220201T004834Z
UID:4209-1645833600-1646006399@www.tvsc.com.au
SUMMARY:Big River Annual Regatta
DESCRIPTION:The BRSC are holding their annual regatta at Harwood this weekend. \nIf you’d like to crew for the weekend\, then please fill in this form.
URL:https://www.tvsc.com.au/event/big-river-annual-regatta-2/
LOCATION:Big River Sailing Club\, 2 Careys Lane\, Harwood\, NSW\, 2465\, Australia
CATEGORIES:Away Event
ORGANIZER;CN="Big River Sailing Club":MAILTO:bigriversailingclub@gmail.com
END:VEVENT
END:VCALENDAR