BEGIN:VCALENDAR
VERSION:2.0
PRODID:-//Tweed Valley Sailing Club - ECPv6.15.17//NONSGML v1.0//EN
CALSCALE:GREGORIAN
METHOD:PUBLISH
X-ORIGINAL-URL:https://www.tvsc.com.au
X-WR-CALDESC:Events for Tweed Valley Sailing Club
REFRESH-INTERVAL;VALUE=DURATION:PT1H
X-Robots-Tag:noindex
X-PUBLISHED-TTL:PT1H
BEGIN:VTIMEZONE
TZID:Australia/Sydney
BEGIN:STANDARD
TZOFFSETFROM:+1100
TZOFFSETTO:+1000
TZNAME:AEST
DTSTART:20210403T160000
END:STANDARD
BEGIN:DAYLIGHT
TZOFFSETFROM:+1000
TZOFFSETTO:+1100
TZNAME:AEDT
DTSTART:20211002T160000
END:DAYLIGHT
BEGIN:STANDARD
TZOFFSETFROM:+1100
TZOFFSETTO:+1000
TZNAME:AEST
DTSTART:20220402T160000
END:STANDARD
BEGIN:DAYLIGHT
TZOFFSETFROM:+1000
TZOFFSETTO:+1100
TZNAME:AEDT
DTSTART:20221001T160000
END:DAYLIGHT
BEGIN:STANDARD
TZOFFSETFROM:+1100
TZOFFSETTO:+1000
TZNAME:AEST
DTSTART:20230401T160000
END:STANDARD
BEGIN:DAYLIGHT
TZOFFSETFROM:+1000
TZOFFSETTO:+1100
TZNAME:AEDT
DTSTART:20230930T160000
END:DAYLIGHT
END:VTIMEZONE
BEGIN:VEVENT
DTSTART;TZID=Australia/Sydney:20220306T120000
DTEND;TZID=Australia/Sydney:20220306T150000
DTSTAMP:20260425T030255
CREATED:20211219T041453Z
LAST-MODIFIED:20220304T044327Z
UID:4341-1646568000-1646578800@www.tvsc.com.au
SUMMARY:Summer 21/22 Day 5 (Cancelled)
DESCRIPTION:Day 5 of our short summer series \nCancelled due to the flooding.
URL:https://www.tvsc.com.au/event/summer-21-22-day-3-copy-copy/
LOCATION:Tweed Valley Sailing Club\, Boat Park opposite the Sheaok Cafe\, Fingal Road\, Fingal Heads\, NSW\, 2487\, Australia
CATEGORIES:Race
END:VEVENT
BEGIN:VEVENT
DTSTART;VALUE=DATE:20220312
DTEND;VALUE=DATE:20220327
DTSTAMP:20260425T030255
CREATED:20220222T004219Z
LAST-MODIFIED:20220310T233516Z
UID:4429-1647043200-1648339199@www.tvsc.com.au
SUMMARY:She Sails - Learn to Sail Course - 2 Days - 12 and 26 March 2022
DESCRIPTION:To celebrate International Women’s Day 2022 our club is holding a Women and Girls Introduction to Sailing course.  If you would like to learn to sail on the beautiful waters of Tweed River\, Fingal\, Northern NSW over 2 Saturdays in March (with a back up date in April\, if weather turns sour on us). \nCourse is limited to 9 pax\, so don’t hesitate to sign on and pay to secure your spot. \nhttps://www.revolutionise.com.au/tweedvalleysc/events/133065/
URL:https://www.tvsc.com.au/event/she-sails-learn-to-sail-course-2-days-12-and-26-march-2022/
LOCATION:Tweed Valley Sailing Club\, Boat Park opposite the Sheaok Cafe\, Fingal Road\, Fingal Heads\, NSW\, 2487\, Australia
ATTACH;FMTTYPE=image/jpeg:https://www.tvsc.com.au/wp-content/uploads/2022/02/44B7430B-099C-4CBF-A9EC-884C8775680F.jpeg
END:VEVENT
BEGIN:VEVENT
DTSTART;TZID=Australia/Sydney:20220320T120000
DTEND;TZID=Australia/Sydney:20220320T150000
DTSTAMP:20260425T030255
CREATED:20211219T041521Z
LAST-MODIFIED:20220314T234204Z
UID:4343-1647777600-1647788400@www.tvsc.com.au
SUMMARY:Summer 21/22 Day 6 - Final Day
DESCRIPTION:The last race day our short summer series. \nSkippers\, register here.
URL:https://www.tvsc.com.au/event/summer-21-22-day-3-copy-copy-copy/
LOCATION:Tweed Valley Sailing Club\, Boat Park opposite the Sheaok Cafe\, Fingal Road\, Fingal Heads\, NSW\, 2487\, Australia
CATEGORIES:Race
END:VEVENT
BEGIN:VEVENT
DTSTART;TZID=Australia/Sydney:20220327T110000
DTEND;TZID=Australia/Sydney:20220327T170000
DTSTAMP:20260425T030255
CREATED:20220119T055425Z
LAST-MODIFIED:20220201T004541Z
UID:4382-1648378800-1648400400@www.tvsc.com.au
SUMMARY:QLA - QLD State River Titles
DESCRIPTION:We’re the host club for the Queensland Laser Association’s River Titles. \nSee the QLA website for more details\, registration etc. \nNOR and registration are here.  TVSC Members can enter the event without needing to be a member of the QLA. \nIf you’re available to volunteer for the day\, then please fill in this form. \n 
URL:https://www.tvsc.com.au/event/queensland-laser-association/
LOCATION:Tweed Valley Sailing Club\, Boat Park opposite the Sheaok Cafe\, Fingal Road\, Fingal Heads\, NSW\, 2487\, Australia
END:VEVENT
END:VCALENDAR