BEGIN:VCALENDAR
VERSION:2.0
PRODID:-//Tweed Valley Sailing Club - ECPv6.15.17//NONSGML v1.0//EN
CALSCALE:GREGORIAN
METHOD:PUBLISH
X-WR-CALNAME:Tweed Valley Sailing Club
X-ORIGINAL-URL:https://www.tvsc.com.au
X-WR-CALDESC:Events for Tweed Valley Sailing Club
REFRESH-INTERVAL;VALUE=DURATION:PT1H
X-Robots-Tag:noindex
X-PUBLISHED-TTL:PT1H
BEGIN:VTIMEZONE
TZID:Australia/Sydney
BEGIN:STANDARD
TZOFFSETFROM:+1100
TZOFFSETTO:+1000
TZNAME:AEST
DTSTART:20210403T160000
END:STANDARD
BEGIN:DAYLIGHT
TZOFFSETFROM:+1000
TZOFFSETTO:+1100
TZNAME:AEDT
DTSTART:20211002T160000
END:DAYLIGHT
BEGIN:STANDARD
TZOFFSETFROM:+1100
TZOFFSETTO:+1000
TZNAME:AEST
DTSTART:20220402T160000
END:STANDARD
BEGIN:DAYLIGHT
TZOFFSETFROM:+1000
TZOFFSETTO:+1100
TZNAME:AEDT
DTSTART:20221001T160000
END:DAYLIGHT
BEGIN:STANDARD
TZOFFSETFROM:+1100
TZOFFSETTO:+1000
TZNAME:AEST
DTSTART:20230401T160000
END:STANDARD
BEGIN:DAYLIGHT
TZOFFSETFROM:+1000
TZOFFSETTO:+1100
TZNAME:AEDT
DTSTART:20230930T160000
END:DAYLIGHT
END:VTIMEZONE
BEGIN:VEVENT
DTSTART;TZID=Australia/Sydney:20220814T083000
DTEND;TZID=Australia/Sydney:20220814T113000
DTSTAMP:20260424T200617
CREATED:20220725T043149Z
LAST-MODIFIED:20220728T231517Z
UID:4724-1660465800-1660476600@www.tvsc.com.au
SUMMARY:Introductory Sailing Course
DESCRIPTION:  \n\n\nIntroductory Sailing Course – Aug\, Sept\n\nRegister here. \n  \n\nSunday mornings 8.30-11.30 am\nFor 6 weeks\, 14 Aug – 18 Sept 2022 \nOpen to all Adults and Juniors 7-17yrs. \nBased on Aust Sailing Course Sailing 1&2\, the course includes:\nSafety while sailing\,\nSteering and crewing on all points of sailing\,\nTacking and Gybing\,\nBoat handling ashore and afloat\,\nRigging and basic knots\,\nCapsize and Man Overboard Drills. \nThe Course will be run by our experienced and qualified Instructors in a friendly and fun environment.  Those who complete this course should be confident to cruise or race in sheltered waters with their own or our club boats. \n\nParticipants should have reasonable fitness and be able to swim 25 metres. Also\, have their own sailing attire of wetsuit or woollen or thermal top with spray jacket\, shorts\, wading shoes\, hat and sunscreen (sunglasses with tie optional). Club life jackets are available.  (More details are on our Try Sailing page.) \nCost for the six-week course: Adults $225\, Juniors $155. \n(NB Juniors can use their NSW ActiveKids Voucher to assist with this.)\nCost includes 2022-23 Club Membership\, use of club sailing dinghies during the Course and rescue boats\, and club life jackets. \nFor more details\, contact John on 0431025497 or Adam on 0407738337 \nPlaces are limited \n\n\n 
URL:https://www.tvsc.com.au/event/introductory-sailing-course/
LOCATION:Tweed Valley Sailing Club\, Boat Park opposite the Sheaok Cafe\, Fingal Road\, Fingal Heads\, NSW\, 2487\, Australia
END:VEVENT
BEGIN:VEVENT
DTSTART;TZID=Australia/Sydney:20220814T110000
DTEND;TZID=Australia/Sydney:20220814T150000
DTSTAMP:20260424T200617
CREATED:20220418T080613Z
LAST-MODIFIED:20220810T020209Z
UID:4556-1660474800-1660489200@www.tvsc.com.au
SUMMARY:Winter Racing
DESCRIPTION:Racing is on. \nBriefing at Midday\, first race at 1pm. \nSkipper’s registration form here
URL:https://www.tvsc.com.au/event/winter-racing-8/
LOCATION:Tweed Valley Sailing Club\, Boat Park opposite the Sheaok Cafe\, Fingal Road\, Fingal Heads\, NSW\, 2487\, Australia
CATEGORIES:Race
END:VEVENT
BEGIN:VEVENT
DTSTART;TZID=Australia/Sydney:20220821T083000
DTEND;TZID=Australia/Sydney:20220821T113000
DTSTAMP:20260424T200617
CREATED:20220725T043308Z
LAST-MODIFIED:20220804T070555Z
UID:4726-1661070600-1661081400@www.tvsc.com.au
SUMMARY:Introductory Sailing Course Day 2
DESCRIPTION:  \n\n\nIntroductory Sailing Course – Aug\, Sept\n\n  \n\nSunday mornings 8.30-11.30 am\nFor 6 weeks\, 14 Aug – 18 Sept 2022 \nOpen to all Adults and Juniors 7-17yrs. \nThe course includes:\nSafety while sailing\,\nSteering and crewing on all points of sailing\,\nTacking and Gybing\,\nBoat handling ashore and afloat\,\nRigging and basic knots\,\nCapsize and Man Overboard Drills. \nThe Course will be run by our experienced and qualified Instructors in a friendly and fun environment.  Those who complete this course should be confident to cruise or race in sheltered waters with their own or our club boats. \n\nParticipants should have reasonable fitness and be able to swim 25 metres. Also\, have their own sailing attire of wetsuit or woollen or thermal top with spray jacket\, shorts\, wading shoes\, hat and sunscreen (sunglasses with tie optional). Club life jackets are available.  (More details are on our Try Sailing page.) \nCost for the six-week course: Adults $225\, Juniors $155. \n(NB Juniors can use their NSW ActiveKids Voucher to assist with this.)\nCost includes 2022-23 Club Membership\, use of club sailing dinghies during the Course and rescue boats\, and club life jackets. \nFor more details\, contact John on 0431025497 or Adam on 0407738337 \nPlaces are limited \n\n\n 
URL:https://www.tvsc.com.au/event/introductory-sailing-course-copy/
LOCATION:Tweed Valley Sailing Club\, Boat Park opposite the Sheaok Cafe\, Fingal Road\, Fingal Heads\, NSW\, 2487\, Australia
END:VEVENT
BEGIN:VEVENT
DTSTART;TZID=Australia/Sydney:20220828T083000
DTEND;TZID=Australia/Sydney:20220828T113000
DTSTAMP:20260424T200617
CREATED:20220725T043348Z
LAST-MODIFIED:20220804T070601Z
UID:4728-1661675400-1661686200@www.tvsc.com.au
SUMMARY:Introductory Sailing Course Day 3
DESCRIPTION:  \n\n\nIntroductory Sailing Course – Aug\, Sept\n\n  \n\nSunday mornings 8.30-11.30 am\nFor 6 weeks\, 14 Aug – 18 Sept 2022 \nOpen to all Adults and Juniors 7-17yrs. \nThe course includes:\nSafety while sailing\,\nSteering and crewing on all points of sailing\,\nTacking and Gybing\,\nBoat handling ashore and afloat\,\nRigging and basic knots\,\nCapsize and Man Overboard Drills. \nThe Course will be run by our experienced and qualified Instructors in a friendly and fun environment.  Those who complete this course should be confident to cruise or race in sheltered waters with their own or our club boats. \n\nParticipants should have reasonable fitness and be able to swim 25 metres. Also\, have their own sailing attire of wetsuit or woollen or thermal top with spray jacket\, shorts\, wading shoes\, hat and sunscreen (sunglasses with tie optional). Club life jackets are available.  (More details are on our Try Sailing page.) \nCost for the six-week course: Adults $225\, Juniors $155. \n(NB Juniors can use their NSW ActiveKids Voucher to assist with this.)\nCost includes 2022-23 Club Membership\, use of club sailing dinghies during the Course and rescue boats\, and club life jackets. \nFor more details\, contact John on 0431025497 or Adam on 0407738337 \nPlaces are limited \n\n\n 
URL:https://www.tvsc.com.au/event/introductory-sailing-course-copy-copy/
LOCATION:Tweed Valley Sailing Club\, Boat Park opposite the Sheaok Cafe\, Fingal Road\, Fingal Heads\, NSW\, 2487\, Australia
END:VEVENT
BEGIN:VEVENT
DTSTART;TZID=Australia/Sydney:20220828T110000
DTEND;TZID=Australia/Sydney:20220828T150000
DTSTAMP:20260424T200617
CREATED:20220418T080643Z
LAST-MODIFIED:20220821T220122Z
UID:4558-1661684400-1661698800@www.tvsc.com.au
SUMMARY:Winter Racing
DESCRIPTION:Racing is on. \nBriefing at Midday\, first race at 1pm. \nSkipper’s registration is here.
URL:https://www.tvsc.com.au/event/winter-racing-9/
LOCATION:Tweed Valley Sailing Club\, Boat Park opposite the Sheaok Cafe\, Fingal Road\, Fingal Heads\, NSW\, 2487\, Australia
CATEGORIES:Race
END:VEVENT
END:VCALENDAR