BEGIN:VCALENDAR
VERSION:2.0
PRODID:-//Tweed Valley Sailing Club - ECPv6.15.17//NONSGML v1.0//EN
CALSCALE:GREGORIAN
METHOD:PUBLISH
X-ORIGINAL-URL:https://www.tvsc.com.au
X-WR-CALDESC:Events for Tweed Valley Sailing Club
REFRESH-INTERVAL;VALUE=DURATION:PT1H
X-Robots-Tag:noindex
X-PUBLISHED-TTL:PT1H
BEGIN:VTIMEZONE
TZID:Australia/Sydney
BEGIN:STANDARD
TZOFFSETFROM:+1100
TZOFFSETTO:+1000
TZNAME:AEST
DTSTART:20210403T160000
END:STANDARD
BEGIN:DAYLIGHT
TZOFFSETFROM:+1000
TZOFFSETTO:+1100
TZNAME:AEDT
DTSTART:20211002T160000
END:DAYLIGHT
BEGIN:STANDARD
TZOFFSETFROM:+1100
TZOFFSETTO:+1000
TZNAME:AEST
DTSTART:20220402T160000
END:STANDARD
BEGIN:DAYLIGHT
TZOFFSETFROM:+1000
TZOFFSETTO:+1100
TZNAME:AEDT
DTSTART:20221001T160000
END:DAYLIGHT
BEGIN:STANDARD
TZOFFSETFROM:+1100
TZOFFSETTO:+1000
TZNAME:AEST
DTSTART:20230401T160000
END:STANDARD
BEGIN:DAYLIGHT
TZOFFSETFROM:+1000
TZOFFSETTO:+1100
TZNAME:AEDT
DTSTART:20230930T160000
END:DAYLIGHT
END:VTIMEZONE
BEGIN:VEVENT
DTSTART;TZID=Australia/Sydney:20221106T000000
DTEND;TZID=Australia/Sydney:20221106T235959
DTSTAMP:20260424T155939
CREATED:20220913T003224Z
LAST-MODIFIED:20220913T003421Z
UID:4798-1667692800-1667779199@www.tvsc.com.au
SUMMARY:Laser River Titles
DESCRIPTION:The QLA Laser River Titles are on at the Noosa Yacht and Rowing Club
URL:https://www.tvsc.com.au/event/laser-river-titles/
LOCATION:NSW
CATEGORIES:Away Event
END:VEVENT
BEGIN:VEVENT
DTSTART;TZID=Australia/Sydney:20221106T083000
DTEND;TZID=Australia/Sydney:20221106T113000
DTSTAMP:20260424T155939
CREATED:20220725T223648Z
LAST-MODIFIED:20220725T223700Z
UID:4754-1667723400-1667734200@www.tvsc.com.au
SUMMARY:Introduction to Sailing - Day 4
DESCRIPTION:Registration and pricing to be confirmed. \n 
URL:https://www.tvsc.com.au/event/introduction-to-sailing-day-1-copy-copy-copy/
LOCATION:Tweed Valley Sailing Club\, Boat Park opposite the Sheaok Cafe\, Fingal Road\, Fingal Heads\, NSW\, 2487\, Australia
END:VEVENT
BEGIN:VEVENT
DTSTART;TZID=Australia/Sydney:20221112T000000
DTEND;TZID=Australia/Sydney:20221113T235959
DTSTAMP:20260424T155939
CREATED:20220913T003352Z
LAST-MODIFIED:20221108T052110Z
UID:4800-1668211200-1668383999@www.tvsc.com.au
SUMMARY:50th Annual New England Regatta
DESCRIPTION:The New England Sailing Club are holding their 50th Annual Regatta on the dam.  (It’ll be chilly!) \nEntry here.
URL:https://www.tvsc.com.au/event/50th-annual-new-england-regatta/
LOCATION:NSW
CATEGORIES:Away Event
END:VEVENT
BEGIN:VEVENT
DTSTART;TZID=Australia/Sydney:20221113T083000
DTEND;TZID=Australia/Sydney:20221113T113000
DTSTAMP:20260424T155939
CREATED:20220725T223706Z
LAST-MODIFIED:20220725T223717Z
UID:4756-1668328200-1668339000@www.tvsc.com.au
SUMMARY:Introduction to Sailing - Day 5
DESCRIPTION:Registration and pricing to be confirmed. \n 
URL:https://www.tvsc.com.au/event/introduction-to-sailing-day-1-copy-copy-copy-copy/
LOCATION:Tweed Valley Sailing Club\, Boat Park opposite the Sheaok Cafe\, Fingal Road\, Fingal Heads\, NSW\, 2487\, Australia
END:VEVENT
BEGIN:VEVENT
DTSTART;TZID=Australia/Sydney:20221113T113000
DTEND;TZID=Australia/Sydney:20221113T150000
DTSTAMP:20260424T155939
CREATED:20220913T005614Z
LAST-MODIFIED:20221106T231002Z
UID:4810-1668339000-1668351600@www.tvsc.com.au
SUMMARY:Race Day - All Championship Series Day 2
DESCRIPTION:Race day for our Summer 2022/23 Season. \nBriefing at Midday\, racing from 1pm. \nBoat registration is here. \nJuniors are encouraged to race\, they’ll have their own shorter course. \nA sausage sizzle and results will be done after we’re all packed away on each day. \nRoster is here.  \nOn Sunday\, if you’d be interested in crewing (no experience necessary) then please fill in this form. A skipper may get in touch with you. Or come along on the day (the earlier the better) to see if you can find a ride. Details on what to bring are here.  Skippers\, your list of the available crew is here. \nFor members\, we have Pacers available for hire.  If you hire a boat\, you’ll need to both hire the the boat and register your entry as a skipper.
URL:https://www.tvsc.com.au/event/race-day-all-championship-series-copy-2/
LOCATION:Tweed Valley Sailing Club\, Boat Park opposite the Sheaok Cafe\, Fingal Road\, Fingal Heads\, NSW\, 2487\, Australia
CATEGORIES:Race
END:VEVENT
BEGIN:VEVENT
DTSTART;TZID=Australia/Sydney:20221118T180000
DTEND;TZID=Australia/Sydney:20221120T150000
DTSTAMP:20260424T155939
CREATED:20220725T054744Z
LAST-MODIFIED:20220725T054744Z
UID:4739-1668794400-1668956400@www.tvsc.com.au
SUMMARY:Big River Bridge to Breakers Regatta
DESCRIPTION:A weekend of camping and racing at Harwood. \nMore details soon. \n  \n 
URL:https://www.tvsc.com.au/event/big-river-bridge-to-breakers-regatta/
LOCATION:Big River Sailing Club\, 2 Careys Lane\, Harwood\, NSW\, 2465\, Australia
CATEGORIES:Away Event
ORGANIZER;CN="Big River Sailing Club":MAILTO:bigriversailingclub@gmail.com
END:VEVENT
BEGIN:VEVENT
DTSTART;TZID=Australia/Sydney:20221126T083000
DTEND;TZID=Australia/Sydney:20221126T113000
DTSTAMP:20260424T155939
CREATED:20221115T022322Z
LAST-MODIFIED:20221115T022323Z
UID:4961-1669451400-1669462200@www.tvsc.com.au
SUMMARY:Juniors Fun Sailing Day
DESCRIPTION:Yes\, we will have a Junior Fun Sailing Day on SATURDAY 26th November\, 8.30-11.30\, with a Barbeque lunch afterwards. \n\n\n\nPlease contact me on 0431025497 if you can make it.  \n\n\n\nCheers\, John
URL:https://www.tvsc.com.au/event/juniors-fun-sailing-day/
LOCATION:NSW
END:VEVENT
BEGIN:VEVENT
DTSTART;TZID=Australia/Sydney:20221127T083000
DTEND;TZID=Australia/Sydney:20221127T113000
DTSTAMP:20260424T155939
CREATED:20220725T223726Z
LAST-MODIFIED:20220725T223827Z
UID:4758-1669537800-1669548600@www.tvsc.com.au
SUMMARY:Introduction to Sailing - Day 6
DESCRIPTION:Registration and pricing to be confirmed. \n 
URL:https://www.tvsc.com.au/event/introduction-to-sailing-day-1-copy-copy-copy-copy-copy/
LOCATION:Tweed Valley Sailing Club\, Boat Park opposite the Sheaok Cafe\, Fingal Road\, Fingal Heads\, NSW\, 2487\, Australia
END:VEVENT
BEGIN:VEVENT
DTSTART;TZID=Australia/Sydney:20221127T113000
DTEND;TZID=Australia/Sydney:20221127T150000
DTSTAMP:20260424T155939
CREATED:20220913T005647Z
LAST-MODIFIED:20221122T012135Z
UID:4812-1669548600-1669561200@www.tvsc.com.au
SUMMARY:Race Day - Handicap Series Day 2
DESCRIPTION:Race day for our Summer 2022/23 Season. \nBriefing at Midday\, racing from 1pm. \nSkipper/Boat registration here. \nJuniors are encouraged to race\, they’ll have their own shorter course. \nA sausage sizzle and results will be done after we’re all packed away on each day. \nRoster is here.  \nOn Sunday\, if you’d be interested in crewing (no experience necessary) then please fill in this form. A skipper may get in touch with you. Or come along on the day (the earlier the better) to see if you can find a ride. Details on what to bring are here.  Skippers\, your list of the available crew is here. \nFor members\, we have Pacers available for hire.  If you hire a boat\, you’ll need to both hire the the boat and register your entry as a skipper.
URL:https://www.tvsc.com.au/event/race-day-all-championship-series-copy-copy/
LOCATION:Tweed Valley Sailing Club\, Boat Park opposite the Sheaok Cafe\, Fingal Road\, Fingal Heads\, NSW\, 2487\, Australia
CATEGORIES:Race
END:VEVENT
END:VCALENDAR