BEGIN:VCALENDAR
VERSION:2.0
PRODID:-//Tweed Valley Sailing Club - ECPv6.15.17//NONSGML v1.0//EN
CALSCALE:GREGORIAN
METHOD:PUBLISH
X-ORIGINAL-URL:https://www.tvsc.com.au
X-WR-CALDESC:Events for Tweed Valley Sailing Club
REFRESH-INTERVAL;VALUE=DURATION:PT1H
X-Robots-Tag:noindex
X-PUBLISHED-TTL:PT1H
BEGIN:VTIMEZONE
TZID:Australia/Sydney
BEGIN:STANDARD
TZOFFSETFROM:+1100
TZOFFSETTO:+1000
TZNAME:AEST
DTSTART:20210403T160000
END:STANDARD
BEGIN:DAYLIGHT
TZOFFSETFROM:+1000
TZOFFSETTO:+1100
TZNAME:AEDT
DTSTART:20211002T160000
END:DAYLIGHT
BEGIN:STANDARD
TZOFFSETFROM:+1100
TZOFFSETTO:+1000
TZNAME:AEST
DTSTART:20220402T160000
END:STANDARD
BEGIN:DAYLIGHT
TZOFFSETFROM:+1000
TZOFFSETTO:+1100
TZNAME:AEDT
DTSTART:20221001T160000
END:DAYLIGHT
BEGIN:STANDARD
TZOFFSETFROM:+1100
TZOFFSETTO:+1000
TZNAME:AEST
DTSTART:20230401T160000
END:STANDARD
BEGIN:DAYLIGHT
TZOFFSETFROM:+1000
TZOFFSETTO:+1100
TZNAME:AEDT
DTSTART:20230930T160000
END:DAYLIGHT
END:VTIMEZONE
BEGIN:VEVENT
DTSTART;TZID=Australia/Sydney:20221202T170000
DTEND;TZID=Australia/Sydney:20221204T150000
DTSTAMP:20260424T141820
CREATED:20220725T055555Z
LAST-MODIFIED:20220725T055555Z
UID:4743-1670000400-1670166000@www.tvsc.com.au
SUMMARY:LCSC Boating and RV Monomasters
DESCRIPTION:A weekend of camping and racing at Lake Cootharaba.
URL:https://www.tvsc.com.au/event/lcsc-boating-and-rv-monomasters/
LOCATION:Lake Cootharaba Sailing Club\, 24 Boreen Parade\, Boreen Point\, Qld\, 4565\, Australia
CATEGORIES:Away Event
END:VEVENT
BEGIN:VEVENT
DTSTART;TZID=Australia/Sydney:20221208T080000
DTEND;TZID=Australia/Sydney:20221208T113000
DTSTAMP:20260424T141820
CREATED:20221208T005438Z
LAST-MODIFIED:20221208T005439Z
UID:4997-1670486400-1670499000@www.tvsc.com.au
SUMMARY:Final Intro to Sailing and Juniors
DESCRIPTION:The final introduction to sailing day is this Sunday morning\, along with Juniors.
URL:https://www.tvsc.com.au/event/final-intro-to-sailing-and-juniors/
LOCATION:NSW
END:VEVENT
BEGIN:VEVENT
DTSTART;TZID=Australia/Sydney:20221211T113000
DTEND;TZID=Australia/Sydney:20221211T150000
DTSTAMP:20260424T141820
CREATED:20220913T005848Z
LAST-MODIFIED:20221204T223906Z
UID:4814-1670758200-1670770800@www.tvsc.com.au
SUMMARY:Race Day - All Championship Series Day 3
DESCRIPTION:Race day for our Summer 2022/23 Season. \nBriefing at Midday\, racing from 1pm. \nBoat registration is here. \nJuniors are encouraged to race\, they’ll have their own shorter course. \nA sausage sizzle and results will be done after we’re all packed away on each day. \nRoster is here.  \nOn Sunday\, if you’d be interested in crewing (no experience necessary) then please fill in this form. A skipper may get in touch with you. Or come along on the day (the earlier the better) to see if you can find a ride. Details on what to bring are here.  Skippers\, your list of the available crew is here. \nFor members\, we have Pacers available for hire.  If you hire a boat\, you’ll need to both hire the the boat and register your entry as a skipper.
URL:https://www.tvsc.com.au/event/race-day-all-championship-series-copy-2-copy/
LOCATION:Tweed Valley Sailing Club\, Boat Park opposite the Sheaok Cafe\, Fingal Road\, Fingal Heads\, NSW\, 2487\, Australia
CATEGORIES:Race
END:VEVENT
BEGIN:VEVENT
DTSTART;TZID=Australia/Sydney:20221211T143000
DTEND;TZID=Australia/Sydney:20221211T170000
DTSTAMP:20260424T141820
CREATED:20221204T224215Z
LAST-MODIFIED:20221207T000101Z
UID:4987-1670769000-1670778000@www.tvsc.com.au
SUMMARY:Xmas Party - Wear your Santa Hat Sailing!
DESCRIPTION:Everyone is invited to the TVSC Xmas Party! \n\n\n\nAt clubhouse after racingWEAR A “SANTA” HAT WHILST SAILING AND GET A FREE SAUSAGESIZZLE! \n\n\n\nXmas Cake\, Sausage Sizzle and Watermelon provided.FAMILY WELCOME! \n\n\n\nFor catering purposes please RSVP to E: swell.lady16@gmail.com to ensurethere is plenty to go around
URL:https://www.tvsc.com.au/event/xmas-party/
LOCATION:Tweed Valley Sailing Club\, Boat Park opposite the Sheaok Cafe\, Fingal Road\, Fingal Heads\, NSW\, 2487\, Australia
END:VEVENT
END:VCALENDAR