BEGIN:VCALENDAR
VERSION:2.0
PRODID:-//Tweed Valley Sailing Club - ECPv6.15.17//NONSGML v1.0//EN
CALSCALE:GREGORIAN
METHOD:PUBLISH
X-WR-CALNAME:Tweed Valley Sailing Club
X-ORIGINAL-URL:https://www.tvsc.com.au
X-WR-CALDESC:Events for Tweed Valley Sailing Club
REFRESH-INTERVAL;VALUE=DURATION:PT1H
X-Robots-Tag:noindex
X-PUBLISHED-TTL:PT1H
BEGIN:VTIMEZONE
TZID:Australia/Sydney
BEGIN:STANDARD
TZOFFSETFROM:+1100
TZOFFSETTO:+1000
TZNAME:AEST
DTSTART:20220402T160000
END:STANDARD
BEGIN:DAYLIGHT
TZOFFSETFROM:+1000
TZOFFSETTO:+1100
TZNAME:AEDT
DTSTART:20221001T160000
END:DAYLIGHT
BEGIN:STANDARD
TZOFFSETFROM:+1100
TZOFFSETTO:+1000
TZNAME:AEST
DTSTART:20230401T160000
END:STANDARD
BEGIN:DAYLIGHT
TZOFFSETFROM:+1000
TZOFFSETTO:+1100
TZNAME:AEDT
DTSTART:20230930T160000
END:DAYLIGHT
BEGIN:STANDARD
TZOFFSETFROM:+1100
TZOFFSETTO:+1000
TZNAME:AEST
DTSTART:20240406T160000
END:STANDARD
BEGIN:DAYLIGHT
TZOFFSETFROM:+1000
TZOFFSETTO:+1100
TZNAME:AEDT
DTSTART:20241005T160000
END:DAYLIGHT
END:VTIMEZONE
BEGIN:VEVENT
DTSTART;TZID=Australia/Sydney:20230205T113000
DTEND;TZID=Australia/Sydney:20230205T150000
DTSTAMP:20260424T114844
CREATED:20220913T010416Z
LAST-MODIFIED:20230123T071914Z
UID:4821-1675596600-1675609200@www.tvsc.com.au
SUMMARY:Race Day - Handicap Series Day 4
DESCRIPTION:Race day for our Summer 2022/23 Season. (Big Tide Day!) \nBriefing at Midday\, racing from 1pm. \nBoat registration is here. \nJuniors are encouraged to race\, they’ll have their own shorter course. \nA sausage sizzle and results will be done after we’re all packed away on each day. \nRoster is here.  \nOn Sunday\, if you’d be interested in crewing (no experience necessary) then please fill in this form. A skipper may get in touch with you. Or come along on the day (the earlier the better) to see if you can find a ride. Details on what to bring are here.  Skippers\, your list of the available crew is here. \nFor members\, we have Pacers available for hire.  If you hire a boat\, you’ll need to both hire the the boat and register your entry as a skipper.
URL:https://www.tvsc.com.au/event/race-day-all-championship-series-copy-copy-copy-copy/
LOCATION:Tweed Valley Sailing Club\, Boat Park opposite the Sheaok Cafe\, Fingal Road\, Fingal Heads\, NSW\, 2487\, Australia
CATEGORIES:Race
END:VEVENT
BEGIN:VEVENT
DTSTART;TZID=Australia/Sydney:20230219T113000
DTEND;TZID=Australia/Sydney:20230219T150000
DTSTAMP:20260424T114844
CREATED:20220913T010523Z
LAST-MODIFIED:20230208T210616Z
UID:4823-1676806200-1676818800@www.tvsc.com.au
SUMMARY:Race Day - All Championship Series Day 5
DESCRIPTION:Race day for our Summer 2022/23 Season. \nBriefing at Midday\, racing from 1pm. \nBoat registration here. \nJuniors are encouraged to race\, they’ll have their own shorter course. \nA sausage sizzle and results will be done after we’re all packed away on each day. \nRoster is here.  \nOn Sunday\, if you’d be interested in crewing (no experience necessary) then please fill in this form. A skipper may get in touch with you. Or come along on the day (the earlier the better) to see if you can find a ride. Details on what to bring are here.  Skippers\, your list of the available crew is here. \nFor members\, we have Pacers available for hire.  If you hire a boat\, you’ll need to both hire the the boat and register your entry as a skipper.
URL:https://www.tvsc.com.au/event/race-day-all-championship-series-copy-2-copy-copy-copy/
LOCATION:Tweed Valley Sailing Club\, Boat Park opposite the Sheaok Cafe\, Fingal Road\, Fingal Heads\, NSW\, 2487\, Australia
CATEGORIES:Race
ATTACH;FMTTYPE=image/png:https://www.tvsc.com.au/wp-content/uploads/2023/02/UpwindWide.png
END:VEVENT
BEGIN:VEVENT
DTSTART;TZID=Australia/Sydney:20230224T170000
DTEND;TZID=Australia/Sydney:20230226T150000
DTSTAMP:20260424T114844
CREATED:20220725T054848Z
LAST-MODIFIED:20230208T210950Z
UID:4741-1677258000-1677423600@www.tvsc.com.au
SUMMARY:Big River Annual Regatta
DESCRIPTION:Big River’s Annual Regatta. \n\n\n\nA weekend of camping and sailing is always very popular. \n\n\n\nWe often head down Friday afternoon\, setup our camp and then have dinner at the Harwood Hotel.  Saturday lunch\, dinner\, Sunday breakfast and Sunday lunch are provided\, at a cost\, by the Big River Club. \n\n\n\nCamping is free. \n\n\n\nAmenities and drinking water are provided. \n\n\n\nGenerally\, there are 70 boats entered with a long race on Saturday and a series of short races on Sunday.  More details are available on the Big River Sailing Club’s website.
URL:https://www.tvsc.com.au/event/big-river-annual-regatta-3/
LOCATION:Big River Sailing Club\, 2 Careys Lane\, Harwood\, NSW\, 2465\, Australia
CATEGORIES:Away Event
ATTACH;FMTTYPE=image/jpeg:https://www.tvsc.com.au/wp-content/uploads/2019/03/LRG_DSC09203.jpg
ORGANIZER;CN="Big River Sailing Club":MAILTO:bigriversailingclub@gmail.com
END:VEVENT
END:VCALENDAR