BEGIN:VCALENDAR
VERSION:2.0
PRODID:-//Tweed Valley Sailing Club - ECPv6.15.17//NONSGML v1.0//EN
CALSCALE:GREGORIAN
METHOD:PUBLISH
X-WR-CALNAME:Tweed Valley Sailing Club
X-ORIGINAL-URL:https://www.tvsc.com.au
X-WR-CALDESC:Events for Tweed Valley Sailing Club
REFRESH-INTERVAL;VALUE=DURATION:PT1H
X-Robots-Tag:noindex
X-PUBLISHED-TTL:PT1H
BEGIN:VTIMEZONE
TZID:Australia/Brisbane
BEGIN:STANDARD
TZOFFSETFROM:+1000
TZOFFSETTO:+1000
TZNAME:AEST
DTSTART:20220101T000000
END:STANDARD
END:VTIMEZONE
BEGIN:VTIMEZONE
TZID:Australia/Sydney
BEGIN:STANDARD
TZOFFSETFROM:+1100
TZOFFSETTO:+1000
TZNAME:AEST
DTSTART:20220402T160000
END:STANDARD
BEGIN:DAYLIGHT
TZOFFSETFROM:+1000
TZOFFSETTO:+1100
TZNAME:AEDT
DTSTART:20221001T160000
END:DAYLIGHT
BEGIN:STANDARD
TZOFFSETFROM:+1100
TZOFFSETTO:+1000
TZNAME:AEST
DTSTART:20230401T160000
END:STANDARD
BEGIN:DAYLIGHT
TZOFFSETFROM:+1000
TZOFFSETTO:+1100
TZNAME:AEDT
DTSTART:20230930T160000
END:DAYLIGHT
BEGIN:STANDARD
TZOFFSETFROM:+1100
TZOFFSETTO:+1000
TZNAME:AEST
DTSTART:20240406T160000
END:STANDARD
BEGIN:DAYLIGHT
TZOFFSETFROM:+1000
TZOFFSETTO:+1100
TZNAME:AEDT
DTSTART:20241005T160000
END:DAYLIGHT
END:VTIMEZONE
BEGIN:VEVENT
DTSTART;TZID=Australia/Brisbane:20230407T000000
DTEND;TZID=Australia/Brisbane:20230409T235959
DTSTAMP:20260424T093051
CREATED:20230305T225644Z
LAST-MODIFIED:20230305T225644Z
UID:5228-1680825600-1681084799@www.tvsc.com.au
SUMMARY:Easter All Boats Regatta 
DESCRIPTION:Easter All Boats Regatta at LCSC
URL:https://www.tvsc.com.au/event/easter-all-boats-regatta/
LOCATION:Lake Cootharaba Sailing Club\, 24 Boreen Parade\, Boreen Point\, Qld\, 4565\, Australia
CATEGORIES:Away Event
END:VEVENT
BEGIN:VEVENT
DTSTART;TZID=Australia/Sydney:20230415T110000
DTEND;TZID=Australia/Sydney:20230415T133000
DTSTAMP:20260424T093051
CREATED:20230312T213218Z
LAST-MODIFIED:20230326T233023Z
UID:5251-1681556400-1681565400@www.tvsc.com.au
SUMMARY:SheSails Saturday 11:00 am to 1:30 pm
DESCRIPTION:Continue to develop your sailing skills at our monthly sailing sessions.  Safety boat and volunteers will be on hand.  Bring water\, wear blockout and appropriate clothing and smile! \n\n\n\nPlease click on the link below to register: \n\n\n\nhttps://www.revolutionise.com.au/tweedvalleysc/events/181036/
URL:https://www.tvsc.com.au/event/shesails-saturday-a-m-1100-am-to-130-pm/
LOCATION:NSW
END:VEVENT
BEGIN:VEVENT
DTSTART;TZID=Australia/Sydney:20230423T000000
DTEND;TZID=Australia/Sydney:20230423T235959
DTSTAMP:20260424T093051
CREATED:20220913T003905Z
LAST-MODIFIED:20221004T084736Z
UID:4802-1682208000-1682294399@www.tvsc.com.au
SUMMARY:CYC - Peel Island Marathon
DESCRIPTION:Cleveland Yacht Club’s Annual Peel Island Marathon.\n\nIt’s either becalmed or really really blowin.
URL:https://www.tvsc.com.au/event/cyc-peel-island-marathon-3/
LOCATION:NSW
CATEGORIES:Away Event
END:VEVENT
BEGIN:VEVENT
DTSTART;TZID=Australia/Sydney:20230423T100000
DTEND;TZID=Australia/Sydney:20230423T153000
DTSTAMP:20260424T093051
CREATED:20230305T225645Z
LAST-MODIFIED:20230305T225645Z
UID:5230-1682244000-1682263800@www.tvsc.com.au
SUMMARY:She Skippers Race
DESCRIPTION:She Skippers Race.Women helm only!
URL:https://www.tvsc.com.au/event/she-skippers-race/
LOCATION:NSW
CATEGORIES:Away Event
END:VEVENT
BEGIN:VEVENT
DTSTART;TZID=Australia/Brisbane:20230429T000000
DTEND;TZID=Australia/Brisbane:20230430T235959
DTSTAMP:20260424T093051
CREATED:20230305T225645Z
LAST-MODIFIED:20230305T225645Z
UID:5232-1682726400-1682899199@www.tvsc.com.au
SUMMARY:QLD Laser State Titles
DESCRIPTION:Queensland Laser State Titles at Humpybong Yacht Club. \nCamping available as usual at the club on the water for free\, club selling breakfast and lunch\, and pub & coffee across the road. What’s not to like?
URL:https://www.tvsc.com.au/event/qld-laser-state-titles/
LOCATION:Humpybong Yacht Club\, Qld\, Australia
CATEGORIES:Away Event
END:VEVENT
BEGIN:VEVENT
DTSTART;TZID=Australia/Brisbane:20230429T000000
DTEND;TZID=Australia/Brisbane:20230430T235959
DTSTAMP:20260424T093051
CREATED:20230305T225645Z
LAST-MODIFIED:20230305T225645Z
UID:5229-1682726400-1682899199@www.tvsc.com.au
SUMMARY:Jack Holt Regatta
DESCRIPTION:Jack Holt Regatta
URL:https://www.tvsc.com.au/event/jack-holt-regatta/
LOCATION:Lake Cootharaba Sailing Club\, 24 Boreen Parade\, Boreen Point\, Qld\, 4565\, Australia
CATEGORIES:Away Event
END:VEVENT
BEGIN:VEVENT
DTSTART;TZID=Australia/Sydney:20230430T130000
DTEND;TZID=Australia/Sydney:20230430T153000
DTSTAMP:20260424T093051
CREATED:20230305T225627Z
LAST-MODIFIED:20230305T225627Z
UID:5218-1682859600-1682868600@www.tvsc.com.au
SUMMARY:Winter Racing
DESCRIPTION:Race day for our Winter 2023 Season. \nBriefing at Midday\, racing from 1pm. \nBoat registration will be here\, a few days from before the event. \nJuniors are encouraged to race\, they’ll have their own shorter course. \nA sausage sizzle and results will be done after we’re all packed away on each day. \nRoster is here.  \nOn Sunday\, if you’d be interested in crewing (no experience necessary) then please fill in this form. A skipper may get in touch with you. Or come along on the day (the earlier the better) to see if you can find a ride. Details on what to bring are here.  Skippers\, your list of the available crew is here. \nFor members\, we have Pacers/Lasers/Corsairs available for hire.  If you hire a boat\, you’ll need to both hire the the boat and register your entry as a skipper.
URL:https://www.tvsc.com.au/event/winter-racing-10/
LOCATION:Tweed Valley Sailing Club\, Boat Park opposite the Sheaok Cafe\, Fingal Road\, Fingal Heads\, NSW\, 2487\, Australia
CATEGORIES:Race
END:VEVENT
END:VCALENDAR