BEGIN:VCALENDAR
VERSION:2.0
PRODID:-//Tweed Valley Sailing Club - ECPv6.15.17//NONSGML v1.0//EN
CALSCALE:GREGORIAN
METHOD:PUBLISH
X-ORIGINAL-URL:https://www.tvsc.com.au
X-WR-CALDESC:Events for Tweed Valley Sailing Club
REFRESH-INTERVAL;VALUE=DURATION:PT1H
X-Robots-Tag:noindex
X-PUBLISHED-TTL:PT1H
BEGIN:VTIMEZONE
TZID:Australia/Brisbane
BEGIN:STANDARD
TZOFFSETFROM:+1000
TZOFFSETTO:+1000
TZNAME:AEST
DTSTART:20220101T000000
END:STANDARD
END:VTIMEZONE
BEGIN:VTIMEZONE
TZID:Australia/Sydney
BEGIN:STANDARD
TZOFFSETFROM:+1100
TZOFFSETTO:+1000
TZNAME:AEST
DTSTART:20220402T160000
END:STANDARD
BEGIN:DAYLIGHT
TZOFFSETFROM:+1000
TZOFFSETTO:+1100
TZNAME:AEDT
DTSTART:20221001T160000
END:DAYLIGHT
BEGIN:STANDARD
TZOFFSETFROM:+1100
TZOFFSETTO:+1000
TZNAME:AEST
DTSTART:20230401T160000
END:STANDARD
BEGIN:DAYLIGHT
TZOFFSETFROM:+1000
TZOFFSETTO:+1100
TZNAME:AEDT
DTSTART:20230930T160000
END:DAYLIGHT
BEGIN:STANDARD
TZOFFSETFROM:+1100
TZOFFSETTO:+1000
TZNAME:AEST
DTSTART:20240406T160000
END:STANDARD
BEGIN:DAYLIGHT
TZOFFSETFROM:+1000
TZOFFSETTO:+1100
TZNAME:AEDT
DTSTART:20241005T160000
END:DAYLIGHT
END:VTIMEZONE
BEGIN:VEVENT
DTSTART;TZID=Australia/Brisbane:20231203T000000
DTEND;TZID=Australia/Brisbane:20231204T235959
DTSTAMP:20260423T083644
CREATED:20230906T002657Z
LAST-MODIFIED:20231025T052628Z
UID:5480-1701561600-1701734399@www.tvsc.com.au
SUMMARY:LCSC Annual Monomasters
DESCRIPTION:Monomasters (and Wetas!)
URL:https://www.tvsc.com.au/event/monomasters-2/
LOCATION:Lake Cootharaba Sailing Club\, 24 Boreen Parade\, Boreen Point\, Qld\, 4565\, Australia
CATEGORIES:Away Event
END:VEVENT
BEGIN:VEVENT
DTSTART;TZID=Australia/Sydney:20231203T083000
DTEND;TZID=Australia/Sydney:20231203T110000
DTSTAMP:20260423T083644
CREATED:20231128T045245Z
LAST-MODIFIED:20231128T045344Z
UID:5653-1701592200-1701601200@www.tvsc.com.au
SUMMARY:Juniors Fun Sailing
DESCRIPTION:Join us for Juniors Fun Sailing every Sunday morning. \n\n\n\nMore details on our Juniors program are here. \n\n\n\nFor payment\, either: \n\n\n\n\nHave a current Juniors Package membership (no further fee)\n\n\n\nPay the once-off fee of $5 plus be a current member or hold a Sail Pass for the day.\n\n\n\nFree if this is one of your first three sessions
URL:https://www.tvsc.com.au/event/junior-fun-sailing-copy-copy-copy-2-copy-copy/
LOCATION:Tweed Valley Sailing Club\, Boat Park opposite the Sheaok Cafe\, Fingal Road\, Fingal Heads\, NSW\, 2487\, Australia
CATEGORIES:Juniors Sailing
END:VEVENT
BEGIN:VEVENT
DTSTART;TZID=Australia/Sydney:20231203T130000
DTEND;TZID=Australia/Sydney:20231203T153000
DTSTAMP:20260423T083644
CREATED:20230906T002640Z
LAST-MODIFIED:20231130T000620Z
UID:5469-1701608400-1701617400@www.tvsc.com.au
SUMMARY:Race 4 - Multi Handers Champs + PS
DESCRIPTION:Race day for our Summer 2023/24 Season. \nBriefing at Midday\, racing from 1pm. \nA Championship or Handicap day\, depending on Class.You can chose to race multiple Championship Classes throughout the season\, by racing both a Single Hander and Multicrewed boat\, depending on the Race Day. \nJuniors: Only the morning session this week.   (Please register at the separate event.) \nBoat registration will be here\, a few days from before the event. \nOthers are encouraged to race\, they’ll have their own shorter course. \nA sausage sizzle and results will be done after we’re all packed away on each day. \nRoster is here.  \nOn Sunday\, if you’d be interested in crewing (no experience necessary) then please fill in this form. A skipper may get in touch with you. Or come along on the day (the earlier the better) to see if you can find a ride. Details on what to bring are here.  Skippers\, your list of the available crew is here. \nFor members\, we have Pacers/Lasers/Corsairs available for hire.  If you hire a boat\, you’ll need to both hire the the boat and register your entry as a skipper.
URL:https://www.tvsc.com.au/event/multi-handers-champs-7/
LOCATION:Tweed Valley Sailing Club\, Boat Park opposite the Sheaok Cafe\, Fingal Road\, Fingal Heads\, NSW\, 2487\, Australia
CATEGORIES:Race
END:VEVENT
BEGIN:VEVENT
DTSTART;TZID=Australia/Sydney:20231217T130000
DTEND;TZID=Australia/Sydney:20231217T153000
DTSTAMP:20260423T083644
CREATED:20230906T002640Z
LAST-MODIFIED:20231212T223841Z
UID:5470-1702818000-1702827000@www.tvsc.com.au
SUMMARY:Race 5 - Point Score and Single Handers Champs
DESCRIPTION:Race day for our Summer 2023/24 Season and Final Race before the New Year. \nBriefing at Midday\, racing from 1pm. \nA Championship or Handicap day\, depending on Class.You can chose to race multiple Championship Classes throughout the season\, by racing both a Single Hander and Multicrewed boat\, depending on the Race Day. \nBoat registration will be here\, a few days from before the event. \nJuniors are encouraged to race\, they’ll have their own shorter course. \nA sausage sizzle and results will be done after we’re all packed away on each day. \nRoster is here.  \nOn Sunday\, if you’d be interested in crewing (no experience necessary) then please fill in this form. A skipper may get in touch with you. Or come along on the day (the earlier the better) to see if you can find a ride. Details on what to bring are here.  Skippers\, your list of the available crew is here. \nFor members\, we have Pacers/Lasers/Corsairs available for hire.  If you hire a boat\, you’ll need to both hire the the boat and register your entry as a skipper.
URL:https://www.tvsc.com.au/event/single-handers-champs-6/
LOCATION:Tweed Valley Sailing Club\, Boat Park opposite the Sheaok Cafe\, Fingal Road\, Fingal Heads\, NSW\, 2487\, Australia
CATEGORIES:Race
END:VEVENT
END:VCALENDAR