BEGIN:VCALENDAR
VERSION:2.0
PRODID:-//Tweed Valley Sailing Club - ECPv6.15.17//NONSGML v1.0//EN
CALSCALE:GREGORIAN
METHOD:PUBLISH
X-WR-CALNAME:Tweed Valley Sailing Club
X-ORIGINAL-URL:https://www.tvsc.com.au
X-WR-CALDESC:Events for Tweed Valley Sailing Club
REFRESH-INTERVAL;VALUE=DURATION:PT1H
X-Robots-Tag:noindex
X-PUBLISHED-TTL:PT1H
BEGIN:VTIMEZONE
TZID:Australia/Sydney
BEGIN:STANDARD
TZOFFSETFROM:+1100
TZOFFSETTO:+1000
TZNAME:AEST
DTSTART:20230401T160000
END:STANDARD
BEGIN:DAYLIGHT
TZOFFSETFROM:+1000
TZOFFSETTO:+1100
TZNAME:AEDT
DTSTART:20230930T160000
END:DAYLIGHT
BEGIN:STANDARD
TZOFFSETFROM:+1100
TZOFFSETTO:+1000
TZNAME:AEST
DTSTART:20240406T160000
END:STANDARD
BEGIN:DAYLIGHT
TZOFFSETFROM:+1000
TZOFFSETTO:+1100
TZNAME:AEDT
DTSTART:20241005T160000
END:DAYLIGHT
BEGIN:STANDARD
TZOFFSETFROM:+1100
TZOFFSETTO:+1000
TZNAME:AEST
DTSTART:20250405T160000
END:STANDARD
BEGIN:DAYLIGHT
TZOFFSETFROM:+1000
TZOFFSETTO:+1100
TZNAME:AEDT
DTSTART:20251004T160000
END:DAYLIGHT
END:VTIMEZONE
BEGIN:VEVENT
DTSTART;TZID=Australia/Sydney:20240204T130000
DTEND;TZID=Australia/Sydney:20240204T153000
DTSTAMP:20260423T053853
CREATED:20230906T002642Z
LAST-MODIFIED:20231030T010839Z
UID:5473-1707051600-1707060600@www.tvsc.com.au
SUMMARY:Race 8 - MJ & Multi Handers Champs + PS
DESCRIPTION:Race day for our Summer 2023/24 Season. \nBriefing at Midday\, racing from 1pm. \nA Championship or Handicap day\, depending on Class.You can chose to race multiple Championship Classes throughout the season\, by racing both a Single Hander and Multicrewed boat\, depending on the Race Day. \nHeat 3 – MJ Junior Club Championship \nBoat registration will be here\, a few days from before the event. \nJuniors are encouraged to race\, they’ll have their own shorter course. \nA sausage sizzle and results will be done after we’re all packed away on each day. \nRoster is here.  \nOn Sunday\, if you’d be interested in crewing (no experience necessary) then please fill in this form. A skipper may get in touch with you. Or come along on the day (the earlier the better) to see if you can find a ride. Details on what to bring are here.  Skippers\, your list of the available crew is here. \nFor members\, we have Pacers/Lasers/Corsairs available for hire.  If you hire a boat\, you’ll need to both hire the the boat and register your entry as a skipper.
URL:https://www.tvsc.com.au/event/multi-handers-champs-9/
LOCATION:Tweed Valley Sailing Club\, Boat Park opposite the Sheaok Cafe\, Fingal Road\, Fingal Heads\, NSW\, 2487\, Australia
CATEGORIES:Race
END:VEVENT
BEGIN:VEVENT
DTSTART;TZID=Australia/Sydney:20240217T100000
DTEND;TZID=Australia/Sydney:20240218T153000
DTSTAMP:20260423T053853
CREATED:20230906T002712Z
LAST-MODIFIED:20231029T223106Z
UID:5482-1708164000-1708270200@www.tvsc.com.au
SUMMARY:Big River Annual Regatta (Away Event)
DESCRIPTION:Annual Regatta
URL:https://www.tvsc.com.au/event/annual-regatta-2/
LOCATION:Big River Sailing Club\, 2 Careys Lane\, Harwood\, NSW\, 2465\, Australia
CATEGORIES:Away Event
ORGANIZER;CN="Big River Sailing Club":MAILTO:bigriversailingclub@gmail.com
END:VEVENT
END:VCALENDAR