BEGIN:VCALENDAR
VERSION:2.0
PRODID:-//Tweed Valley Sailing Club - ECPv6.15.17//NONSGML v1.0//EN
CALSCALE:GREGORIAN
METHOD:PUBLISH
X-ORIGINAL-URL:https://www.tvsc.com.au
X-WR-CALDESC:Events for Tweed Valley Sailing Club
REFRESH-INTERVAL;VALUE=DURATION:PT1H
X-Robots-Tag:noindex
X-PUBLISHED-TTL:PT1H
BEGIN:VTIMEZONE
TZID:Australia/Sydney
BEGIN:STANDARD
TZOFFSETFROM:+1100
TZOFFSETTO:+1000
TZNAME:AEST
DTSTART:20230401T160000
END:STANDARD
BEGIN:DAYLIGHT
TZOFFSETFROM:+1000
TZOFFSETTO:+1100
TZNAME:AEDT
DTSTART:20230930T160000
END:DAYLIGHT
BEGIN:STANDARD
TZOFFSETFROM:+1100
TZOFFSETTO:+1000
TZNAME:AEST
DTSTART:20240406T160000
END:STANDARD
BEGIN:DAYLIGHT
TZOFFSETFROM:+1000
TZOFFSETTO:+1100
TZNAME:AEDT
DTSTART:20241005T160000
END:DAYLIGHT
BEGIN:STANDARD
TZOFFSETFROM:+1100
TZOFFSETTO:+1000
TZNAME:AEST
DTSTART:20250405T160000
END:STANDARD
BEGIN:DAYLIGHT
TZOFFSETFROM:+1000
TZOFFSETTO:+1100
TZNAME:AEDT
DTSTART:20251004T160000
END:DAYLIGHT
END:VTIMEZONE
BEGIN:VEVENT
DTSTART;TZID=Australia/Sydney:20240303T130000
DTEND;TZID=Australia/Sydney:20240303T153000
DTSTAMP:20260423T040900
CREATED:20230906T000934Z
LAST-MODIFIED:20240226T051557Z
UID:5455-1709470800-1709479800@www.tvsc.com.au
SUMMARY:Race 9 - MJ & Single Handers Champs + PS
DESCRIPTION:Race day for our Summer 2023/24 Season. \nBriefing at Midday\, racing from 1pm. \nA Championship or Handicap day\, depending on Class.You can chose to race multiple Championship Classes throughout the season\, by racing both a Single Hander and Multicrewed boat\, depending on the Race Day. \nHeat 4 – MJ Junior Club Championship. \nBoat registration will be here on this page\, a few days from before the event. \nJuniors are encouraged to race\, they’ll have their own shorter course. \nA sausage sizzle and results will be done after we’re all packed away on each day. \nRoster is here.  \nOn Sunday\, if you’d be interested in crewing (no experience necessary) then please fill in this form. A skipper may get in touch with you. Or come along on the day (the earlier the better) to see if you can find a ride. Details on what to bring are here.  Skippers\, your list of the available crew is here. \nFor members\, we have Pacers/Lasers/Corsairs available for hire.  If you hire a boat\, you’ll need to both hire the the boat and register your entry as a skipper.
URL:https://www.tvsc.com.au/event/single-handers-champs-3/
LOCATION:Tweed Valley Sailing Club\, Boat Park opposite the Sheaok Cafe\, Fingal Road\, Fingal Heads\, NSW\, 2487\, Australia
CATEGORIES:Race
END:VEVENT
BEGIN:VEVENT
DTSTART;TZID=Australia/Sydney:20240309T090000
DTEND;TZID=Australia/Sydney:20240309T110000
DTSTAMP:20260423T040900
CREATED:20240303T081709Z
LAST-MODIFIED:20240304T074633Z
UID:5707-1709974800-1709982000@www.tvsc.com.au
SUMMARY:Committee Meeting
DESCRIPTION:All welcome.  Fingal Head Surf Club\, Fingal Head \n\n\n\nAGENDA \n\n\n\n \n\n\n\n\nReview minutes from previous committee meeting\n\n\n\nReports & Standing Itemsa. Commodore – Bryanb. Treasurer – Debc. Membership – Markd. Merchandise – Debe. Website & Social Mediaf. Juniors –\n\n\n\nBusiness Arising from previous minutesAll New Business from previous meeting has been attended to4.CorrespondenceEmail from Leah Wright\, South Tweed Heads Activities re Bunnings SausageSizzle – 28 th April 2024.Email from Mooloolaba Bay Yacht Club re Invitation to participate in theWomen’s Keelboat Regatta 31/05/245.New BusinessJobs to do and attended to.NSW Active Kids program and vouchersNSW Working with Children recommendations to be discussed andconsideredFuture plans for junior members and risk management?Consider Match Racing Championship Day for winter Roster to involve allmembers.Discuss Bunnings Sausage SizzleCalendar for Winter sailing and Tumbulgum RaceSummer Season Breakup Party
URL:https://www.tvsc.com.au/event/committee-meeting-5/
LOCATION:NSW
END:VEVENT
BEGIN:VEVENT
DTSTART;TZID=Australia/Sydney:20240316T080000
DTEND;TZID=Australia/Sydney:20240317T120000
DTSTAMP:20260423T040900
CREATED:20240116T224715Z
LAST-MODIFIED:20240116T224749Z
UID:5680-1710576000-1710676800@www.tvsc.com.au
SUMMARY:She Skippers Regatta (Away Event)
DESCRIPTION:The Richmond River Rowing and Sailing Club runs a She Skippers Regatta in March. \n\n\n\nA female must helm boats.One male sailor (crew only) is permitted on multi-crewed boats.The event will take place all day on Saturday and Sunday morning.Classes consist of: \n\n\n\n\nMono dinghies with an ASY between 102 and 131\n\n\n\nMono skiffs and dinghies with an ASY less than 102\n\n\n\nTrailerable Yachts less than 7.33 meters in length\n\n\n\nOff-the-beach multihulls with an ASY between 67 and 100.\n\n\n\n\nFirst briefing at 9am Saturday. First race not before 10am Saturday.Entry fee: Single handers $35. Double handers $40.Please register your interest at your earliest convenience to enable them to plan the event. \n\n\n\nTO REGISTER – GO TO:www.rrsrc.com.auScroll down to ‘upcoming events’ section on home page and click on ‘She Skippers Regatta’to access the NOR and entry form.
URL:https://www.tvsc.com.au/event/she-skippers-regatta-away-event/
LOCATION:Richmond River Sailing & Rowing Club\, 2 River Street\, Ballina\, NSW\, 2478\, Australia
CATEGORIES:Away Event
ORGANIZER;CN="Richmond River Sailing & Rowing Club":MAILTO:contact.rrsrc@gmail.com
END:VEVENT
BEGIN:VEVENT
DTSTART;TZID=Australia/Sydney:20240317T130000
DTEND;TZID=Australia/Sydney:20240317T153000
DTSTAMP:20260423T040901
CREATED:20230906T002642Z
LAST-MODIFIED:20240311T223151Z
UID:5475-1710680400-1710689400@www.tvsc.com.au
SUMMARY:Race 10 - MJ & Multi Handers Champs + PS
DESCRIPTION:Race day for our Summer 2023/24 Season. \nBriefing at Midday\, racing from 1pm. \nA Championship or Handicap day\, depending on Class.You can chose to race multiple Championship Classes throughout the season\, by racing both a Single Hander and Multicrewed boat\, depending on the Race Day. \nHeat 5 – MJ Junior Club Championship. \nBoat registration will be here\, a few days from before the event. \nJuniors are encouraged to race\, they’ll have their own shorter course. \nA sausage sizzle and results will be done after we’re all packed away on each day. \nRoster is here.  \nOn Sunday\, if you’d be interested in crewing (no experience necessary) then please fill in this form. A skipper may get in touch with you. Or come along on the day (the earlier the better) to see if you can find a ride. Details on what to bring are here.  Skippers\, your list of the available crew is here. \nFor members\, we have Pacers/Lasers/Corsairs available for hire.  If you hire a boat\, you’ll need to both hire the the boat and register your entry as a skipper.
URL:https://www.tvsc.com.au/event/multi-handers-champs-10/
LOCATION:Tweed Valley Sailing Club\, Boat Park opposite the Sheaok Cafe\, Fingal Road\, Fingal Heads\, NSW\, 2487\, Australia
CATEGORIES:Race
END:VEVENT
BEGIN:VEVENT
DTSTART;TZID=Australia/Sydney:20240331T130000
DTEND;TZID=Australia/Sydney:20240331T153000
DTSTAMP:20260423T040901
CREATED:20230906T002657Z
LAST-MODIFIED:20240326T214433Z
UID:5476-1711890000-1711899000@www.tvsc.com.au
SUMMARY:All Boats Handicap Start - Date Cancelled
DESCRIPTION:Race day for our Summer 2023/24 Season. \nBriefing at Midday\, racing from 1pm. \nA Championship or Handicap day\, depending on Class.You can chose to race multiple Championship Classes throughout the season\, by racing both a Single Hander and Multicrewed boat\, depending on the Race Day. \nBoat registration will be here\, a few days from before the event. \nJuniors are encouraged to race\, they’ll have their own shorter course. \nA sausage sizzle and results will be done after we’re all packed away on each day. \nRoster is here.  \nOn Sunday\, if you’d be interested in crewing (no experience necessary) then please fill in this form. A skipper may get in touch with you. Or come along on the day (the earlier the better) to see if you can find a ride. Details on what to bring are here.  Skippers\, your list of the available crew is here. \nFor members\, we have Pacers/Lasers/Corsairs available for hire.  If you hire a boat\, you’ll need to both hire the the boat and register your entry as a skipper.
URL:https://www.tvsc.com.au/event/all-boats-handicap-start-2/
LOCATION:Tweed Valley Sailing Club\, Boat Park opposite the Sheaok Cafe\, Fingal Road\, Fingal Heads\, NSW\, 2487\, Australia
CATEGORIES:Race
END:VEVENT
END:VCALENDAR