BEGIN:VCALENDAR
VERSION:2.0
PRODID:-//Tweed Valley Sailing Club - ECPv6.15.17//NONSGML v1.0//EN
CALSCALE:GREGORIAN
METHOD:PUBLISH
X-ORIGINAL-URL:https://www.tvsc.com.au
X-WR-CALDESC:Events for Tweed Valley Sailing Club
REFRESH-INTERVAL;VALUE=DURATION:PT1H
X-Robots-Tag:noindex
X-PUBLISHED-TTL:PT1H
BEGIN:VTIMEZONE
TZID:Australia/Sydney
BEGIN:STANDARD
TZOFFSETFROM:+1100
TZOFFSETTO:+1000
TZNAME:AEST
DTSTART:20230401T160000
END:STANDARD
BEGIN:DAYLIGHT
TZOFFSETFROM:+1000
TZOFFSETTO:+1100
TZNAME:AEDT
DTSTART:20230930T160000
END:DAYLIGHT
BEGIN:STANDARD
TZOFFSETFROM:+1100
TZOFFSETTO:+1000
TZNAME:AEST
DTSTART:20240406T160000
END:STANDARD
BEGIN:DAYLIGHT
TZOFFSETFROM:+1000
TZOFFSETTO:+1100
TZNAME:AEDT
DTSTART:20241005T160000
END:DAYLIGHT
BEGIN:STANDARD
TZOFFSETFROM:+1100
TZOFFSETTO:+1000
TZNAME:AEST
DTSTART:20250405T160000
END:STANDARD
BEGIN:DAYLIGHT
TZOFFSETFROM:+1000
TZOFFSETTO:+1100
TZNAME:AEDT
DTSTART:20251004T160000
END:DAYLIGHT
END:VTIMEZONE
BEGIN:VEVENT
DTSTART;TZID=Australia/Sydney:20240414T130000
DTEND;TZID=Australia/Sydney:20240414T153000
DTSTAMP:20260423T023604
CREATED:20230906T002657Z
LAST-MODIFIED:20240410T225648Z
UID:5477-1713099600-1713108600@www.tvsc.com.au
SUMMARY:Final Day Picnic and Fun Sail
DESCRIPTION:Final Race Day – Play Day/Picnic.
URL:https://www.tvsc.com.au/event/final-day-picnic-2/
LOCATION:Tweed Valley Sailing Club\, Boat Park opposite the Sheaok Cafe\, Fingal Road\, Fingal Heads\, NSW\, 2487\, Australia
CATEGORIES:Race
END:VEVENT
BEGIN:VEVENT
DTSTART;TZID=Australia/Sydney:20240427T083000
DTEND;TZID=Australia/Sydney:20240427T110000
DTSTAMP:20260423T023604
CREATED:20240313T084241Z
LAST-MODIFIED:20240404T034810Z
UID:5717-1714206600-1714215600@www.tvsc.com.au
SUMMARY:Juniors - TBC
DESCRIPTION:Juniors – Please register beforehand by email.
URL:https://www.tvsc.com.au/event/juniors-tbc-10/
LOCATION:Tweed Valley Sailing Club\, Boat Park opposite the Sheaok Cafe\, Fingal Road\, Fingal Heads\, NSW\, 2487\, Australia
CATEGORIES:Juniors Sailing
END:VEVENT
BEGIN:VEVENT
DTSTART;TZID=Australia/Sydney:20240427T130000
DTEND;TZID=Australia/Sydney:20240427T153000
DTSTAMP:20260423T023604
CREATED:20240313T084240Z
LAST-MODIFIED:20240404T034544Z
UID:5716-1714222800-1714231800@www.tvsc.com.au
SUMMARY:Race 1 & 2 - Single Handed Champs - Winter Series
DESCRIPTION:Race Briefing at 12pm NSW Time.\nRace start 1pm NSW Time.
URL:https://www.tvsc.com.au/event/race-1-2-single-handed-champs-winter-series/
LOCATION:Tweed Valley Sailing Club\, Boat Park opposite the Sheaok Cafe\, Fingal Road\, Fingal Heads\, NSW\, 2487\, Australia
CATEGORIES:Race
END:VEVENT
BEGIN:VEVENT
DTSTART;TZID=Australia/Sydney:20240428T073000
DTEND;TZID=Australia/Sydney:20240428T170000
DTSTAMP:20260423T023604
CREATED:20240319T025109Z
LAST-MODIFIED:20240319T025116Z
UID:5740-1714289400-1714323600@www.tvsc.com.au
SUMMARY:Bunnings BBQ
DESCRIPTION:We’re running the Bunnings BBQ at the Tweed Heads Bunnings.  The more volunteers\, the better.   \n\n\n\nPlease put your name down on the Roster\, where you can help out. \n\n\n\nRoster
URL:https://www.tvsc.com.au/event/bunnings-bbq-5/
LOCATION:NSW
END:VEVENT
END:VCALENDAR