BEGIN:VCALENDAR
VERSION:2.0
PRODID:-//Tweed Valley Sailing Club - ECPv6.15.17//NONSGML v1.0//EN
CALSCALE:GREGORIAN
METHOD:PUBLISH
X-WR-CALNAME:Tweed Valley Sailing Club
X-ORIGINAL-URL:https://www.tvsc.com.au
X-WR-CALDESC:Events for Tweed Valley Sailing Club
REFRESH-INTERVAL;VALUE=DURATION:PT1H
X-Robots-Tag:noindex
X-PUBLISHED-TTL:PT1H
BEGIN:VTIMEZONE
TZID:Australia/Sydney
BEGIN:STANDARD
TZOFFSETFROM:+1100
TZOFFSETTO:+1000
TZNAME:AEST
DTSTART:20240406T160000
END:STANDARD
BEGIN:DAYLIGHT
TZOFFSETFROM:+1000
TZOFFSETTO:+1100
TZNAME:AEDT
DTSTART:20241005T160000
END:DAYLIGHT
BEGIN:STANDARD
TZOFFSETFROM:+1100
TZOFFSETTO:+1000
TZNAME:AEST
DTSTART:20250405T160000
END:STANDARD
BEGIN:DAYLIGHT
TZOFFSETFROM:+1000
TZOFFSETTO:+1100
TZNAME:AEDT
DTSTART:20251004T160000
END:DAYLIGHT
BEGIN:STANDARD
TZOFFSETFROM:+1100
TZOFFSETTO:+1000
TZNAME:AEST
DTSTART:20260404T160000
END:STANDARD
BEGIN:DAYLIGHT
TZOFFSETFROM:+1000
TZOFFSETTO:+1100
TZNAME:AEDT
DTSTART:20261003T160000
END:DAYLIGHT
END:VTIMEZONE
BEGIN:VEVENT
DTSTART;TZID=Australia/Sydney:20250504T083000
DTEND;TZID=Australia/Sydney:20250504T110000
DTSTAMP:20260422T081147
CREATED:20250319T084459Z
LAST-MODIFIED:20250403T233403Z
UID:6181-1746347400-1746356400@www.tvsc.com.au
SUMMARY:Juniors
DESCRIPTION:Juniors – Please register beforehand
URL:https://www.tvsc.com.au/event/juniors-16/
LOCATION:Tweed Valley Sailing Club\, Boat Park opposite the Sheaok Cafe\, Fingal Road\, Fingal Heads\, NSW\, 2487\, Australia
CATEGORIES:Juniors Sailing
END:VEVENT
BEGIN:VEVENT
DTSTART;TZID=Australia/Sydney:20250504T130000
DTEND;TZID=Australia/Sydney:20250504T153000
DTSTAMP:20260422T081147
CREATED:20250319T084459Z
LAST-MODIFIED:20250319T084459Z
UID:6180-1746363600-1746372600@www.tvsc.com.au
SUMMARY:Race 1 & 2 Winter Series
DESCRIPTION:Race Briefing at 12pm NSW Time.\nRace start not before 1pm NSW Time.
URL:https://www.tvsc.com.au/event/race-1-2-winter-series/
LOCATION:Tweed Valley Sailing Club\, Boat Park opposite the Sheaok Cafe\, Fingal Road\, Fingal Heads\, NSW\, 2487\, Australia
CATEGORIES:Race
END:VEVENT
BEGIN:VEVENT
DTSTART;TZID=Australia/Sydney:20250511T083000
DTEND;TZID=Australia/Sydney:20250511T110000
DTSTAMP:20260422T081147
CREATED:20250319T084500Z
LAST-MODIFIED:20250319T084500Z
UID:6182-1746952200-1746961200@www.tvsc.com.au
SUMMARY:Juniors
DESCRIPTION:Juniors – Please register beforehand
URL:https://www.tvsc.com.au/event/juniors-17/
LOCATION:Tweed Valley Sailing Club\, Boat Park opposite the Sheaok Cafe\, Fingal Road\, Fingal Heads\, NSW\, 2487\, Australia
CATEGORIES:Juniors Sailing
END:VEVENT
BEGIN:VEVENT
DTSTART;TZID=Australia/Sydney:20250518T083000
DTEND;TZID=Australia/Sydney:20250518T110000
DTSTAMP:20260422T081147
CREATED:20250319T084503Z
LAST-MODIFIED:20250517T075128Z
UID:6185-1747557000-1747566000@www.tvsc.com.au
SUMMARY:Juniors
DESCRIPTION:Juniors – Please register beforehand by email.
URL:https://www.tvsc.com.au/event/juniors-19/
LOCATION:Tweed Valley Sailing Club\, Boat Park opposite the Sheaok Cafe\, Fingal Road\, Fingal Heads\, NSW\, 2487\, Australia
CATEGORIES:Juniors Sailing
END:VEVENT
BEGIN:VEVENT
DTSTART;TZID=Australia/Sydney:20250518T130000
DTEND;TZID=Australia/Sydney:20250518T153000
DTSTAMP:20260422T081147
CREATED:20250319T084501Z
LAST-MODIFIED:20250319T084501Z
UID:6183-1747573200-1747582200@www.tvsc.com.au
SUMMARY:Race 3 & 4 Winter Series
DESCRIPTION:Race Briefing at 12pm NSW Time.\nRace start not before 1pm NSW Time.
URL:https://www.tvsc.com.au/event/race-3-4-winter-series/
LOCATION:Tweed Valley Sailing Club\, Boat Park opposite the Sheaok Cafe\, Fingal Road\, Fingal Heads\, NSW\, 2487\, Australia
CATEGORIES:Race
END:VEVENT
BEGIN:VEVENT
DTSTART;TZID=Australia/Sydney:20250525T083000
DTEND;TZID=Australia/Sydney:20250525T110000
DTSTAMP:20260422T081147
CREATED:20250319T084501Z
LAST-MODIFIED:20250319T084501Z
UID:6184-1748161800-1748170800@www.tvsc.com.au
SUMMARY:Juniors
DESCRIPTION:Juniors – Please register beforehand by email.
URL:https://www.tvsc.com.au/event/juniors-18/
LOCATION:Tweed Valley Sailing Club\, Boat Park opposite the Sheaok Cafe\, Fingal Road\, Fingal Heads\, NSW\, 2487\, Australia
CATEGORIES:Juniors Sailing
END:VEVENT
END:VCALENDAR