BEGIN:VCALENDAR
VERSION:2.0
PRODID:-//Tweed Valley Sailing Club - ECPv6.15.17//NONSGML v1.0//EN
CALSCALE:GREGORIAN
METHOD:PUBLISH
X-WR-CALNAME:Tweed Valley Sailing Club
X-ORIGINAL-URL:https://www.tvsc.com.au
X-WR-CALDESC:Events for Tweed Valley Sailing Club
REFRESH-INTERVAL;VALUE=DURATION:PT1H
X-Robots-Tag:noindex
X-PUBLISHED-TTL:PT1H
BEGIN:VTIMEZONE
TZID:Australia/Sydney
BEGIN:STANDARD
TZOFFSETFROM:+1100
TZOFFSETTO:+1000
TZNAME:AEST
DTSTART:20240406T160000
END:STANDARD
BEGIN:DAYLIGHT
TZOFFSETFROM:+1000
TZOFFSETTO:+1100
TZNAME:AEDT
DTSTART:20241005T160000
END:DAYLIGHT
BEGIN:STANDARD
TZOFFSETFROM:+1100
TZOFFSETTO:+1000
TZNAME:AEST
DTSTART:20250405T160000
END:STANDARD
BEGIN:DAYLIGHT
TZOFFSETFROM:+1000
TZOFFSETTO:+1100
TZNAME:AEDT
DTSTART:20251004T160000
END:DAYLIGHT
BEGIN:STANDARD
TZOFFSETFROM:+1100
TZOFFSETTO:+1000
TZNAME:AEST
DTSTART:20260404T160000
END:STANDARD
BEGIN:DAYLIGHT
TZOFFSETFROM:+1000
TZOFFSETTO:+1100
TZNAME:AEDT
DTSTART:20261003T160000
END:DAYLIGHT
END:VTIMEZONE
BEGIN:VEVENT
DTSTART;TZID=Australia/Sydney:20250803T083000
DTEND;TZID=Australia/Sydney:20250803T110000
DTSTAMP:20260422T041207
CREATED:20250319T084549Z
LAST-MODIFIED:20250802T061253Z
UID:6200-1754209800-1754218800@www.tvsc.com.au
SUMMARY:CANCELLED (Strong wind warning): Juniors
DESCRIPTION:Juniors – Please register beforehand by email.
URL:https://www.tvsc.com.au/event/juniors-29/
LOCATION:Tweed Valley Sailing Club\, Boat Park opposite the Sheaok Cafe\, Fingal Road\, Fingal Heads\, NSW\, 2487\, Australia
CATEGORIES:Juniors Sailing
END:VEVENT
BEGIN:VEVENT
DTSTART;TZID=Australia/Sydney:20250810T083000
DTEND;TZID=Australia/Sydney:20250810T110000
DTSTAMP:20260422T041207
CREATED:20250319T084550Z
LAST-MODIFIED:20250319T084550Z
UID:6202-1754814600-1754823600@www.tvsc.com.au
SUMMARY:Juniors
DESCRIPTION:Juniors – Please register beforehand by email.
URL:https://www.tvsc.com.au/event/juniors-30/
LOCATION:Tweed Valley Sailing Club\, Boat Park opposite the Sheaok Cafe\, Fingal Road\, Fingal Heads\, NSW\, 2487\, Australia
CATEGORIES:Juniors Sailing
END:VEVENT
BEGIN:VEVENT
DTSTART;TZID=Australia/Sydney:20250810T130000
DTEND;TZID=Australia/Sydney:20250810T153000
DTSTAMP:20260422T041207
CREATED:20250319T084549Z
LAST-MODIFIED:20250319T084549Z
UID:6201-1754830800-1754839800@www.tvsc.com.au
SUMMARY:Race 15 & 16 Winter Series
DESCRIPTION:Race Briefing at 12pm NSW Time.\nRace start not before 1pm NSW Time.
URL:https://www.tvsc.com.au/event/race-15-16-winter-series/
LOCATION:Tweed Valley Sailing Club\, Boat Park opposite the Sheaok Cafe\, Fingal Road\, Fingal Heads\, NSW\, 2487\, Australia
CATEGORIES:Race
END:VEVENT
BEGIN:VEVENT
DTSTART;TZID=Australia/Sydney:20250817T083000
DTEND;TZID=Australia/Sydney:20250817T110000
DTSTAMP:20260422T041207
CREATED:20250319T084550Z
LAST-MODIFIED:20250319T084550Z
UID:6203-1755419400-1755428400@www.tvsc.com.au
SUMMARY:Juniors
DESCRIPTION:Juniors – Please register beforehand by email.
URL:https://www.tvsc.com.au/event/juniors-31/
LOCATION:Tweed Valley Sailing Club\, Boat Park opposite the Sheaok Cafe\, Fingal Road\, Fingal Heads\, NSW\, 2487\, Australia
CATEGORIES:Juniors Sailing
END:VEVENT
BEGIN:VEVENT
DTSTART;TZID=Australia/Sydney:20250824T083000
DTEND;TZID=Australia/Sydney:20250824T110000
DTSTAMP:20260422T041207
CREATED:20250319T084604Z
LAST-MODIFIED:20250319T084604Z
UID:6205-1756024200-1756033200@www.tvsc.com.au
SUMMARY:Juniors
DESCRIPTION:Juniors – Please register beforehand by email.
URL:https://www.tvsc.com.au/event/juniors-32/
LOCATION:Tweed Valley Sailing Club\, Boat Park opposite the Sheaok Cafe\, Fingal Road\, Fingal Heads\, NSW\, 2487\, Australia
CATEGORIES:Juniors Sailing
END:VEVENT
BEGIN:VEVENT
DTSTART;TZID=Australia/Sydney:20250824T130000
DTEND;TZID=Australia/Sydney:20250824T153000
DTSTAMP:20260422T041207
CREATED:20250319T084551Z
LAST-MODIFIED:20250319T084551Z
UID:6204-1756040400-1756049400@www.tvsc.com.au
SUMMARY:Race 17 & 18 Winter Series
DESCRIPTION:Race Briefing at 12pm NSW Time.\nRace start not before 1pm NSW Time.
URL:https://www.tvsc.com.au/event/race-17-18-winter-series/
LOCATION:Tweed Valley Sailing Club\, Boat Park opposite the Sheaok Cafe\, Fingal Road\, Fingal Heads\, NSW\, 2487\, Australia
CATEGORIES:Race
END:VEVENT
BEGIN:VEVENT
DTSTART;TZID=Australia/Sydney:20250831T083000
DTEND;TZID=Australia/Sydney:20250831T110000
DTSTAMP:20260422T041207
CREATED:20250319T084604Z
LAST-MODIFIED:20250319T084604Z
UID:6206-1756629000-1756638000@www.tvsc.com.au
SUMMARY:Juniors
DESCRIPTION:Juniors – Please register beforehand by email.
URL:https://www.tvsc.com.au/event/juniors-33/
LOCATION:Tweed Valley Sailing Club\, Boat Park opposite the Sheaok Cafe\, Fingal Road\, Fingal Heads\, NSW\, 2487\, Australia
CATEGORIES:Juniors Sailing
END:VEVENT
END:VCALENDAR