BEGIN:VCALENDAR
VERSION:2.0
PRODID:-//Tweed Valley Sailing Club - ECPv6.15.17//NONSGML v1.0//EN
CALSCALE:GREGORIAN
METHOD:PUBLISH
X-WR-CALNAME:Tweed Valley Sailing Club
X-ORIGINAL-URL:https://www.tvsc.com.au
X-WR-CALDESC:Events for Tweed Valley Sailing Club
REFRESH-INTERVAL;VALUE=DURATION:PT1H
X-Robots-Tag:noindex
X-PUBLISHED-TTL:PT1H
BEGIN:VTIMEZONE
TZID:Australia/Sydney
BEGIN:STANDARD
TZOFFSETFROM:+1100
TZOFFSETTO:+1000
TZNAME:AEST
DTSTART:20240406T160000
END:STANDARD
BEGIN:DAYLIGHT
TZOFFSETFROM:+1000
TZOFFSETTO:+1100
TZNAME:AEDT
DTSTART:20241005T160000
END:DAYLIGHT
BEGIN:STANDARD
TZOFFSETFROM:+1100
TZOFFSETTO:+1000
TZNAME:AEST
DTSTART:20250405T160000
END:STANDARD
BEGIN:DAYLIGHT
TZOFFSETFROM:+1000
TZOFFSETTO:+1100
TZNAME:AEDT
DTSTART:20251004T160000
END:DAYLIGHT
BEGIN:STANDARD
TZOFFSETFROM:+1100
TZOFFSETTO:+1000
TZNAME:AEST
DTSTART:20260404T160000
END:STANDARD
BEGIN:DAYLIGHT
TZOFFSETFROM:+1000
TZOFFSETTO:+1100
TZNAME:AEDT
DTSTART:20261003T160000
END:DAYLIGHT
END:VTIMEZONE
BEGIN:VEVENT
DTSTART;TZID=Australia/Sydney:20251005T083000
DTEND;TZID=Australia/Sydney:20251005T110000
DTSTAMP:20260422T013651
CREATED:20250915T101632Z
LAST-MODIFIED:20250915T101632Z
UID:6347-1759653000-1759662000@www.tvsc.com.au
SUMMARY:Juniors
DESCRIPTION:Juniors – Please register beforehand by email
URL:https://www.tvsc.com.au/event/juniors-38/
LOCATION:Tweed Valley Sailing Club\, Boat Park opposite the Sheaok Cafe\, Fingal Road\, Fingal Heads\, NSW\, 2487\, Australia
CATEGORIES:Juniors Sailing
END:VEVENT
BEGIN:VEVENT
DTSTART;TZID=Australia/Sydney:20251012T083000
DTEND;TZID=Australia/Sydney:20251012T110000
DTSTAMP:20260422T013651
CREATED:20250915T101633Z
LAST-MODIFIED:20250915T101633Z
UID:6349-1760257800-1760266800@www.tvsc.com.au
SUMMARY:Juniors
DESCRIPTION:Juniors – Please register beforehand by email
URL:https://www.tvsc.com.au/event/juniors-39/
LOCATION:Tweed Valley Sailing Club\, Boat Park opposite the Sheaok Cafe\, Fingal Road\, Fingal Heads\, NSW\, 2487\, Australia
CATEGORIES:Juniors Sailing
END:VEVENT
BEGIN:VEVENT
DTSTART;TZID=Australia/Sydney:20251012T130000
DTEND;TZID=Australia/Sydney:20251012T153000
DTSTAMP:20260422T013651
CREATED:20250915T101633Z
LAST-MODIFIED:20250915T101633Z
UID:6348-1760274000-1760283000@www.tvsc.com.au
SUMMARY:Race 3 & 4
DESCRIPTION:Race Briefing at 12pm NSW Time.\nRace start not before 1pm NSW Time.
URL:https://www.tvsc.com.au/event/race-3-4/
LOCATION:Tweed Valley Sailing Club\, Boat Park opposite the Sheaok Cafe\, Fingal Road\, Fingal Heads\, NSW\, 2487\, Australia
CATEGORIES:Race
END:VEVENT
BEGIN:VEVENT
DTSTART;TZID=Australia/Sydney:20251018T083000
DTEND;TZID=Australia/Sydney:20251019T110000
DTSTAMP:20260422T013651
CREATED:20250915T101635Z
LAST-MODIFIED:20251010T032047Z
UID:6351-1760776200-1760871600@www.tvsc.com.au
SUMMARY:(Away Event) - Single handed open BRSC
DESCRIPTION:Single handed open BRSC
URL:https://www.tvsc.com.au/event/regatta/
LOCATION:NSW
END:VEVENT
BEGIN:VEVENT
DTSTART;TZID=Australia/Sydney:20251019T083000
DTEND;TZID=Australia/Sydney:20251019T110000
DTSTAMP:20260422T013651
CREATED:20250915T101635Z
LAST-MODIFIED:20250915T101635Z
UID:6350-1760862600-1760871600@www.tvsc.com.au
SUMMARY:Juniors
DESCRIPTION:Juniors – Please register beforehand by email
URL:https://www.tvsc.com.au/event/juniors-40/
LOCATION:Tweed Valley Sailing Club\, Boat Park opposite the Sheaok Cafe\, Fingal Road\, Fingal Heads\, NSW\, 2487\, Australia
CATEGORIES:Juniors Sailing
END:VEVENT
BEGIN:VEVENT
DTSTART;TZID=Australia/Sydney:20251026T083000
DTEND;TZID=Australia/Sydney:20251026T110000
DTSTAMP:20260422T013651
CREATED:20250915T101636Z
LAST-MODIFIED:20250915T101636Z
UID:6353-1761467400-1761476400@www.tvsc.com.au
SUMMARY:Juniors
DESCRIPTION:Juniors – Please register beforehand by email
URL:https://www.tvsc.com.au/event/juniors-41/
LOCATION:Tweed Valley Sailing Club\, Boat Park opposite the Sheaok Cafe\, Fingal Road\, Fingal Heads\, NSW\, 2487\, Australia
CATEGORIES:Juniors Sailing
END:VEVENT
BEGIN:VEVENT
DTSTART;TZID=Australia/Sydney:20251026T130000
DTEND;TZID=Australia/Sydney:20251026T153000
DTSTAMP:20260422T013651
CREATED:20250915T101636Z
LAST-MODIFIED:20250915T101636Z
UID:6352-1761483600-1761492600@www.tvsc.com.au
SUMMARY:Race 5 & 6
DESCRIPTION:Race Briefing at 12pm NSW Time.\nRace start not before 1pm NSW Time.
URL:https://www.tvsc.com.au/event/race-5-6/
LOCATION:Tweed Valley Sailing Club\, Boat Park opposite the Sheaok Cafe\, Fingal Road\, Fingal Heads\, NSW\, 2487\, Australia
CATEGORIES:Race
END:VEVENT
END:VCALENDAR