BEGIN:VCALENDAR
VERSION:2.0
PRODID:-//Tweed Valley Sailing Club - ECPv6.15.17//NONSGML v1.0//EN
CALSCALE:GREGORIAN
METHOD:PUBLISH
X-WR-CALNAME:Tweed Valley Sailing Club
X-ORIGINAL-URL:https://www.tvsc.com.au
X-WR-CALDESC:Events for Tweed Valley Sailing Club
REFRESH-INTERVAL;VALUE=DURATION:PT1H
X-Robots-Tag:noindex
X-PUBLISHED-TTL:PT1H
BEGIN:VTIMEZONE
TZID:Australia/Sydney
BEGIN:STANDARD
TZOFFSETFROM:+1100
TZOFFSETTO:+1000
TZNAME:AEST
DTSTART:20250405T160000
END:STANDARD
BEGIN:DAYLIGHT
TZOFFSETFROM:+1000
TZOFFSETTO:+1100
TZNAME:AEDT
DTSTART:20251004T160000
END:DAYLIGHT
BEGIN:STANDARD
TZOFFSETFROM:+1100
TZOFFSETTO:+1000
TZNAME:AEST
DTSTART:20260404T160000
END:STANDARD
BEGIN:DAYLIGHT
TZOFFSETFROM:+1000
TZOFFSETTO:+1100
TZNAME:AEDT
DTSTART:20261003T160000
END:DAYLIGHT
BEGIN:STANDARD
TZOFFSETFROM:+1100
TZOFFSETTO:+1000
TZNAME:AEST
DTSTART:20270403T160000
END:STANDARD
BEGIN:DAYLIGHT
TZOFFSETFROM:+1000
TZOFFSETTO:+1100
TZNAME:AEDT
DTSTART:20271002T160000
END:DAYLIGHT
END:VTIMEZONE
BEGIN:VEVENT
DTSTART;TZID=Australia/Sydney:20260101T083000
DTEND;TZID=Australia/Sydney:20260101T110000
DTSTAMP:20260421T211942
CREATED:20250915T101736Z
LAST-MODIFIED:20251124T205237Z
UID:6371-1767256200-1767265200@www.tvsc.com.au
SUMMARY:Juniors - NO SAILING - Juniors commences 11 January 2026
DESCRIPTION:Juniors – Please register beforehand by email
URL:https://www.tvsc.com.au/event/juniors-52/
LOCATION:Tweed Valley Sailing Club\, Boat Park opposite the Sheaok Cafe\, Fingal Road\, Fingal Heads\, NSW\, 2487\, Australia
CATEGORIES:Juniors Sailing
END:VEVENT
BEGIN:VEVENT
DTSTART;TZID=Australia/Sydney:20260111T083000
DTEND;TZID=Australia/Sydney:20260111T110000
DTSTAMP:20260421T211942
CREATED:20250915T101722Z
LAST-MODIFIED:20250915T101722Z
UID:6368-1768120200-1768129200@www.tvsc.com.au
SUMMARY:Juniors
DESCRIPTION:Juniors – Please register beforehand by email
URL:https://www.tvsc.com.au/event/juniors-49/
LOCATION:Tweed Valley Sailing Club\, Boat Park opposite the Sheaok Cafe\, Fingal Road\, Fingal Heads\, NSW\, 2487\, Australia
CATEGORIES:Juniors Sailing
END:VEVENT
BEGIN:VEVENT
DTSTART;TZID=Australia/Sydney:20260111T130000
DTEND;TZID=Australia/Sydney:20260111T153000
DTSTAMP:20260421T211942
CREATED:20250915T101722Z
LAST-MODIFIED:20250915T101722Z
UID:6367-1768136400-1768145400@www.tvsc.com.au
SUMMARY:Race 13 & 14
DESCRIPTION:Race Briefing at 12pm NSW Time.\nRace start not before 1pm NSW Time.
URL:https://www.tvsc.com.au/event/race-13-14/
LOCATION:Tweed Valley Sailing Club\, Boat Park opposite the Sheaok Cafe\, Fingal Road\, Fingal Heads\, NSW\, 2487\, Australia
CATEGORIES:Race
END:VEVENT
BEGIN:VEVENT
DTSTART;TZID=Australia/Sydney:20260118T083000
DTEND;TZID=Australia/Sydney:20260118T110000
DTSTAMP:20260421T211942
CREATED:20250915T101723Z
LAST-MODIFIED:20250915T101723Z
UID:6369-1768725000-1768734000@www.tvsc.com.au
SUMMARY:Juniors
DESCRIPTION:Juniors – Please register beforehand by email
URL:https://www.tvsc.com.au/event/juniors-50/
LOCATION:Tweed Valley Sailing Club\, Boat Park opposite the Sheaok Cafe\, Fingal Road\, Fingal Heads\, NSW\, 2487\, Australia
CATEGORIES:Juniors Sailing
END:VEVENT
BEGIN:VEVENT
DTSTART;TZID=Australia/Sydney:20260125T083000
DTEND;TZID=Australia/Sydney:20260125T110000
DTSTAMP:20260421T211942
CREATED:20250915T101736Z
LAST-MODIFIED:20250915T101736Z
UID:6370-1769329800-1769338800@www.tvsc.com.au
SUMMARY:Juniors
DESCRIPTION:Juniors – Please register beforehand by email
URL:https://www.tvsc.com.au/event/juniors-51/
LOCATION:Tweed Valley Sailing Club\, Boat Park opposite the Sheaok Cafe\, Fingal Road\, Fingal Heads\, NSW\, 2487\, Australia
CATEGORIES:Juniors Sailing
END:VEVENT
END:VCALENDAR