BEGIN:VCALENDAR
VERSION:2.0
PRODID:-//Tweed Valley Sailing Club - ECPv6.15.17//NONSGML v1.0//EN
CALSCALE:GREGORIAN
METHOD:PUBLISH
X-WR-CALNAME:Tweed Valley Sailing Club
X-ORIGINAL-URL:https://www.tvsc.com.au
X-WR-CALDESC:Events for Tweed Valley Sailing Club
REFRESH-INTERVAL;VALUE=DURATION:PT1H
X-Robots-Tag:noindex
X-PUBLISHED-TTL:PT1H
BEGIN:VTIMEZONE
TZID:Australia/Sydney
BEGIN:STANDARD
TZOFFSETFROM:+1100
TZOFFSETTO:+1000
TZNAME:AEST
DTSTART:20250405T160000
END:STANDARD
BEGIN:DAYLIGHT
TZOFFSETFROM:+1000
TZOFFSETTO:+1100
TZNAME:AEDT
DTSTART:20251004T160000
END:DAYLIGHT
BEGIN:STANDARD
TZOFFSETFROM:+1100
TZOFFSETTO:+1000
TZNAME:AEST
DTSTART:20260404T160000
END:STANDARD
BEGIN:DAYLIGHT
TZOFFSETFROM:+1000
TZOFFSETTO:+1100
TZNAME:AEDT
DTSTART:20261003T160000
END:DAYLIGHT
BEGIN:STANDARD
TZOFFSETFROM:+1100
TZOFFSETTO:+1000
TZNAME:AEST
DTSTART:20270403T160000
END:STANDARD
BEGIN:DAYLIGHT
TZOFFSETFROM:+1000
TZOFFSETTO:+1100
TZNAME:AEDT
DTSTART:20271002T160000
END:DAYLIGHT
END:VTIMEZONE
BEGIN:VEVENT
DTSTART;TZID=Australia/Sydney:20260201T083000
DTEND;TZID=Australia/Sydney:20260201T110000
DTSTAMP:20260421T200630
CREATED:20260128T062731Z
LAST-MODIFIED:20260131T100404Z
UID:6472-1769934600-1769943600@www.tvsc.com.au
SUMMARY:Juniors
DESCRIPTION:Juniors – Please register beforehand by email
URL:https://www.tvsc.com.au/event/juniors-63/
LOCATION:Tweed Valley Sailing Club\, Boat Park opposite the Sheaok Cafe\, Fingal Road\, Fingal Heads\, NSW\, 2487\, Australia
CATEGORIES:Juniors Sailing
END:VEVENT
BEGIN:VEVENT
DTSTART;TZID=Australia/Sydney:20260208T083000
DTEND;TZID=Australia/Sydney:20260208T110000
DTSTAMP:20260421T200630
CREATED:20250915T101737Z
LAST-MODIFIED:20250915T101737Z
UID:6373-1770539400-1770548400@www.tvsc.com.au
SUMMARY:Juniors
DESCRIPTION:Juniors – Please register beforehand by email
URL:https://www.tvsc.com.au/event/juniors-53/
LOCATION:Tweed Valley Sailing Club\, Boat Park opposite the Sheaok Cafe\, Fingal Road\, Fingal Heads\, NSW\, 2487\, Australia
CATEGORIES:Juniors Sailing
END:VEVENT
BEGIN:VEVENT
DTSTART;TZID=Australia/Sydney:20260208T130000
DTEND;TZID=Australia/Sydney:20260208T153000
DTSTAMP:20260421T200630
CREATED:20250915T101737Z
LAST-MODIFIED:20250915T101737Z
UID:6372-1770555600-1770564600@www.tvsc.com.au
SUMMARY:Race 15 & 16
DESCRIPTION:Race Briefing at 12pm NSW Time.\nRace start not before 1pm NSW Time.
URL:https://www.tvsc.com.au/event/race-15-16/
LOCATION:Tweed Valley Sailing Club\, Boat Park opposite the Sheaok Cafe\, Fingal Road\, Fingal Heads\, NSW\, 2487\, Australia
CATEGORIES:Race
END:VEVENT
BEGIN:VEVENT
DTSTART;TZID=Australia/Sydney:20260215T083000
DTEND;TZID=Australia/Sydney:20260215T110000
DTSTAMP:20260421T200630
CREATED:20250915T101738Z
LAST-MODIFIED:20250915T101738Z
UID:6374-1771144200-1771153200@www.tvsc.com.au
SUMMARY:Juniors
DESCRIPTION:Juniors – Please register beforehand by email
URL:https://www.tvsc.com.au/event/juniors-54/
LOCATION:Tweed Valley Sailing Club\, Boat Park opposite the Sheaok Cafe\, Fingal Road\, Fingal Heads\, NSW\, 2487\, Australia
CATEGORIES:Juniors Sailing
END:VEVENT
BEGIN:VEVENT
DTSTART;TZID=Australia/Sydney:20260222T083000
DTEND;TZID=Australia/Sydney:20260222T110000
DTSTAMP:20260421T200630
CREATED:20250915T101751Z
LAST-MODIFIED:20250915T101751Z
UID:6376-1771749000-1771758000@www.tvsc.com.au
SUMMARY:Juniors
DESCRIPTION:Juniors – Please register beforehand by email
URL:https://www.tvsc.com.au/event/juniors-55/
LOCATION:Tweed Valley Sailing Club\, Boat Park opposite the Sheaok Cafe\, Fingal Road\, Fingal Heads\, NSW\, 2487\, Australia
CATEGORIES:Juniors Sailing
END:VEVENT
BEGIN:VEVENT
DTSTART;TZID=Australia/Sydney:20260222T130000
DTEND;TZID=Australia/Sydney:20260222T153000
DTSTAMP:20260421T200630
CREATED:20250915T101751Z
LAST-MODIFIED:20250915T101751Z
UID:6375-1771765200-1771774200@www.tvsc.com.au
SUMMARY:Race 17 & 18
DESCRIPTION:Race Briefing at 12pm NSW Time.\nRace start not before 1pm NSW Time.
URL:https://www.tvsc.com.au/event/race-17-18/
LOCATION:Tweed Valley Sailing Club\, Boat Park opposite the Sheaok Cafe\, Fingal Road\, Fingal Heads\, NSW\, 2487\, Australia
CATEGORIES:Race
END:VEVENT
BEGIN:VEVENT
DTSTART;TZID=Australia/Sydney:20260228T083000
DTEND;TZID=Australia/Sydney:20260301T110000
DTSTAMP:20260421T200630
CREATED:20250915T101753Z
LAST-MODIFIED:20250915T102433Z
UID:6379-1772267400-1772362800@www.tvsc.com.au
SUMMARY:(Away Event) - BRSC - Annual Regatta
DESCRIPTION:
URL:https://www.tvsc.com.au/event/regatta-5/
LOCATION:NSW
END:VEVENT
END:VCALENDAR